BEGIN:VCALENDAR
VERSION:2.0
PRODID:-//CioCheVale APS - ECPv6.15.20//NONSGML v1.0//EN
CALSCALE:GREGORIAN
METHOD:PUBLISH
X-WR-CALNAME:CioCheVale APS
X-ORIGINAL-URL:https://www.ciochevale.it
X-WR-CALDESC:Eventi per CioCheVale APS
REFRESH-INTERVAL;VALUE=DURATION:PT1H
X-Robots-Tag:noindex
X-PUBLISHED-TTL:PT1H
BEGIN:VTIMEZONE
TZID:Europe/Paris
BEGIN:DAYLIGHT
TZOFFSETFROM:+0100
TZOFFSETTO:+0200
TZNAME:CEST
DTSTART:20240331T010000
END:DAYLIGHT
BEGIN:STANDARD
TZOFFSETFROM:+0200
TZOFFSETTO:+0100
TZNAME:CET
DTSTART:20241027T010000
END:STANDARD
BEGIN:DAYLIGHT
TZOFFSETFROM:+0100
TZOFFSETTO:+0200
TZNAME:CEST
DTSTART:20250330T010000
END:DAYLIGHT
BEGIN:STANDARD
TZOFFSETFROM:+0200
TZOFFSETTO:+0100
TZNAME:CET
DTSTART:20251026T010000
END:STANDARD
BEGIN:DAYLIGHT
TZOFFSETFROM:+0100
TZOFFSETTO:+0200
TZNAME:CEST
DTSTART:20260329T010000
END:DAYLIGHT
BEGIN:STANDARD
TZOFFSETFROM:+0200
TZOFFSETTO:+0100
TZNAME:CET
DTSTART:20261025T010000
END:STANDARD
END:VTIMEZONE
BEGIN:VEVENT
DTSTART;TZID=Europe/Paris:20250401T170000
DTEND;TZID=Europe/Paris:20250401T190000
DTSTAMP:20260419T194624
CREATED:20250105T161837Z
LAST-MODIFIED:20250105T161837Z
UID:6040-1743526800-1743534000@www.ciochevale.it
SUMMARY:Consegna Panieri Comunità di Supporto all’Agricoltura
DESCRIPTION:
URL:https://www.ciochevale.it/evento/consegna-panieri-comunita-di-supporto-allagricoltura-27/
LOCATION:Garden Le Serre\, via Bogino 14a\, Chieri\, Italia
CATEGORIES:CioCheMangio
ATTACH;FMTTYPE=image/jpeg:https://www.ciochevale.it/wp-content/uploads/2023/09/Logo-CioCheMangio.jpeg
ORGANIZER;CN="Associazione CioCheVale":MAILTO:associazione.ciochevale@gmail.com
END:VEVENT
BEGIN:VEVENT
DTSTART;TZID=Europe/Paris:20250403T203000
DTEND;TZID=Europe/Paris:20250403T220000
DTSTAMP:20260419T194624
CREATED:20250222T074549Z
LAST-MODIFIED:20250222T074727Z
UID:6107-1743712200-1743717600@www.ciochevale.it
SUMMARY:CineFocus proiezione del Docufilm Rinascere nella Terra con la presenza del Regista Raul Alvarez
DESCRIPTION:
URL:https://www.ciochevale.it/evento/cinefocus-proiezione-del-docufilm-rinascere-nella-terra/
LOCATION:Cinema Splendor\, via XX Settembre 6\, Chieri
CATEGORIES:CioCheMangio,Eventi,Pistaaa
ATTACH;FMTTYPE=image/jpeg:https://www.ciochevale.it/wp-content/uploads/2025/02/rinascere-nella-terras-immagine.jpeg
ORGANIZER;CN="Associazione CioCheVale":MAILTO:associazione.ciochevale@gmail.com
END:VEVENT
BEGIN:VEVENT
DTSTART;TZID=Europe/Paris:20250408T170000
DTEND;TZID=Europe/Paris:20250408T190000
DTSTAMP:20260419T194624
CREATED:20250105T162006Z
LAST-MODIFIED:20250105T162015Z
UID:6042-1744131600-1744138800@www.ciochevale.it
SUMMARY:Consegna Panieri Comunità di Supporto all’Agricoltura
DESCRIPTION:
URL:https://www.ciochevale.it/evento/consegna-panieri-comunita-di-supporto-allagricoltura-28/
LOCATION:Garden Le Serre\, via Bogino 14a\, Chieri\, Italia
CATEGORIES:CioCheMangio
ATTACH;FMTTYPE=image/jpeg:https://www.ciochevale.it/wp-content/uploads/2023/09/Logo-CioCheMangio.jpeg
ORGANIZER;CN="Associazione CioCheVale":MAILTO:associazione.ciochevale@gmail.com
END:VEVENT
BEGIN:VEVENT
DTSTART;TZID=Europe/Paris:20250409T140000
DTEND;TZID=Europe/Paris:20250409T180000
DTSTAMP:20260419T194624
CREATED:20250105T150048Z
LAST-MODIFIED:20250105T150950Z
UID:5993-1744207200-1744221600@www.ciochevale.it
SUMMARY:Congresso E'Vento Turismo
DESCRIPTION:
URL:https://www.ciochevale.it/evento/congresso-evento-turismo/
LOCATION:Grattacielo Regione Piemonte Sala Trasparenza\, piazza Piemonte 1\, Torino\, Italy
CATEGORIES:Conferenza,Pistaaa
ATTACH;FMTTYPE=image/jpeg:https://www.ciochevale.it/wp-content/uploads/2025/01/E-Vento-Turismo.jpeg
END:VEVENT
BEGIN:VEVENT
DTSTART;TZID=Europe/Paris:20250412T093000
DTEND;TZID=Europe/Paris:20250413T173000
DTSTAMP:20260419T194624
CREATED:20250115T205041Z
LAST-MODIFIED:20250115T205352Z
UID:6074-1744450200-1744565400@www.ciochevale.it
SUMMARY:Festival del cicloturismo in Piemonte 2025
DESCRIPTION:
URL:https://www.ciochevale.it/evento/festival-del-cicloturismo-in-piemonte-2025/
LOCATION:Cascina Le Vallere\, Moncalieri
CATEGORIES:Eventi,Pistaaa
ATTACH;FMTTYPE=image/jpeg:https://www.ciochevale.it/wp-content/uploads/2025/01/Festival-cicloturismo-2025.jpeg
ORGANIZER;CN="Torino Bike Esperience":MAILTO:info@bikepiemonte.it
END:VEVENT
BEGIN:VEVENT
DTSTART;TZID=Europe/Paris:20250413T090000
DTEND;TZID=Europe/Paris:20250413T170000
DTSTAMP:20260419T194624
CREATED:20250105T103818Z
LAST-MODIFIED:20250228T213525Z
UID:5959-1744534800-1744563600@www.ciochevale.it
SUMMARY:Festa Ambiente Cascina Lai ANNULLATA
DESCRIPTION:
URL:https://www.ciochevale.it/evento/festa-ambiente-cascina-lai/
LOCATION:Cascina LAI\, via Luserna 7\, Santena\, Italy
CATEGORIES:Biciclettata,Cibo, Comunità e Salute,CioCheMangio,Conferenza,Eventi,Picchioverde,PicchioVerde,PicchioVerde,Pistaaa
ATTACH;FMTTYPE=image/jpeg:https://www.ciochevale.it/wp-content/uploads/2025/01/cascina_lai.jpg
END:VEVENT
BEGIN:VEVENT
DTSTART;TZID=Europe/Paris:20250415T170000
DTEND;TZID=Europe/Paris:20250415T190000
DTSTAMP:20260419T194624
CREATED:20250105T162152Z
LAST-MODIFIED:20250105T162152Z
UID:6044-1744736400-1744743600@www.ciochevale.it
SUMMARY:Consegna Panieri Comunità di Supporto all’Agricoltura
DESCRIPTION:
URL:https://www.ciochevale.it/evento/consegna-panieri-comunita-di-supporto-allagricoltura-29/
LOCATION:Garden Le Serre\, via Bogino 14a\, Chieri\, Italia
CATEGORIES:CioCheMangio
ATTACH;FMTTYPE=image/jpeg:https://www.ciochevale.it/wp-content/uploads/2023/09/Logo-CioCheMangio.jpeg
ORGANIZER;CN="Associazione CioCheVale":MAILTO:associazione.ciochevale@gmail.com
END:VEVENT
BEGIN:VEVENT
DTSTART;TZID=Europe/Paris:20250422T090000
DTEND;TZID=Europe/Paris:20250422T123000
DTSTAMP:20260419T194624
CREATED:20250105T164817Z
LAST-MODIFIED:20250105T164817Z
UID:6064-1745312400-1745325000@www.ciochevale.it
SUMMARY:Preparazione Panieri CioCheMangio ai dipendenti di BIGMAT De Tommasi – Comunità di Supporto all’Agricoltura
DESCRIPTION:
URL:https://www.ciochevale.it/evento/preparazione-panieri-ciochemangio-ai-dipendenti-di-bigmat-de-tommasi-comunita-di-supporto-allagricoltura-10/
LOCATION:Garden Le Serre\, via Bogino 14a\, Chieri\, Italia
CATEGORIES:CioCheMangio
ATTACH;FMTTYPE=image/jpeg:https://www.ciochevale.it/wp-content/uploads/2023/09/Logo-CioCheMangio.jpeg
ORGANIZER;CN="Associazione CioCheVale":MAILTO:associazione.ciochevale@gmail.com
END:VEVENT
END:VCALENDAR