BEGIN:VCALENDAR
VERSION:2.0
PRODID:-//CioCheVale APS - ECPv6.15.20//NONSGML v1.0//EN
CALSCALE:GREGORIAN
METHOD:PUBLISH
X-WR-CALNAME:CioCheVale APS
X-ORIGINAL-URL:https://www.ciochevale.it
X-WR-CALDESC:Eventi per CioCheVale APS
REFRESH-INTERVAL;VALUE=DURATION:PT1H
X-Robots-Tag:noindex
X-PUBLISHED-TTL:PT1H
BEGIN:VTIMEZONE
TZID:Europe/Paris
BEGIN:DAYLIGHT
TZOFFSETFROM:+0100
TZOFFSETTO:+0200
TZNAME:CEST
DTSTART:20240331T010000
END:DAYLIGHT
BEGIN:STANDARD
TZOFFSETFROM:+0200
TZOFFSETTO:+0100
TZNAME:CET
DTSTART:20241027T010000
END:STANDARD
BEGIN:DAYLIGHT
TZOFFSETFROM:+0100
TZOFFSETTO:+0200
TZNAME:CEST
DTSTART:20250330T010000
END:DAYLIGHT
BEGIN:STANDARD
TZOFFSETFROM:+0200
TZOFFSETTO:+0100
TZNAME:CET
DTSTART:20251026T010000
END:STANDARD
BEGIN:DAYLIGHT
TZOFFSETFROM:+0100
TZOFFSETTO:+0200
TZNAME:CEST
DTSTART:20260329T010000
END:DAYLIGHT
BEGIN:STANDARD
TZOFFSETFROM:+0200
TZOFFSETTO:+0100
TZNAME:CET
DTSTART:20261025T010000
END:STANDARD
END:VTIMEZONE
BEGIN:VEVENT
DTSTART;TZID=Europe/Paris:20250201T100000
DTEND;TZID=Europe/Paris:20250201T130000
DTSTAMP:20260419T221128
CREATED:20250105T143553Z
LAST-MODIFIED:20250113T075206Z
UID:5982-1738404000-1738414800@www.ciochevale.it
SUMMARY:Conferenza "Ambiente e Territorio. La salute come progetto pubblico"
DESCRIPTION:Interventi di :\nElena Granata – professoressa del Politecnico di Milano – vice Presidente della scuola di Economia Civile.\nMario Eandi – farmacologo –\nMarkus Johames Krienke – teologo facolta’ di teologia di Lugano\nEmilio Delmastro – Pro- Natura Regione Piemonte\nAlice Ravinale – consigliera regione Piemonte.\nAlberto Guggino intervista Luca Mercalli .\nContributo di Valeria Martano – presidente Associazione V.I.T.A.\nCoordina Andrea Bosco Cohousing Montesole.
URL:https://www.ciochevale.it/evento/conferenza-ambiente-e-territorio-la-salute-come-progetto-pubblico/
LOCATION:Municipio Montaldo torinese\, Montaldo Torinese
CATEGORIES:Conferenza
ATTACH;FMTTYPE=image/jpeg:https://www.ciochevale.it/wp-content/uploads/2025/01/Mercalli-a-Montaldo.jpeg
END:VEVENT
BEGIN:VEVENT
DTSTART;TZID=Europe/Paris:20250204T170000
DTEND;TZID=Europe/Paris:20250204T190000
DTSTAMP:20260419T221128
CREATED:20241026T094654Z
LAST-MODIFIED:20250105T160432Z
UID:5900-1738688400-1738695600@www.ciochevale.it
SUMMARY:Consegna Panieri Comunità di Supporto all’Agricoltura
DESCRIPTION:
URL:https://www.ciochevale.it/evento/consegna-panieri-comunita-di-supporto-allagricoltura-21/
LOCATION:Garden Le Serre\, via Bogino 14a\, Chieri\, Italia
CATEGORIES:Cibo, Comunità e Salute,CioCheMangio
ATTACH;FMTTYPE=image/jpeg:https://www.ciochevale.it/wp-content/uploads/2023/09/Logo-CioCheMangio.jpeg
ORGANIZER;CN="Associazione CioCheVale":MAILTO:associazione.ciochevale@gmail.com
END:VEVENT
BEGIN:VEVENT
DTSTART;TZID=Europe/Paris:20250206T180000
DTEND;TZID=Europe/Paris:20250206T200000
DTSTAMP:20260419T221128
CREATED:20250105T154130Z
LAST-MODIFIED:20250105T155119Z
UID:6010-1738864800-1738872000@www.ciochevale.it
SUMMARY:Tavolo di Lavoro Agro Ambiente 3° Incontro
DESCRIPTION:meet.google.com/xsi-vgpx-qgc
URL:https://www.ciochevale.it/evento/tavolo-di-lavoro-agro-ambiente-3-incontro/
LOCATION:On Line
CATEGORIES:Distretto del Cibo Chierese
ATTACH;FMTTYPE=image/png:https://www.ciochevale.it/wp-content/uploads/2023/11/distretto.png
END:VEVENT
BEGIN:VEVENT
DTSTART;TZID=Europe/Paris:20250211T170000
DTEND;TZID=Europe/Paris:20250211T190000
DTSTAMP:20260419T221128
CREATED:20250105T160636Z
LAST-MODIFIED:20250105T161451Z
UID:6030-1739293200-1739300400@www.ciochevale.it
SUMMARY:Consegna Panieri Comunità di Supporto all’Agricoltura
DESCRIPTION:
URL:https://www.ciochevale.it/evento/consegna-panieri-comunita-di-supporto-allagricoltura-22/
LOCATION:Garden Le Serre\, via Bogino 14a\, Chieri\, Italia
CATEGORIES:CioCheMangio
ATTACH;FMTTYPE=image/jpeg:https://www.ciochevale.it/wp-content/uploads/2023/09/Logo-CioCheMangio.jpeg
ORGANIZER;CN="Associazione CioCheVale":MAILTO:associazione.ciochevale@gmail.com
END:VEVENT
BEGIN:VEVENT
DTSTART;TZID=Europe/Paris:20250220T180000
DTEND;TZID=Europe/Paris:20250220T200000
DTSTAMP:20260419T221128
CREATED:20250105T154331Z
LAST-MODIFIED:20250105T155302Z
UID:6013-1740074400-1740081600@www.ciochevale.it
SUMMARY:Tavolo di Lavoro Agro Ambiente 4° Incontro
DESCRIPTION:meet.google.com/kyz-grsr-vtq
URL:https://www.ciochevale.it/evento/tavolo-di-lavoro-agro-ambiente-4-incontro/
LOCATION:On Line
CATEGORIES:Distretto del Cibo Chierese
ATTACH;FMTTYPE=image/png:https://www.ciochevale.it/wp-content/uploads/2023/11/distretto.png
END:VEVENT
BEGIN:VEVENT
DTSTART;TZID=Europe/Paris:20250225T170000
DTEND;TZID=Europe/Paris:20250225T190000
DTSTAMP:20260419T221128
CREATED:20250105T160907Z
LAST-MODIFIED:20250105T161123Z
UID:6032-1740502800-1740510000@www.ciochevale.it
SUMMARY:Consegna Panieri Comunità di Supporto all’Agricoltura
DESCRIPTION:
URL:https://www.ciochevale.it/evento/consegna-panieri-comunita-di-supporto-allagricoltura-23/
LOCATION:Garden Le Serre\, via Bogino 14a\, Chieri\, Italia
CATEGORIES:CioCheMangio
ATTACH;FMTTYPE=image/jpeg:https://www.ciochevale.it/wp-content/uploads/2023/09/Logo-CioCheMangio.jpeg
ORGANIZER;CN="Associazione CioCheVale":MAILTO:associazione.ciochevale@gmail.com
END:VEVENT
END:VCALENDAR