BEGIN:VCALENDAR
VERSION:2.0
PRODID:-//CioCheVale APS - ECPv6.15.20//NONSGML v1.0//EN
CALSCALE:GREGORIAN
METHOD:PUBLISH
X-ORIGINAL-URL:https://www.ciochevale.it
X-WR-CALDESC:Eventi per CioCheVale APS
REFRESH-INTERVAL;VALUE=DURATION:PT1H
X-Robots-Tag:noindex
X-PUBLISHED-TTL:PT1H
BEGIN:VTIMEZONE
TZID:Europe/Paris
BEGIN:DAYLIGHT
TZOFFSETFROM:+0100
TZOFFSETTO:+0200
TZNAME:CEST
DTSTART:20230326T010000
END:DAYLIGHT
BEGIN:STANDARD
TZOFFSETFROM:+0200
TZOFFSETTO:+0100
TZNAME:CET
DTSTART:20231029T010000
END:STANDARD
BEGIN:DAYLIGHT
TZOFFSETFROM:+0100
TZOFFSETTO:+0200
TZNAME:CEST
DTSTART:20240331T010000
END:DAYLIGHT
BEGIN:STANDARD
TZOFFSETFROM:+0200
TZOFFSETTO:+0100
TZNAME:CET
DTSTART:20241027T010000
END:STANDARD
BEGIN:DAYLIGHT
TZOFFSETFROM:+0100
TZOFFSETTO:+0200
TZNAME:CEST
DTSTART:20250330T010000
END:DAYLIGHT
BEGIN:STANDARD
TZOFFSETFROM:+0200
TZOFFSETTO:+0100
TZNAME:CET
DTSTART:20251026T010000
END:STANDARD
END:VTIMEZONE
BEGIN:VEVENT
DTSTART;TZID=Europe/Paris:20241130T140000
DTEND;TZID=Europe/Paris:20241201T200000
DTSTAMP:20260420T005929
CREATED:20241122T113257Z
LAST-MODIFIED:20250105T145455Z
UID:5936-1732975200-1733083200@www.ciochevale.it
SUMMARY:Riunione della Rete delle CSA Comunità di Supporto Italiane a Marghera
DESCRIPTION:
URL:https://www.ciochevale.it/evento/riunione-della-rete-delle-csa-comunita-di-supporto-italiane-a-marghera/
ATTACH;FMTTYPE=image/jpeg:https://www.ciochevale.it/wp-content/uploads/2023/09/Logo-CioCheMangio.jpeg
END:VEVENT
BEGIN:VEVENT
DTSTART;TZID=Europe/Paris:20241203T143000
DTEND;TZID=Europe/Paris:20241203T170000
DTSTAMP:20260420T005929
CREATED:20250105T151556Z
LAST-MODIFIED:20250105T152358Z
UID:5999-1733236200-1733245200@www.ciochevale.it
SUMMARY:Riunione Gruppo di Lavoro Percorsi per Persone con Mobilità Ridotta
DESCRIPTION:
URL:https://www.ciochevale.it/evento/riunione-gruppo-di-lavoro-percorsi-per-persone-con-mobilita-ridotta/
LOCATION:Amici di Via\, via Compayre\, Cambiano\, Italy
CATEGORIES:Riunione
ATTACH;FMTTYPE=image/jpeg:https://www.ciochevale.it/wp-content/uploads/2022/02/pistaaa-1.jpg
END:VEVENT
BEGIN:VEVENT
DTSTART;TZID=Europe/Paris:20241203T170000
DTEND;TZID=Europe/Paris:20241203T190000
DTSTAMP:20260420T005929
CREATED:20240722T040043Z
LAST-MODIFIED:20240722T232636Z
UID:5719-1733245200-1733252400@www.ciochevale.it
SUMMARY:Consegna Panieri Comunità di Supporto all’Agricoltura
DESCRIPTION:
URL:https://www.ciochevale.it/evento/consegna-panieri-comunita-di-supporto-allagricoltura-15/
LOCATION:Garden Le Serre\, via Bogino 14a\, Chieri\, Italia
CATEGORIES:Cibo, Comunità e Salute,CioCheMangio
ATTACH;FMTTYPE=image/jpeg:https://www.ciochevale.it/wp-content/uploads/2023/09/Logo-CioCheMangio.jpeg
ORGANIZER;CN="Associazione CioCheVale":MAILTO:associazione.ciochevale@gmail.com
END:VEVENT
BEGIN:VEVENT
DTSTART;TZID=Europe/Paris:20241204T080000
DTEND;TZID=Europe/Paris:20241204T140000
DTSTAMP:20260420T005929
CREATED:20250105T120455Z
LAST-MODIFIED:20250105T120455Z
UID:5978-1733299200-1733320800@www.ciochevale.it
SUMMARY:Posa Cartelli Pistaaa a Pino Torinese 1/3 (GTP10)
DESCRIPTION:
URL:https://www.ciochevale.it/evento/posa-cartelli-pistaaa-a-pino-torinese-1-3-gtp10/
CATEGORIES:Eventi,Pistaaa
ATTACH;FMTTYPE=image/jpeg:https://www.ciochevale.it/wp-content/uploads/2022/02/pistaaa.jpg
END:VEVENT
BEGIN:VEVENT
DTSTART;TZID=Europe/Paris:20241205T170000
DTEND;TZID=Europe/Paris:20241205T193000
DTSTAMP:20260420T005929
CREATED:20250105T115950Z
LAST-MODIFIED:20250105T120153Z
UID:5975-1733418000-1733427000@www.ciochevale.it
SUMMARY:Assemblea Distretto del Cibo Chierese Carmagnolese
DESCRIPTION:
URL:https://www.ciochevale.it/evento/assemblea-distretto-del-cibo-chierese-carmagnolese/
LOCATION:Sala Consigliare Municipio Santena\, Santena
CATEGORIES:CioCheMangio,Pistaaa,Riunione
ATTACH;FMTTYPE=image/png:https://www.ciochevale.it/wp-content/uploads/2023/11/distretto.png
END:VEVENT
BEGIN:VEVENT
DTSTART;TZID=Europe/Paris:20241207T080000
DTEND;TZID=Europe/Paris:20241207T140000
DTSTAMP:20260420T005929
CREATED:20250105T120637Z
LAST-MODIFIED:20250105T142507Z
UID:5980-1733558400-1733580000@www.ciochevale.it
SUMMARY:Posa Cartelli Pistaaa a Pino Torinese 2/3 (GTP10)
DESCRIPTION:
URL:https://www.ciochevale.it/evento/posa-cartelli-pistaaa-a-pino-torinese-2-3-gtp10/
CATEGORIES:Eventi,Pistaaa
ATTACH;FMTTYPE=image/jpeg:https://www.ciochevale.it/wp-content/uploads/2022/02/pistaaa.jpg
END:VEVENT
BEGIN:VEVENT
DTSTART;TZID=Europe/Paris:20241207T093000
DTEND;TZID=Europe/Paris:20241207T180000
DTSTAMP:20260420T005929
CREATED:20241009T144137Z
LAST-MODIFIED:20241009T144312Z
UID:5858-1733563800-1733594400@www.ciochevale.it
SUMMARY:Stand all'Evento "Il Dono del Volontariato" Torino
DESCRIPTION:
URL:https://www.ciochevale.it/evento/stand-allevento-il-dono-del-volontariato-torino/
CATEGORIES:CioCheMangio,Eventi,PicchioVerde,Picchioverde,Pistaaa
ATTACH;FMTTYPE=image/png:https://www.ciochevale.it/wp-content/uploads/2023/03/volto.png
END:VEVENT
BEGIN:VEVENT
DTSTART;TZID=Europe/Paris:20241210T170000
DTEND;TZID=Europe/Paris:20241210T190000
DTSTAMP:20260420T005929
CREATED:20240722T041936Z
LAST-MODIFIED:20240722T232151Z
UID:5721-1733850000-1733857200@www.ciochevale.it
SUMMARY:Consegna Panieri Comunità di Supporto all’Agricoltura
DESCRIPTION:
URL:https://www.ciochevale.it/evento/consegna-panieri-comunita-di-supporto-allagricoltura-16/
LOCATION:Garden Le Serre\, via Bogino 14a\, Chieri\, Italia
CATEGORIES:Cibo, Comunità e Salute,CioCheMangio
ATTACH;FMTTYPE=image/jpeg:https://www.ciochevale.it/wp-content/uploads/2023/09/Logo-CioCheMangio.jpeg
ORGANIZER;CN="Associazione CioCheVale":MAILTO:associazione.ciochevale@gmail.com
END:VEVENT
BEGIN:VEVENT
DTSTART;TZID=Europe/Paris:20241215T100000
DTEND;TZID=Europe/Paris:20241215T170000
DTSTAMP:20260420T005929
CREATED:20240912T075723Z
LAST-MODIFIED:20240912T080448Z
UID:5809-1734256800-1734282000@www.ciochevale.it
SUMMARY:Natale in Centro: Presepe vivente con le associazioni Chieresi
DESCRIPTION:
URL:https://www.ciochevale.it/evento/natale-in-centro-presepe-vivente-con-le-associazioni-chieresi/
LOCATION:via Vittorio\, via vittorio\, Chieri\, Italy
CATEGORIES:Eventi
ATTACH;FMTTYPE=image/png:https://www.ciochevale.it/wp-content/uploads/2024/09/incontrinsieme.png
END:VEVENT
BEGIN:VEVENT
DTSTART;TZID=Europe/Paris:20241217T170000
DTEND;TZID=Europe/Paris:20241217T190000
DTSTAMP:20260420T005929
CREATED:20240722T042237Z
LAST-MODIFIED:20240722T232521Z
UID:5723-1734454800-1734462000@www.ciochevale.it
SUMMARY:Consegna Panieri Comunità di Supporto all’Agricoltura
DESCRIPTION:
URL:https://www.ciochevale.it/evento/consegna-panieri-comunita-di-supporto-allagricoltura-17/
LOCATION:Garden Le Serre\, via Bogino 14a\, Chieri\, Italia
CATEGORIES:Cibo, Comunità e Salute,CioCheMangio
ATTACH;FMTTYPE=image/jpeg:https://www.ciochevale.it/wp-content/uploads/2023/09/Logo-CioCheMangio.jpeg
ORGANIZER;CN="Associazione CioCheVale":MAILTO:associazione.ciochevale@gmail.com
END:VEVENT
BEGIN:VEVENT
DTSTART;TZID=Europe/Paris:20241218T090000
DTEND;TZID=Europe/Paris:20241218T123000
DTSTAMP:20260420T005929
CREATED:20250105T164414Z
LAST-MODIFIED:20250105T164414Z
UID:6060-1734512400-1734525000@www.ciochevale.it
SUMMARY:Preparazione Panieri CioCheMangio ai dipendenti di BIGMAT De Tommasi – Comunità di Supporto all’Agricoltura
DESCRIPTION:
URL:https://www.ciochevale.it/evento/preparazione-panieri-ciochemangio-ai-dipendenti-di-bigmat-de-tommasi-comunita-di-supporto-allagricoltura-8/
LOCATION:Garden Le Serre\, via Bogino 14a\, Chieri\, Italia
CATEGORIES:CioCheMangio
ATTACH;FMTTYPE=image/jpeg:https://www.ciochevale.it/wp-content/uploads/2023/09/Logo-CioCheMangio.jpeg
ORGANIZER;CN="Associazione CioCheVale":MAILTO:associazione.ciochevale@gmail.com
END:VEVENT
BEGIN:VEVENT
DTSTART;TZID=Europe/Paris:20241228T090000
DTEND;TZID=Europe/Paris:20241228T130000
DTSTAMP:20260420T005929
CREATED:20250105T153706Z
LAST-MODIFIED:20250105T153706Z
UID:6003-1735376400-1735390800@www.ciochevale.it
SUMMARY:Conferenza "Affrontare le nuove sfide territoriali"
DESCRIPTION:
URL:https://www.ciochevale.it/evento/conferenza-affrontare-le-nuove-sfide-territoriali/
LOCATION:Environment Park\, via Livorno 60\, Torino\, Italy
CATEGORIES:Pistaaa
ATTACH;FMTTYPE=image/jpeg:https://www.ciochevale.it/wp-content/uploads/2022/02/pistaaa-1.jpg
END:VEVENT
END:VCALENDAR