BEGIN:VCALENDAR
VERSION:2.0
PRODID:-//CioCheVale APS - ECPv6.15.20//NONSGML v1.0//EN
CALSCALE:GREGORIAN
METHOD:PUBLISH
X-WR-CALNAME:CioCheVale APS
X-ORIGINAL-URL:https://www.ciochevale.it
X-WR-CALDESC:Eventi per CioCheVale APS
REFRESH-INTERVAL;VALUE=DURATION:PT1H
X-Robots-Tag:noindex
X-PUBLISHED-TTL:PT1H
BEGIN:VTIMEZONE
TZID:Europe/Paris
BEGIN:DAYLIGHT
TZOFFSETFROM:+0100
TZOFFSETTO:+0200
TZNAME:CEST
DTSTART:20230326T010000
END:DAYLIGHT
BEGIN:STANDARD
TZOFFSETFROM:+0200
TZOFFSETTO:+0100
TZNAME:CET
DTSTART:20231029T010000
END:STANDARD
BEGIN:DAYLIGHT
TZOFFSETFROM:+0100
TZOFFSETTO:+0200
TZNAME:CEST
DTSTART:20240331T010000
END:DAYLIGHT
BEGIN:STANDARD
TZOFFSETFROM:+0200
TZOFFSETTO:+0100
TZNAME:CET
DTSTART:20241027T010000
END:STANDARD
BEGIN:DAYLIGHT
TZOFFSETFROM:+0100
TZOFFSETTO:+0200
TZNAME:CEST
DTSTART:20250330T010000
END:DAYLIGHT
BEGIN:STANDARD
TZOFFSETFROM:+0200
TZOFFSETTO:+0100
TZNAME:CET
DTSTART:20251026T010000
END:STANDARD
END:VTIMEZONE
BEGIN:VEVENT
DTSTART;TZID=Europe/Paris:20241105T170000
DTEND;TZID=Europe/Paris:20241105T190000
DTSTAMP:20260420T021616
CREATED:20240722T034832Z
LAST-MODIFIED:20240722T231809Z
UID:5713-1730826000-1730833200@www.ciochevale.it
SUMMARY:Consegna Panieri Comunità di Supporto all’Agricoltura
DESCRIPTION:
URL:https://www.ciochevale.it/evento/consegna-panieri-comunita-di-supporto-allagricoltura-12/
LOCATION:Garden Le Serre\, via Bogino 14a\, Chieri\, Italia
CATEGORIES:Cibo, Comunità e Salute,CioCheMangio
ATTACH;FMTTYPE=image/jpeg:https://www.ciochevale.it/wp-content/uploads/2023/09/Logo-CioCheMangio.jpeg
ORGANIZER;CN="Associazione CioCheVale":MAILTO:associazione.ciochevale@gmail.com
END:VEVENT
BEGIN:VEVENT
DTSTART;TZID=Europe/Paris:20241105T210000
DTEND;TZID=Europe/Paris:20241105T230000
DTSTAMP:20260420T021616
CREATED:20241104T113642Z
LAST-MODIFIED:20241104T115709Z
UID:5903-1730840400-1730847600@www.ciochevale.it
SUMMARY:Riunione Direttivo FIAB Muoviti Chieri
DESCRIPTION:
URL:https://www.ciochevale.it/evento/riunione-direttivo-fiab-muoviti-chieri/
LOCATION:Sede CioCheVale\, via Marconi 15 Chieri\, Italia
CATEGORIES:Riunione
ATTACH;FMTTYPE=image/png:https://www.ciochevale.it/wp-content/uploads/2023/10/logo-muovitichieri.png
END:VEVENT
BEGIN:VEVENT
DTSTART;TZID=Europe/Paris:20241110T093000
DTEND;TZID=Europe/Paris:20241110T130000
DTSTAMP:20260420T021616
CREATED:20241010T161708Z
LAST-MODIFIED:20241112T144128Z
UID:5886-1731231000-1731243600@www.ciochevale.it
SUMMARY:Pedalate per Fiera di San Martino a Chieri
DESCRIPTION:Pedalata di San Martino con Fiab \n\n\nPedalata alla scoperta dell’Oltre Collina Torinese nei dintorni di Chieri (TO) \n\n 
URL:https://www.ciochevale.it/evento/pedalata-per-fiera-di-san-martino-a-chieri/
CATEGORIES:Biciclettata,Distretto del Cibo Chierese,Pistaaa
END:VEVENT
BEGIN:VEVENT
DTSTART;TZID=Europe/Paris:20241112T170000
DTEND;TZID=Europe/Paris:20241112T190000
DTSTAMP:20260420T021616
CREATED:20240722T035119Z
LAST-MODIFIED:20240722T231857Z
UID:5715-1731430800-1731438000@www.ciochevale.it
SUMMARY:Consegna Panieri Comunità di Supporto all’Agricoltura
DESCRIPTION:
URL:https://www.ciochevale.it/evento/consegna-panieri-comunita-di-supporto-allagricoltura-13/
LOCATION:Garden Le Serre\, via Bogino 14a\, Chieri\, Italia
CATEGORIES:Cibo, Comunità e Salute,CioCheMangio
ATTACH;FMTTYPE=image/jpeg:https://www.ciochevale.it/wp-content/uploads/2023/09/Logo-CioCheMangio.jpeg
ORGANIZER;CN="Associazione CioCheVale":MAILTO:associazione.ciochevale@gmail.com
END:VEVENT
BEGIN:VEVENT
DTSTART;TZID=Europe/Paris:20241113T210000
DTEND;TZID=Europe/Paris:20241113T230000
DTSTAMP:20260420T021616
CREATED:20241109T213428Z
LAST-MODIFIED:20241109T213428Z
UID:5908-1731531600-1731538800@www.ciochevale.it
SUMMARY:Gruppo di Lavoro: MaB UNESCO tra tutela del Paesaggio e della Biodiversità
DESCRIPTION:
URL:https://www.ciochevale.it/evento/gruppo-di-lavoro-mab-unesco-tra-tutela-del-paesaggio-e-della-biodiversita/
LOCATION:Sede CioCheVale\, via Marconi 15 Chieri\, Italia
CATEGORIES:MaB UNESCO,Riunione
ATTACH;FMTTYPE=image/jpeg:https://www.ciochevale.it/wp-content/uploads/2020/02/collinapo_logo.jpg
END:VEVENT
BEGIN:VEVENT
DTSTART;TZID=Europe/Paris:20241115T150000
DTEND;TZID=Europe/Paris:20241115T193000
DTSTAMP:20260420T021616
CREATED:20241112T150007Z
LAST-MODIFIED:20241113T104600Z
UID:5917-1731682800-1731699000@www.ciochevale.it
SUMMARY:Presidio per la PACE a Chieri
DESCRIPTION:
URL:https://www.ciochevale.it/evento/presidio-per-la-pace-a-chieri/
LOCATION:Via Vittorio Chieri
CATEGORIES:Eventi
ATTACH;FMTTYPE=image/jpeg:https://www.ciochevale.it/wp-content/uploads/2024/11/WhatsApp-Image-2024-11-12-at-15.59.29.jpeg
END:VEVENT
BEGIN:VEVENT
DTSTART;TZID=Europe/Paris:20241115T203000
DTEND;TZID=Europe/Paris:20241115T223000
DTSTAMP:20260420T021616
CREATED:20241009T142443Z
LAST-MODIFIED:20241109T213520Z
UID:5853-1731702600-1731709800@www.ciochevale.it
SUMMARY:Assemblea CSA CioCheMangio
DESCRIPTION:
URL:https://www.ciochevale.it/evento/assemblea-csa-ciochemangio/
LOCATION:Garden Le Serre\, via Bogino 14a\, Chieri\, Italia
CATEGORIES:Cibo, Comunità e Salute,CioCheMangio,Riunione
ATTACH;FMTTYPE=image/jpeg:https://www.ciochevale.it/wp-content/uploads/2023/09/Logo-CioCheMangio.jpeg
END:VEVENT
BEGIN:VEVENT
DTSTART;TZID=Europe/Paris:20241116T093000
DTEND;TZID=Europe/Paris:20241116T113000
DTSTAMP:20260420T021616
CREATED:20241112T144926Z
LAST-MODIFIED:20241112T144926Z
UID:5913-1731749400-1731756600@www.ciochevale.it
SUMMARY:Festival delle Piazze Scolastiche Chieri
DESCRIPTION:
URL:https://www.ciochevale.it/evento/festival-delle-piazze-scolastiche-chieri/
LOCATION:Istituto Comprensivo\, piazza Pellico\, Chieri
CATEGORIES:Eventi,PicchioVerde
ATTACH;FMTTYPE=image/jpeg:https://www.ciochevale.it/wp-content/uploads/2024/11/save-the-date.jpg
END:VEVENT
BEGIN:VEVENT
DTSTART;TZID=Europe/Paris:20241119T170000
DTEND;TZID=Europe/Paris:20241119T190000
DTSTAMP:20260420T021616
CREATED:20240722T035832Z
LAST-MODIFIED:20240722T231958Z
UID:5717-1732035600-1732042800@www.ciochevale.it
SUMMARY:Consegna Panieri Comunità di Supporto all’Agricoltura
DESCRIPTION:
URL:https://www.ciochevale.it/evento/consegna-panieri-comunita-di-supporto-allagricoltura-14/
LOCATION:Garden Le Serre\, via Bogino 14a\, Chieri\, Italia
CATEGORIES:Cibo, Comunità e Salute,CioCheMangio
ATTACH;FMTTYPE=image/jpeg:https://www.ciochevale.it/wp-content/uploads/2023/09/Logo-CioCheMangio.jpeg
ORGANIZER;CN="Associazione CioCheVale":MAILTO:associazione.ciochevale@gmail.com
END:VEVENT
BEGIN:VEVENT
DTSTART;TZID=Europe/Paris:20241122T150000
DTEND;TZID=Europe/Paris:20241122T200000
DTSTAMP:20260420T021616
CREATED:20250105T115225Z
LAST-MODIFIED:20250105T115225Z
UID:5972-1732287600-1732305600@www.ciochevale.it
SUMMARY:Strategia Urbana d'Area del Canavese e Epoderiese
DESCRIPTION:
URL:https://www.ciochevale.it/evento/strategia-urbana-darea-del-canavese-e-epoderiese/
LOCATION:Urban LAB\, via Palazzo di Città 8F\, Torino
CATEGORIES:Conferenza,Pistaaa
ATTACH;FMTTYPE=image/jpeg:https://www.ciochevale.it/wp-content/uploads/2022/02/pistaaa.jpg
END:VEVENT
BEGIN:VEVENT
DTSTART;TZID=Europe/Paris:20241124T080000
DTEND;TZID=Europe/Paris:20241124T180000
DTSTAMP:20260420T021616
CREATED:20241104T121739Z
LAST-MODIFIED:20241104T122211Z
UID:5905-1732435200-1732471200@www.ciochevale.it
SUMMARY:Visita a Cittadellarte Fondazione Pistoletto
DESCRIPTION:Cittadellarte si estende su una superficie complessiva di circa 20.000 m² all’interno di un opificio dismesso\, l’ex Lanificio Trombetta\, situato in via Serralunga 27\, un complesso di archeologia industriale nello storico centro tessile di Biella\, e altri edifici adiacenti.\nDiversi spazi sono dedicati all’esposizione permanente di opere di Michelangelo Pistoletto.\nUna prima sala\, collocata nell’edificio centrale della Fondazione\, ospita una selezione di sue prime opere dal 1955 al 1961. Due sale\, nello stesso edificio\, presentano una selezione di opere rappresentative delle principali fasi della sua ricerca e produzione artistica: Quadri specchianti\, Oggetti in meno\, Arte Povera\, Divisione e Moltiplicazione\, Segno Arte. L’ampio sottotetto dell’edificio centrale ospita l’installazione Porte – Uffizi (2003-2016)\, un’iconica presentazione del progetto e della struttura di Cittadellarte.
URL:https://www.ciochevale.it/evento/visita-a-cittadellarte-fondazione-pistoletto/
LOCATION:Cittadellarte Fondazione Pistoletto\, via Serralunga 27\, Biella\, ITALY
CATEGORIES:Cibo, Comunità e Salute,Eventi,Pistaaa
ATTACH;FMTTYPE=image/gif:https://www.ciochevale.it/wp-content/uploads/2016/05/cittadellarte1.gif
ORGANIZER;CN="Associazione CioCheVale":MAILTO:associazione.ciochevale@gmail.com
END:VEVENT
BEGIN:VEVENT
DTSTART;TZID=Europe/Paris:20241126T110000
DTEND;TZID=Europe/Paris:20241126T130000
DTSTAMP:20260420T021616
CREATED:20241122T113826Z
LAST-MODIFIED:20241122T120535Z
UID:5938-1732618800-1732626000@www.ciochevale.it
SUMMARY:Incontro con Vol.TO per nuovi adempimenti del Terzo Settore
DESCRIPTION:
URL:https://www.ciochevale.it/evento/incontro-con-vol-to-per-nuovi-adempimenti-del-terzo-settore/
LOCATION:Volto Volontariato Torino ETS\, via Giolitti 21\, Torino\, Italia
CATEGORIES:CioCheMangio,Corso
ATTACH;FMTTYPE=image/png:https://www.ciochevale.it/wp-content/uploads/2023/11/volto.png
END:VEVENT
BEGIN:VEVENT
DTSTART;TZID=Europe/Paris:20241127T210000
DTEND;TZID=Europe/Paris:20241127T230000
DTSTAMP:20260420T021616
CREATED:20241122T105650Z
LAST-MODIFIED:20241122T110324Z
UID:5934-1732741200-1732748400@www.ciochevale.it
SUMMARY:Gruppo di Lavoro: MaB UNESCO tra tutela del Paesaggio e della Biodiversità
DESCRIPTION:
URL:https://www.ciochevale.it/evento/gruppo-di-lavoro-mab-unesco-tra-tutela-del-paesaggio-e-della-biodiversita-2/
LOCATION:Sede CioCheVale\, via Marconi 15 Chieri\, Italia
CATEGORIES:MaB UNESCO,Riunione
ATTACH;FMTTYPE=image/jpeg:https://www.ciochevale.it/wp-content/uploads/2020/02/collinapo_logo.jpg
END:VEVENT
BEGIN:VEVENT
DTSTART;TZID=Europe/Paris:20241129T170000
DTEND;TZID=Europe/Paris:20241129T190000
DTSTAMP:20260420T021616
CREATED:20250105T145101Z
LAST-MODIFIED:20250105T145225Z
UID:5990-1732899600-1732906800@www.ciochevale.it
SUMMARY:Riunione per Orti Didattici con insegnanti Silvio Pellico
DESCRIPTION:
URL:https://www.ciochevale.it/evento/riunione-per-orti-didattici-con-insegnanti-silvio-pellico/
LOCATION:Cascina I Soffioni\, Buttigliera D'Asti
CATEGORIES:Cibo, Comunità e Salute,Riunione
ATTACH;FMTTYPE=image/jpeg:https://www.ciochevale.it/wp-content/uploads/2022/04/slider-home-mobile-csa-2.jpg
END:VEVENT
BEGIN:VEVENT
DTSTART;TZID=Europe/Paris:20241130T140000
DTEND;TZID=Europe/Paris:20241201T200000
DTSTAMP:20260420T021616
CREATED:20241122T113257Z
LAST-MODIFIED:20250105T145455Z
UID:5936-1732975200-1733083200@www.ciochevale.it
SUMMARY:Riunione della Rete delle CSA Comunità di Supporto Italiane a Marghera
DESCRIPTION:
URL:https://www.ciochevale.it/evento/riunione-della-rete-delle-csa-comunita-di-supporto-italiane-a-marghera/
ATTACH;FMTTYPE=image/jpeg:https://www.ciochevale.it/wp-content/uploads/2023/09/Logo-CioCheMangio.jpeg
END:VEVENT
END:VCALENDAR