BEGIN:VCALENDAR
VERSION:2.0
PRODID:-//CioCheVale APS - ECPv6.15.20//NONSGML v1.0//EN
CALSCALE:GREGORIAN
METHOD:PUBLISH
X-ORIGINAL-URL:https://www.ciochevale.it
X-WR-CALDESC:Eventi per CioCheVale APS
REFRESH-INTERVAL;VALUE=DURATION:PT1H
X-Robots-Tag:noindex
X-PUBLISHED-TTL:PT1H
BEGIN:VTIMEZONE
TZID:Europe/Paris
BEGIN:DAYLIGHT
TZOFFSETFROM:+0100
TZOFFSETTO:+0200
TZNAME:CEST
DTSTART:20230326T010000
END:DAYLIGHT
BEGIN:STANDARD
TZOFFSETFROM:+0200
TZOFFSETTO:+0100
TZNAME:CET
DTSTART:20231029T010000
END:STANDARD
BEGIN:DAYLIGHT
TZOFFSETFROM:+0100
TZOFFSETTO:+0200
TZNAME:CEST
DTSTART:20240331T010000
END:DAYLIGHT
BEGIN:STANDARD
TZOFFSETFROM:+0200
TZOFFSETTO:+0100
TZNAME:CET
DTSTART:20241027T010000
END:STANDARD
BEGIN:DAYLIGHT
TZOFFSETFROM:+0100
TZOFFSETTO:+0200
TZNAME:CEST
DTSTART:20250330T010000
END:DAYLIGHT
BEGIN:STANDARD
TZOFFSETFROM:+0200
TZOFFSETTO:+0100
TZNAME:CET
DTSTART:20251026T010000
END:STANDARD
END:VTIMEZONE
BEGIN:VEVENT
DTSTART;TZID=Europe/Paris:20240403T093000
DTEND;TZID=Europe/Paris:20240403T130000
DTSTAMP:20260420T104346
CREATED:20231221T080534Z
LAST-MODIFIED:20240330T174659Z
UID:5362-1712136600-1712149200@www.ciochevale.it
SUMMARY:Preparazione Panieri CioCheMangio ai dipendenti di BIGMAT De Tommasi – Comunità di Supporto all’Agricoltura
DESCRIPTION:
URL:https://www.ciochevale.it/evento/preparazione-panieri-ciochemangio-ai-dipendenti-di-bigmat-de-tommasi-comunita-di-supporto-allagricoltura-3/
LOCATION:Garden Le Serre\, via Bogino 14a\, Chieri\, Italia
CATEGORIES:Cibo, Comunità e Salute,CioCheMangio
ATTACH;FMTTYPE=image/jpeg:https://www.ciochevale.it/wp-content/uploads/2023/09/Logo-CioCheMangio.jpeg
ORGANIZER;CN="Associazione CioCheVale":MAILTO:associazione.ciochevale@gmail.com
END:VEVENT
BEGIN:VEVENT
DTSTART;TZID=Europe/Paris:20240405T080000
DTEND;TZID=Europe/Paris:20240407T170000
DTSTAMP:20260420T104346
CREATED:20240127T201855Z
LAST-MODIFIED:20240127T201855Z
UID:5458-1712304000-1712509200@www.ciochevale.it
SUMMARY:Fiera del Cicloturismo Bologna
DESCRIPTION:
URL:https://www.ciochevale.it/evento/fiera-del-cicloturismo-bologna/
LOCATION:spazio DumBO\, Via Camillo Casarini 19\, Bologna\, Italia
CATEGORIES:Eventi,Pistaaa
ATTACH;FMTTYPE=image/jpeg:https://www.ciochevale.it/wp-content/uploads/2024/01/fiera-cicloturismo-bologna.jpg
END:VEVENT
BEGIN:VEVENT
DTSTART;TZID=Europe/Paris:20240405T183000
DTEND;TZID=Europe/Paris:20240405T193000
DTSTAMP:20260420T104346
CREATED:20240325T103408Z
LAST-MODIFIED:20240327T071234Z
UID:5569-1712341800-1712345400@www.ciochevale.it
SUMMARY:Presentazione Progetto CSA CioCheMangio presso Associazione Altrorizzonte
DESCRIPTION:
URL:https://www.ciochevale.it/evento/presentazione-progetto-csa-ciochemangio-presso-associaizone-altrorizzonte/
LOCATION:Associazione Altrorizzonte\, via Alba 7\, Torino
CATEGORIES:Cibo, Comunità e Salute,CioCheMangio,Eventi
ATTACH;FMTTYPE=image/jpeg:https://www.ciochevale.it/wp-content/uploads/2024/03/associazione-altrorizzonte.jpeg
ORGANIZER;CN="Associazione CioCheVale":MAILTO:associazione.ciochevale@gmail.com
END:VEVENT
BEGIN:VEVENT
DTSTART;TZID=Europe/Paris:20240409T173000
DTEND;TZID=Europe/Paris:20240409T190000
DTSTAMP:20260420T104346
CREATED:20231221T004537Z
LAST-MODIFIED:20231221T004537Z
UID:5325-1712683800-1712689200@www.ciochevale.it
SUMMARY:Consegna Panieri Comunità di Supporto all'Agricoltura
DESCRIPTION:
URL:https://www.ciochevale.it/evento/consegna-panieri-comunita-di-supporto-allagricoltura/
LOCATION:Garden Le Serre\, via Bogino 14a\, Chieri\, Italia
CATEGORIES:Cibo, Comunità e Salute,CioCheMangio
ATTACH;FMTTYPE=image/jpeg:https://www.ciochevale.it/wp-content/uploads/2023/09/Logo-CioCheMangio.jpeg
ORGANIZER;CN="Associazione CioCheVale":MAILTO:associazione.ciochevale@gmail.com
END:VEVENT
BEGIN:VEVENT
DTSTART;TZID=Europe/Paris:20240416T173000
DTEND;TZID=Europe/Paris:20240416T190000
DTSTAMP:20260420T104346
CREATED:20231221T005002Z
LAST-MODIFIED:20231221T005002Z
UID:5327-1713288600-1713294000@www.ciochevale.it
SUMMARY:Consegna Panieri soci Comunità di Supporto all'Agricoltura
DESCRIPTION:
URL:https://www.ciochevale.it/evento/consegna-panieri-soci-comunita-di-supporto-allagricoltura-4/
LOCATION:Garden Le Serre\, via Bogino 14a\, Chieri\, Italia
CATEGORIES:Cibo, Comunità e Salute,CioCheMangio
ATTACH;FMTTYPE=image/jpeg:https://www.ciochevale.it/wp-content/uploads/2023/09/Logo-CioCheMangio.jpeg
ORGANIZER;CN="Associazione CioCheVale":MAILTO:associazione.ciochevale@gmail.com
END:VEVENT
BEGIN:VEVENT
DTSTART;TZID=Europe/Paris:20240417T180000
DTEND;TZID=Europe/Paris:20240417T200000
DTSTAMP:20260420T104346
CREATED:20240327T071747Z
LAST-MODIFIED:20240327T071747Z
UID:5575-1713376800-1713384000@www.ciochevale.it
SUMMARY:Assemblea del Distretto del Cibo del Chierese-Carmagnolese
DESCRIPTION:
URL:https://www.ciochevale.it/evento/assemblea-del-distretto-del-cibo-del-chierese-carmagnolese/
LOCATION:Comune di Santena\, Via Cavour 39\, Santena
CATEGORIES:Distretto del Cibo Chierese,Pistaaa,Riunione
ATTACH;FMTTYPE=image/png:https://www.ciochevale.it/wp-content/uploads/2023/11/distretto.png
END:VEVENT
BEGIN:VEVENT
DTSTART;TZID=Europe/Paris:20240420T100000
DTEND;TZID=Europe/Paris:20240421T180000
DTSTAMP:20260420T104346
CREATED:20240127T212802Z
LAST-MODIFIED:20240127T212802Z
UID:5463-1713607200-1713722400@www.ciochevale.it
SUMMARY:Fiera del Cicloturismo Moncalieri
DESCRIPTION:CioCheVale parteciperà per il terzo anno alla Fiera del Cicloturismo presentando i suoi progetti “Pistaaa: La Blue Way Piemontese”\, la Rivista Picchioverde e la Comunità di Supporto all’Agricoltura CioCheMangio
URL:https://www.ciochevale.it/evento/fiera-del-cicloturismo-moncalieri/
LOCATION:Cascina delle Vallere-Aree Protette Po Piemontese\, Corso Trieste 98\, Moncalieri
CATEGORIES:CioCheMangio,Distretto del Cibo Chierese,Eventi,MaB UNESCO,PicchioVerde,Picchioverde,Pistaaa
ATTACH;FMTTYPE=image/jpeg:https://www.ciochevale.it/wp-content/uploads/2024/01/fiera-cicloturirmo-Moncalieri.jpg
END:VEVENT
BEGIN:VEVENT
DTSTART;TZID=Europe/Paris:20240422T210000
DTEND;TZID=Europe/Paris:20240422T223000
DTSTAMP:20260420T104346
CREATED:20240318T123540Z
LAST-MODIFIED:20240419T081440Z
UID:5564-1713819600-1713825000@www.ciochevale.it
SUMMARY:Assemblea Soci CioCheVale 2024
DESCRIPTION:
URL:https://www.ciochevale.it/evento/assemblea-soci-ciochevale-2024/
LOCATION:Sede CioCheVale\, via Marconi 15 Chieri\, Italia
CATEGORIES:Riunione
ATTACH;FMTTYPE=image/png:https://www.ciochevale.it/wp-content/uploads/2016/05/logo-cio-che-vale-150.png
ORGANIZER;CN="Associazione CioCheVale":MAILTO:associazione.ciochevale@gmail.com
END:VEVENT
BEGIN:VEVENT
DTSTART;TZID=Europe/Paris:20240423T173000
DTEND;TZID=Europe/Paris:20240423T190000
DTSTAMP:20260420T104346
CREATED:20231221T005255Z
LAST-MODIFIED:20231221T005255Z
UID:5329-1713893400-1713898800@www.ciochevale.it
SUMMARY:Consegna Panieri Comunità di Supporto all'Agricoltura
DESCRIPTION:
URL:https://www.ciochevale.it/evento/consegna-panieri-comunita-di-supporto-allagricoltura-2/
LOCATION:Garden Le Serre\, via Bogino 14a\, Chieri\, Italia
CATEGORIES:Cibo, Comunità e Salute,CioCheMangio
ATTACH;FMTTYPE=image/jpeg:https://www.ciochevale.it/wp-content/uploads/2023/09/Logo-CioCheMangio.jpeg
ORGANIZER;CN="Associazione CioCheVale":MAILTO:associazione.ciochevale@gmail.com
END:VEVENT
BEGIN:VEVENT
DTSTART;TZID=Europe/Paris:20240424T180000
DTEND;TZID=Europe/Paris:20240424T193000
DTSTAMP:20260420T104346
CREATED:20240317T135756Z
LAST-MODIFIED:20240418T170447Z
UID:5550-1713981600-1713987000@www.ciochevale.it
SUMMARY:I progetti di CioCheVale al Circolo dei Lettori: " Il Chierese: un territorio da scoprire"
DESCRIPTION:
URL:https://www.ciochevale.it/evento/i-progetti-di-ciochevale-al-circolo-dei-lettori-il-chierese-un-territorio-da-scoprire/
CATEGORIES:Cibo, Comunità e Salute,Conferenza,PicchioVerde,PicchioVerde,Pistaaa
ATTACH;FMTTYPE=image/png:https://www.ciochevale.it/wp-content/uploads/2024/03/circolo-lettori.png
END:VEVENT
END:VCALENDAR