BEGIN:VCALENDAR
VERSION:2.0
PRODID:-//CioCheVale APS - ECPv6.15.20//NONSGML v1.0//EN
CALSCALE:GREGORIAN
METHOD:PUBLISH
X-ORIGINAL-URL:https://www.ciochevale.it
X-WR-CALDESC:Eventi per CioCheVale APS
REFRESH-INTERVAL;VALUE=DURATION:PT1H
X-Robots-Tag:noindex
X-PUBLISHED-TTL:PT1H
BEGIN:VTIMEZONE
TZID:Europe/Paris
BEGIN:DAYLIGHT
TZOFFSETFROM:+0100
TZOFFSETTO:+0200
TZNAME:CEST
DTSTART:20230326T010000
END:DAYLIGHT
BEGIN:STANDARD
TZOFFSETFROM:+0200
TZOFFSETTO:+0100
TZNAME:CET
DTSTART:20231029T010000
END:STANDARD
BEGIN:DAYLIGHT
TZOFFSETFROM:+0100
TZOFFSETTO:+0200
TZNAME:CEST
DTSTART:20240331T010000
END:DAYLIGHT
BEGIN:STANDARD
TZOFFSETFROM:+0200
TZOFFSETTO:+0100
TZNAME:CET
DTSTART:20241027T010000
END:STANDARD
BEGIN:DAYLIGHT
TZOFFSETFROM:+0100
TZOFFSETTO:+0200
TZNAME:CEST
DTSTART:20250330T010000
END:DAYLIGHT
BEGIN:STANDARD
TZOFFSETFROM:+0200
TZOFFSETTO:+0100
TZNAME:CET
DTSTART:20251026T010000
END:STANDARD
END:VTIMEZONE
BEGIN:VEVENT
DTSTART;TZID=Europe/Paris:20240202T180000
DTEND;TZID=Europe/Paris:20240202T193000
DTSTAMP:20260420T133024
CREATED:20240127T214712Z
LAST-MODIFIED:20240127T215651Z
UID:5467-1706896800-1706902200@www.ciochevale.it
SUMMARY:Presentazione Progetto CSA CioCheMangio a Torino
DESCRIPTION:il 2 febbraio alle ore 18.00 presso la sala “meeting” del Centro Servizi per il Volontariato- Vol.To in via Giolitti 21 a Torino\,\npresenteremo come Associazione CioChevale\, il nostro progetto della Comunità di Supporto all’Agricoltura (CSA) “CioCheMangio” già attivo nella collina torinese da oltre due anni.\nLa CSA è un modello economico innovativo che si basa su un patto tra produttori agricoli e fruitori (famiglie)\, nel rispetto di regole condivise per promuovere un consumo consapevole e sostenibile\,\nL’obiettivo dell’incontro è quello di estendere questo modello anche a Torino e avvicinare la popolazione urbana al territorio della nostra collina e alle tante realtà virtuose in esso presenti.
URL:https://www.ciochevale.it/evento/presentazione-progetto-csa-ciochemangio-a-torino/
LOCATION:Centro Servizi per il Volontariato VolTo\, via Giolitti 21\, Torino\, Italia
CATEGORIES:Cibo, Comunità e Salute,CioCheMangio,Distretto del Cibo Chierese,Eventi
ATTACH;FMTTYPE=image/jpeg:https://www.ciochevale.it/wp-content/uploads/2024/01/ciochemangio-2-febbraio-2024.jpeg
ORGANIZER;CN="Associazione CioCheVale":MAILTO:associazione.ciochevale@gmail.com
END:VEVENT
BEGIN:VEVENT
DTSTART;TZID=Europe/Paris:20240206T120000
DTEND;TZID=Europe/Paris:20240206T140000
DTSTAMP:20260420T133024
CREATED:20240127T222813Z
LAST-MODIFIED:20240205T105108Z
UID:5475-1707220800-1707228000@www.ciochevale.it
SUMMARY:Incontro percorsi cicloescursionistici Distretto del Cibo e Blue Way Piemontese
DESCRIPTION:
URL:https://www.ciochevale.it/evento/incontro-percorsi-cicloescursionistici-distretto-del-cibo-e-blue-way-piemontese/
LOCATION:Turismo Torino\, Via Maria Vittoria 19\, Torino\, Italia
CATEGORIES:Distretto del Cibo Chierese,Pistaaa,Riunione
ATTACH;FMTTYPE=image/png:https://www.ciochevale.it/wp-content/uploads/2023/11/distretto.png
END:VEVENT
BEGIN:VEVENT
DTSTART;TZID=Europe/Paris:20240206T173000
DTEND;TZID=Europe/Paris:20240206T190000
DTSTAMP:20260420T133024
CREATED:20231220T232048Z
LAST-MODIFIED:20231220T232048Z
UID:5313-1707240600-1707246000@www.ciochevale.it
SUMMARY:Consegna Panieri per soci CioCheMangio - Comunità di Supporto all'Agricoltura
DESCRIPTION:
URL:https://www.ciochevale.it/evento/consegna-panieri-per-soci-ciochemangio-comunita-di-supporto-allagricoltura-27/
LOCATION:Garden Le Serre\, via Bogino 14a\, Chieri\, Italia
CATEGORIES:Cibo, Comunità e Salute,CioCheMangio,Distretto del Cibo Chierese
ATTACH;FMTTYPE=image/jpeg:https://www.ciochevale.it/wp-content/uploads/2023/09/Logo-CioCheMangio.jpeg
END:VEVENT
BEGIN:VEVENT
DTSTART;TZID=Europe/Paris:20240207T173000
DTEND;TZID=Europe/Paris:20240207T193000
DTSTAMP:20260420T133024
CREATED:20240127T222029Z
LAST-MODIFIED:20240127T223043Z
UID:5471-1707327000-1707334200@www.ciochevale.it
SUMMARY:Incontro Agenzia di Comunicazione per brand del Distretto del Cibo
DESCRIPTION:
URL:https://www.ciochevale.it/evento/incontro-agenzia-di-comunicazione-per-brand-del-distretto-del-cibo/
LOCATION:Comune di Santena\, Via Cavour 39\, Santena
CATEGORIES:Cibo, Comunità e Salute,Distretto del Cibo Chierese,Pistaaa,Riunione
ATTACH;FMTTYPE=image/png:https://www.ciochevale.it/wp-content/uploads/2024/01/turismo-torino.png
END:VEVENT
BEGIN:VEVENT
DTSTART;TZID=Europe/Paris:20240213T173000
DTEND;TZID=Europe/Paris:20240213T190000
DTSTAMP:20260420T133024
CREATED:20231221T002629Z
LAST-MODIFIED:20231221T002629Z
UID:5315-1707845400-1707850800@www.ciochevale.it
SUMMARY:Consegna Panieri per soci CioCheMangio - Comunità di Supporto all'Agricoltura
DESCRIPTION:
URL:https://www.ciochevale.it/evento/consegna-panieri-per-soci-ciochemangio-comunita-di-supporto-allagricoltura-28/
LOCATION:Garden Le Serre\, via Bogino 14a\, Chieri\, Italia
CATEGORIES:Cibo, Comunità e Salute,CioCheMangio
ATTACH;FMTTYPE=image/jpeg:https://www.ciochevale.it/wp-content/uploads/2023/09/Logo-CioCheMangio.jpeg
END:VEVENT
BEGIN:VEVENT
DTSTART;TZID=Europe/Paris:20240218T000000
DTEND;TZID=Europe/Paris:20240218T000000
DTSTAMP:20260420T133024
CREATED:20240501T074907Z
LAST-MODIFIED:20240501T074907Z
UID:5625-1708214400-1708214400@www.ciochevale.it
SUMMARY:Presentazione Progetto CSA CioCheMangio nell’evento “Ripartiamo dai semi” a Verrua Savoia (TO)
DESCRIPTION:
URL:https://www.ciochevale.it/evento/presentazione-progetto-csa-ciochemangio-nellevento-ripartiamo-dai-semi-a-verrua-savoia-to/
CATEGORIES:CioCheMangio
ATTACH;FMTTYPE=image/jpeg:https://www.ciochevale.it/wp-content/uploads/2023/09/Logo-CioCheMangio.jpeg
ORGANIZER;CN="Associazione CioCheVale":MAILTO:associazione.ciochevale@gmail.com
END:VEVENT
BEGIN:VEVENT
DTSTART;TZID=Europe/Paris:20240220T093000
DTEND;TZID=Europe/Paris:20240220T130000
DTSTAMP:20260420T133024
CREATED:20231221T080235Z
LAST-MODIFIED:20231221T080235Z
UID:5360-1708421400-1708434000@www.ciochevale.it
SUMMARY:Preparazione Panieri CioCheMangio ai dipendenti di BIGMAT De Tommasi – Comunità di Supporto all’Agricoltura
DESCRIPTION:
URL:https://www.ciochevale.it/evento/preparazione-panieri-ciochemangio-ai-dipendenti-di-bigmat-de-tommasi-comunita-di-supporto-allagricoltura-2/
LOCATION:Garden Le Serre\, via Bogino 14a\, Chieri\, Italia
CATEGORIES:Cibo, Comunità e Salute,CioCheMangio
ATTACH;FMTTYPE=image/jpeg:https://www.ciochevale.it/wp-content/uploads/2023/09/Logo-CioCheMangio.jpeg
ORGANIZER;CN="Associazione CioCheVale":MAILTO:associazione.ciochevale@gmail.com
END:VEVENT
BEGIN:VEVENT
DTSTART;TZID=Europe/Paris:20240221T140000
DTEND;TZID=Europe/Paris:20240221T170000
DTSTAMP:20260420T133024
CREATED:20240212T181738Z
LAST-MODIFIED:20240214T160009Z
UID:5503-1708524000-1708534800@www.ciochevale.it
SUMMARY:Progetto "Itinerari Accessibili a Tutti"  con Servizi in Rete del CSSAC
DESCRIPTION:
URL:https://www.ciochevale.it/evento/progetto-itinerari-accessibili-a-tutti-con-servizi-in-rete-del-cssac/
LOCATION:vicolo Albussano
CATEGORIES:Pistaaa,Riunione
ATTACH;FMTTYPE=image/jpeg:https://www.ciochevale.it/wp-content/uploads/2024/02/CSSAC-Servizi-in-Rete.jpeg
END:VEVENT
BEGIN:VEVENT
DTSTART;TZID=Europe/Paris:20240223T173000
DTEND;TZID=Europe/Paris:20240223T190000
DTSTAMP:20260420T133024
CREATED:20240213T173533Z
LAST-MODIFIED:20240213T174416Z
UID:5507-1708709400-1708714800@www.ciochevale.it
SUMMARY:Riunione Distretto del Cibo per Itinerari Ciclopedonali Zona Nord
DESCRIPTION:
URL:https://www.ciochevale.it/evento/riunione-distretto-del-cibo-per-itinerari-ciclopedonali-zona-nord/
LOCATION:Sala Conceria Chieri
CATEGORIES:Distretto del Cibo Chierese,Pistaaa,Riunione
ATTACH;FMTTYPE=image/png:https://www.ciochevale.it/wp-content/uploads/2023/11/distretto.png
END:VEVENT
BEGIN:VEVENT
DTSTART;TZID=Europe/Paris:20240223T203000
DTEND;TZID=Europe/Paris:20240223T223000
DTSTAMP:20260420T133024
CREATED:20240222T151936Z
LAST-MODIFIED:20240222T152345Z
UID:5514-1708720200-1708727400@www.ciochevale.it
SUMMARY:Film "Non morirò di fame" e presentazione progetto "Spreco Alimentare e Povertà"
DESCRIPTION:
URL:https://www.ciochevale.it/evento/film-non-moriro-di-fame-e-presentazione-progetto-spreco-alimentare-e-poverta/
LOCATION:Biblioteca Civica F.lli Jacomuzzi\, via Luigi Lagrange 1\, Cambiano
CATEGORIES:Cibo, Comunità e Salute,CioCheMangio,Eventi
ATTACH;FMTTYPE=image/jpeg:https://www.ciochevale.it/wp-content/uploads/2024/02/Non-moriro-di-fame.jpeg
END:VEVENT
BEGIN:VEVENT
DTSTART;TZID=Europe/Paris:20240227T173000
DTEND;TZID=Europe/Paris:20240227T190000
DTSTAMP:20260420T133024
CREATED:20231221T002930Z
LAST-MODIFIED:20231221T002930Z
UID:5317-1709055000-1709060400@www.ciochevale.it
SUMMARY:Consegna Panieri per soci CioCheMangio - Comunità di Supporto all'Agricoltura
DESCRIPTION:
URL:https://www.ciochevale.it/evento/consegna-panieri-per-soci-ciochemangio-comunita-di-supporto-allagricoltura-29/
LOCATION:Garden Le Serre\, via Bogino 14a\, Chieri\, Italia
CATEGORIES:Cibo, Comunità e Salute,CioCheMangio
ATTACH;FMTTYPE=image/jpeg:https://www.ciochevale.it/wp-content/uploads/2023/09/Logo-CioCheMangio.jpeg
ORGANIZER;CN="Associazione CioCheVale":MAILTO:associazione.ciochevale@gmail.com
END:VEVENT
END:VCALENDAR