BEGIN:VCALENDAR
VERSION:2.0
PRODID:-//CioCheVale APS - ECPv6.15.20//NONSGML v1.0//EN
CALSCALE:GREGORIAN
METHOD:PUBLISH
X-WR-CALNAME:CioCheVale APS
X-ORIGINAL-URL:https://www.ciochevale.it
X-WR-CALDESC:Eventi per CioCheVale APS
REFRESH-INTERVAL;VALUE=DURATION:PT1H
X-Robots-Tag:noindex
X-PUBLISHED-TTL:PT1H
BEGIN:VTIMEZONE
TZID:Europe/Paris
BEGIN:DAYLIGHT
TZOFFSETFROM:+0100
TZOFFSETTO:+0200
TZNAME:CEST
DTSTART:20220327T010000
END:DAYLIGHT
BEGIN:STANDARD
TZOFFSETFROM:+0200
TZOFFSETTO:+0100
TZNAME:CET
DTSTART:20221030T010000
END:STANDARD
BEGIN:DAYLIGHT
TZOFFSETFROM:+0100
TZOFFSETTO:+0200
TZNAME:CEST
DTSTART:20230326T010000
END:DAYLIGHT
BEGIN:STANDARD
TZOFFSETFROM:+0200
TZOFFSETTO:+0100
TZNAME:CET
DTSTART:20231029T010000
END:STANDARD
BEGIN:DAYLIGHT
TZOFFSETFROM:+0100
TZOFFSETTO:+0200
TZNAME:CEST
DTSTART:20240331T010000
END:DAYLIGHT
BEGIN:STANDARD
TZOFFSETFROM:+0200
TZOFFSETTO:+0100
TZNAME:CET
DTSTART:20241027T010000
END:STANDARD
END:VTIMEZONE
BEGIN:VEVENT
DTSTART;TZID=Europe/Paris:20231205T173000
DTEND;TZID=Europe/Paris:20231205T190000
DTSTAMP:20260420T160454
CREATED:20230906T222352Z
LAST-MODIFIED:20230906T222352Z
UID:5104-1701797400-1701802800@www.ciochevale.it
SUMMARY:Consegna Panieri per soci CioCheMangio - Comunità di Supporto all'Agricoltura
DESCRIPTION:
URL:https://www.ciochevale.it/evento/consegna-panieri-per-soci-ciochemangio-comunita-di-supporto-allagricoltura-21/
LOCATION:Garden Le Serre\, via Bogino 14a\, Chieri\, Italia
CATEGORIES:Cibo, Comunità e Salute,CioCheMangio
ATTACH;FMTTYPE=image/jpeg:https://www.ciochevale.it/wp-content/uploads/2023/09/Logo-CioCheMangio.jpeg
ORGANIZER;CN="Associazione CioCheVale":MAILTO:associazione.ciochevale@gmail.com
END:VEVENT
BEGIN:VEVENT
DTSTART;TZID=Europe/Paris:20231208T090000
DTEND;TZID=Europe/Paris:20231208T200000
DTSTAMP:20260420T160454
CREATED:20231101T205258Z
LAST-MODIFIED:20231207T055226Z
UID:5222-1702026000-1702065600@www.ciochevale.it
SUMMARY:Partecipazione di CioCheVale a "Il Dono del Volontariato"
DESCRIPTION:Il desiderio spontaneo di aiutare il prossimo sarà protagonista della manifestazione in occasione della Giornata mondiale del volontariato 2023\,  venerdì 8 dicembre quando 120 ETS animeranno Piazza Bodoni a Torino con i loro banchetti che esporanno i prodotti realizzati dai loro assistiti oppure dove racconteranno ai cittadini interessati la propria esperianza. L’evento fornirà un’opportunità unica per le organizzazioni no-profit di presentarsi e raccogliere fondi\, illustrando le sfide affrontate e le varie modalità di volontariato disponibili. \nSe da un lato l’iniziativa intende promuovere il volontariato e sostenere le organizzazioni no-profit canalizzando lo spirito generoso delle festività natalizie verso azioni concrete; dall’altro sarà un’ulteriore occasione per Vol.To di accompagnare gli ETS nella corretta gestione di una campagna di raccolta fondi. infatti\, prima della manifestazione le organizzazioni aderenti seguiranno un percorso gratuito con esperti di raccolta fondi sia su temi fiscali che su tempi più legati alla comunicazione. \nVenerdì 8 dicembre \nh 10.00 Apertura stand Enti del Terzo Settore \nh 11.00 Inaugurazione evento – Saluti Istituzionali autorità \nh 11.30 Intrattenimento musicale e animazione a cura degli ETS \nh 11.45 Babbo Natale incontra i bambini \nh 15.00 Animazione con presenza Cosplay \nh 20.00 Chiusura Stand Enti del Terzo Settore
URL:https://www.ciochevale.it/evento/partecipazione-di-ciochevale-a-il-dono-del-volontariato/
LOCATION:Piazza Bodoni  Torino
CATEGORIES:Accademia del Dialogo,CioCheMangio,Eventi,Picchioverde,PicchioVerde,Pistaaa
ATTACH;FMTTYPE=image/jpeg:https://www.ciochevale.it/wp-content/uploads/2023/11/dono-del-volontaiato.jpeg
END:VEVENT
BEGIN:VEVENT
DTSTART;TZID=Europe/Paris:20231212T090000
DTEND;TZID=Europe/Paris:20231212T130000
DTSTAMP:20260420T160454
CREATED:20231207T054612Z
LAST-MODIFIED:20231207T054659Z
UID:5303-1702371600-1702386000@www.ciochevale.it
SUMMARY:Costruire e Attuare le Politiche di Sviluppo Sostenibile - Città Metropolitana
DESCRIPTION:
URL:https://www.ciochevale.it/evento/costruire-e-attuare-le-politiche-di-sviluppo-sostenibile-citta-metropolitana/
LOCATION:Museo A Come Ambiente\, c.so Umbria 90\, Torino\, 10144\, Italia
CATEGORIES:Cibo, Comunità e Salute,CioCheMangio,Eventi,Pistaaa,Riunione
ATTACH;FMTTYPE=image/jpeg:https://www.ciochevale.it/wp-content/uploads/2023/12/Citta-metropolitana-sviluppo-spostenibile-evento-12-12-23.jpeg
END:VEVENT
BEGIN:VEVENT
DTSTART;TZID=Europe/Paris:20231212T173000
DTEND;TZID=Europe/Paris:20231212T190000
DTSTAMP:20260420T160454
CREATED:20230906T223551Z
LAST-MODIFIED:20230906T223551Z
UID:5109-1702402200-1702407600@www.ciochevale.it
SUMMARY:Consegna Panieri per soci CioCheMangio - Comunità di Supporto all'Agricoltura
DESCRIPTION:
URL:https://www.ciochevale.it/evento/consegna-panieri-per-soci-ciochemangio-comunita-di-supporto-allagricoltura-22/
LOCATION:Garden Le Serre\, via Bogino 14a\, Chieri\, Italia
CATEGORIES:Cibo, Comunità e Salute,CioCheMangio
ATTACH;FMTTYPE=image/jpeg:https://www.ciochevale.it/wp-content/uploads/2023/09/Logo-CioCheMangio.jpeg
ORGANIZER;CN="Associazione CioCheVale":MAILTO:associazione.ciochevale@gmail.com
END:VEVENT
BEGIN:VEVENT
DTSTART;TZID=Europe/Paris:20231216T173000
DTEND;TZID=Europe/Paris:20231216T183000
DTSTAMP:20260420T160454
CREATED:20231221T012332Z
LAST-MODIFIED:20231221T012332Z
UID:5349-1702747800-1702751400@www.ciochevale.it
SUMMARY:Premiazione ai migliori ciclisti del Chierese
DESCRIPTION:
URL:https://www.ciochevale.it/evento/premiazione-ai-migliori-ciclisti-del-chierese/
LOCATION:Piazza Cavour Chieri
CATEGORIES:Eventi
ATTACH;FMTTYPE=image/jpeg:https://www.ciochevale.it/wp-content/uploads/2023/12/WhatsApp-Image-2023-12-11-at-00.19.48.jpeg
END:VEVENT
BEGIN:VEVENT
DTSTART;TZID=Europe/Paris:20231217T090000
DTEND;TZID=Europe/Paris:20231217T180000
DTSTAMP:20260420T160454
CREATED:20231221T013016Z
LAST-MODIFIED:20231221T013016Z
UID:5352-1702803600-1702836000@www.ciochevale.it
SUMMARY:Mercatino di Natale a Mombello
DESCRIPTION:
URL:https://www.ciochevale.it/evento/mercatino-di-natale-a-mombello/
LOCATION:Piazza Mazzini Mombello
CATEGORIES:Eventi,Picchioverde,Pistaaa
ATTACH;FMTTYPE=image/jpeg:https://www.ciochevale.it/wp-content/uploads/2023/12/WhatsApp-Image-2023-11-09-at-18.05.04.jpeg
END:VEVENT
BEGIN:VEVENT
DTSTART;TZID=Europe/Paris:20231217T130000
DTEND;TZID=Europe/Paris:20231217T180000
DTSTAMP:20260420T160454
CREATED:20231116T110804Z
LAST-MODIFIED:20231116T110920Z
UID:5286-1702818000-1702836000@www.ciochevale.it
SUMMARY:Presepe Chi Eri
DESCRIPTION:
URL:https://www.ciochevale.it/evento/presepe-chi-eri/
LOCATION:Piazza Cavour Chieri
CATEGORIES:Cibo, Comunità e Salute,CioCheMangio,Eventi,PicchioVerde,Picchioverde,PicchioVerde,Pistaaa
ATTACH;FMTTYPE=image/jpeg:https://www.ciochevale.it/wp-content/uploads/2023/11/incontrinsieme.jpg
END:VEVENT
BEGIN:VEVENT
DTSTART;TZID=Europe/Paris:20231219T080000
DTEND;TZID=Europe/Paris:20231219T170000
DTSTAMP:20260420T160454
CREATED:20230906T223751Z
LAST-MODIFIED:20230906T223751Z
UID:5111-1702972800-1703005200@www.ciochevale.it
SUMMARY:Consegna Panieri per soci CioCheMangio - Comunità di Supporto all'Agricoltura
DESCRIPTION:
URL:https://www.ciochevale.it/evento/consegna-panieri-per-soci-ciochemangio-comunita-di-supporto-allagricoltura-23/
LOCATION:Garden Le Serre\, via Bogino 14a\, Chieri\, Italia
CATEGORIES:Cibo, Comunità e Salute,CioCheMangio
ATTACH;FMTTYPE=image/jpeg:https://www.ciochevale.it/wp-content/uploads/2023/09/Logo-CioCheMangio.jpeg
ORGANIZER;CN="Associazione CioCheVale":MAILTO:associazione.ciochevale@gmail.com
END:VEVENT
BEGIN:VEVENT
DTSTART;TZID=Europe/Paris:20231220T093000
DTEND;TZID=Europe/Paris:20231220T130000
DTSTAMP:20260420T160454
CREATED:20231204T170632Z
LAST-MODIFIED:20231207T064301Z
UID:5301-1703064600-1703077200@www.ciochevale.it
SUMMARY:Consegna Panieri CioCheMangio ai dipendenti BIGMAT De Tommasi – Comunità di Supporto all’Agricoltura
DESCRIPTION:
URL:https://www.ciochevale.it/evento/consegna-panieri-ciochemangio-ai-dipendenti-bigmat-de-tommasi-comunita-di-supporto-allagricoltura/
LOCATION:Garden Le Serre\, via Bogino 14a\, Chieri\, Italia
CATEGORIES:Cibo, Comunità e Salute,CioCheMangio,Distretto del Cibo Chierese
ATTACH;FMTTYPE=image/jpeg:https://www.ciochevale.it/wp-content/uploads/2023/09/Logo-CioCheMangio.jpeg
ORGANIZER;CN="Associazione CioCheVale":MAILTO:associazione.ciochevale@gmail.com
END:VEVENT
BEGIN:VEVENT
DTSTART;TZID=Europe/Paris:20231220T173000
DTEND;TZID=Europe/Paris:20231220T190000
DTSTAMP:20260420T160454
CREATED:20231221T010352Z
LAST-MODIFIED:20231221T010614Z
UID:5334-1703093400-1703098800@www.ciochevale.it
SUMMARY:Assemblea Soci Distretto del Cibo
DESCRIPTION:per discutere e deliberare sul seguente ORDINE DEL GIORNO \n1. Comunicazioni del Presidente \n2. Condivisione piano di attività promozionali di Turismo Torino \n3. Illustrazione e votazione bilancio 2023\, bilancio previsionale 2024 \n4. Varie ed eventuali
URL:https://www.ciochevale.it/evento/assemblea-soci-distretto-del-cibo/
LOCATION:Comune di Santena\, Via Cavour 39\, Santena
CATEGORIES:Cibo, Comunità e Salute,CioCheMangio,Distretto del Cibo Chierese,Pistaaa
ATTACH;FMTTYPE=image/png:https://www.ciochevale.it/wp-content/uploads/2023/11/distretto.png
END:VEVENT
BEGIN:VEVENT
DTSTART;TZID=Europe/Paris:20231221T140000
DTEND;TZID=Europe/Paris:20231221T160000
DTSTAMP:20260420T160454
CREATED:20231221T082404Z
LAST-MODIFIED:20231221T082457Z
UID:5370-1703167200-1703174400@www.ciochevale.it
SUMMARY:Riunione con Slow Food Italia
DESCRIPTION:CioCheVale diventi “Comunità del Cibo” di Slow Food?
URL:https://www.ciochevale.it/evento/riunione-con-slow-food-italia/
LOCATION:Sede CioCheVale\, via Marconi 15 Chieri\, Italia
CATEGORIES:Cibo, Comunità e Salute,Pistaaa,Riunione
ATTACH;FMTTYPE=image/jpeg:https://www.ciochevale.it/wp-content/uploads/2023/12/Slow-Food.jpg
ORGANIZER;CN="Associazione CioCheVale":MAILTO:associazione.ciochevale@gmail.com
END:VEVENT
END:VCALENDAR