BEGIN:VCALENDAR
VERSION:2.0
PRODID:-//CioCheVale APS - ECPv6.15.20//NONSGML v1.0//EN
CALSCALE:GREGORIAN
METHOD:PUBLISH
X-ORIGINAL-URL:https://www.ciochevale.it
X-WR-CALDESC:Eventi per CioCheVale APS
REFRESH-INTERVAL;VALUE=DURATION:PT1H
X-Robots-Tag:noindex
X-PUBLISHED-TTL:PT1H
BEGIN:VTIMEZONE
TZID:Europe/Paris
BEGIN:DAYLIGHT
TZOFFSETFROM:+0100
TZOFFSETTO:+0200
TZNAME:CEST
DTSTART:20220327T010000
END:DAYLIGHT
BEGIN:STANDARD
TZOFFSETFROM:+0200
TZOFFSETTO:+0100
TZNAME:CET
DTSTART:20221030T010000
END:STANDARD
BEGIN:DAYLIGHT
TZOFFSETFROM:+0100
TZOFFSETTO:+0200
TZNAME:CEST
DTSTART:20230326T010000
END:DAYLIGHT
BEGIN:STANDARD
TZOFFSETFROM:+0200
TZOFFSETTO:+0100
TZNAME:CET
DTSTART:20231029T010000
END:STANDARD
BEGIN:DAYLIGHT
TZOFFSETFROM:+0100
TZOFFSETTO:+0200
TZNAME:CEST
DTSTART:20240331T010000
END:DAYLIGHT
BEGIN:STANDARD
TZOFFSETFROM:+0200
TZOFFSETTO:+0100
TZNAME:CET
DTSTART:20241027T010000
END:STANDARD
END:VTIMEZONE
BEGIN:VEVENT
DTSTART;TZID=Europe/Paris:20230930T080000
DTEND;TZID=Europe/Paris:20231001T170000
DTSTAMP:20260420T183357
CREATED:20231101T201436Z
LAST-MODIFIED:20231101T201436Z
UID:5210-1696060800-1696179600@www.ciochevale.it
SUMMARY:Cicloraduno Fiab Nord Ovest nel Chierese
DESCRIPTION:Brochure 2.1
URL:https://www.ciochevale.it/evento/cicloraduno-fiab-nord-ovest-nel-chierese/
LOCATION:Chierese
CATEGORIES:Biciclettata,Cibo, Comunità e Salute,Distretto del Cibo Chierese,Eventi,MaB UNESCO,PicchioVerde,Pistaaa
ATTACH;FMTTYPE=image/png:https://www.ciochevale.it/wp-content/uploads/2023/11/Logo-Cicloraduno.png
ORGANIZER;CN="Associazione CioCheVale":MAILTO:associazione.ciochevale@gmail.com
END:VEVENT
BEGIN:VEVENT
DTSTART;VALUE=DATE:20231001
DTEND;VALUE=DATE:20231002
DTSTAMP:20260420T183357
CREATED:20231031T214554Z
LAST-MODIFIED:20231031T214554Z
UID:5143-1696118400-1696204799@www.ciochevale.it
SUMMARY:Manifestazione Cambiando Prospettiva Avviciniamo le distanze 5.0
DESCRIPTION:
URL:https://www.ciochevale.it/evento/manifestazione-cambiando-prospettiva-avviciniamo-le-distanze-5-0/
LOCATION:Comune di Chieri\, Via Palazzo di Città 10\, Chieri\, TO\, 10023\, Italia
CATEGORIES:Cibo, Comunità e Salute,CioCheMangio,Eventi,Picchioverde,PicchioVerde,Pistaaa
ATTACH;FMTTYPE=image/jpeg:https://www.ciochevale.it/wp-content/uploads/2023/10/WhatsApp-Image-2023-09-18-at-08.25.21.jpeg
END:VEVENT
BEGIN:VEVENT
DTSTART;TZID=Europe/Paris:20231003T173000
DTEND;TZID=Europe/Paris:20231003T190000
DTSTAMP:20260420T183357
CREATED:20230906T062821Z
LAST-MODIFIED:20240115T213540Z
UID:5085-1696354200-1696359600@www.ciochevale.it
SUMMARY:Consegna Panieri per soci CioCheMangio - Comunità di Supporto all'Agricoltura
DESCRIPTION:
URL:https://www.ciochevale.it/evento/consegna-panieri-per-soci-ciochemangio-comunita-di-supporto-allagricoltura-15/
LOCATION:Garden Le Serre\, via Bogino 14a\, Chieri\, Italia
CATEGORIES:Cibo, Comunità e Salute,CioCheMangio
ATTACH;FMTTYPE=image/jpeg:https://www.ciochevale.it/wp-content/uploads/2023/09/Logo-CioCheMangio.jpeg
ORGANIZER;CN="Associazione CioCheVale":MAILTO:associazione.ciochevale@gmail.com
END:VEVENT
BEGIN:VEVENT
DTSTART;TZID=Europe/Paris:20231010T173000
DTEND;TZID=Europe/Paris:20231010T190000
DTSTAMP:20260420T183357
CREATED:20230906T064231Z
LAST-MODIFIED:20230906T222914Z
UID:5087-1696959000-1696964400@www.ciochevale.it
SUMMARY:Consegna Panieri per soci CioCheMangio - Comunità di Supporto all'Agricoltura
DESCRIPTION:
URL:https://www.ciochevale.it/evento/consegna-panieri-per-soci-ciochemangio-comunita-di-supporto-allagricoltura-16/
LOCATION:Garden Le Serre\, via Bogino 14a\, Chieri\, Italia
CATEGORIES:Cibo, Comunità e Salute,CioCheMangio
ATTACH;FMTTYPE=image/jpeg:https://www.ciochevale.it/wp-content/uploads/2023/09/Logo-CioCheMangio.jpeg
ORGANIZER;CN="Associazione CioCheVale":MAILTO:associazione.ciochevale@gmail.com
END:VEVENT
BEGIN:VEVENT
DTSTART;TZID=Europe/Paris:20231012T203000
DTEND;TZID=Europe/Paris:20231012T223000
DTSTAMP:20260420T183357
CREATED:20231031T222114Z
LAST-MODIFIED:20231031T222232Z
UID:5160-1697142600-1697149800@www.ciochevale.it
SUMMARY:Riunione dei 32 Sindaci di Pistaaa: La Blue Way Piemontese
DESCRIPTION:
URL:https://www.ciochevale.it/evento/riunione-dei-32-sindaci-di-pistaaa-la-blue-way-piemontese/
LOCATION:Castello di Montaldo
CATEGORIES:MaB UNESCO,Pistaaa,Riunione
ATTACH;FMTTYPE=image/jpeg:https://www.ciochevale.it/wp-content/uploads/2022/02/pistaaa-1.jpg
ORGANIZER;CN="Associazione CioCheVale":MAILTO:associazione.ciochevale@gmail.com
END:VEVENT
BEGIN:VEVENT
DTSTART;TZID=Europe/Paris:20231021T100000
DTEND;TZID=Europe/Paris:20231021T130000
DTSTAMP:20260420T183357
CREATED:20231101T215907Z
LAST-MODIFIED:20231101T220504Z
UID:5238-1697882400-1697893200@www.ciochevale.it
SUMMARY:Biciclettata lungo le "Strade di Colori e di Sapori" e di "Pistaaa: La Blue Way Piemontese"
DESCRIPTION:
URL:https://www.ciochevale.it/evento/biciclettata-lungo-le-strade-dei-colori-e-dei-sapori-di-pistaaa/
LOCATION:Piazza Cavour Chieri
CATEGORIES:Biciclettata,Eventi,MaB UNESCO,Pistaaa
ATTACH;FMTTYPE=image/jpeg:https://www.ciochevale.it/wp-content/uploads/2023/11/WhatsApp-Image-2023-11-01-at-22.58.21.jpeg
ORGANIZER;CN="Associazione CioCheVale":MAILTO:associazione.ciochevale@gmail.com
END:VEVENT
BEGIN:VEVENT
DTSTART;TZID=Europe/Paris:20231022T093000
DTEND;TZID=Europe/Paris:20231022T123000
DTSTAMP:20260420T183357
CREATED:20231031T220239Z
LAST-MODIFIED:20231031T220239Z
UID:5149-1697967000-1697977800@www.ciochevale.it
SUMMARY:Biciclettata Festa del Bollito Montaldo torinese
DESCRIPTION:
URL:https://www.ciochevale.it/evento/biciclettata-festa-del-bollito-montaldo-torinese/
LOCATION:Comune Montaldo
CATEGORIES:Biciclettata,Eventi,Pistaaa
ATTACH;FMTTYPE=image/jpeg:https://www.ciochevale.it/wp-content/uploads/2023/10/WhatsApp-Image-2023-10-04-at-22.36.27.jpeg
ORGANIZER;CN="Associazione CioCheVale":MAILTO:associazione.ciochevale@gmail.com
END:VEVENT
BEGIN:VEVENT
DTSTART;TZID=Europe/Paris:20231022T140000
DTEND;TZID=Europe/Paris:20231022T180000
DTSTAMP:20260420T183357
CREATED:20231031T224326Z
LAST-MODIFIED:20231031T224443Z
UID:5177-1697983200-1697997600@www.ciochevale.it
SUMMARY:Bike Pride Torino
DESCRIPTION:
URL:https://www.ciochevale.it/evento/bike-pride-torino/
CATEGORIES:Biciclettata,Eventi
ATTACH;FMTTYPE=image/jpeg:https://www.ciochevale.it/wp-content/uploads/2023/10/WhatsApp-Image-2023-10-18-at-11.13.50.jpeg
END:VEVENT
BEGIN:VEVENT
DTSTART;TZID=Europe/Paris:20231024T173000
DTEND;TZID=Europe/Paris:20231024T190000
DTSTAMP:20260420T183357
CREATED:20230906T133653Z
LAST-MODIFIED:20230906T222820Z
UID:5092-1698168600-1698174000@www.ciochevale.it
SUMMARY:Consegna Panieri per soci CioCheMangio - Comunità di Supporto all'Agricoltura
DESCRIPTION:
URL:https://www.ciochevale.it/evento/consegna-panieri-per-soci-ciochemangio-comunita-di-supporto-allagricoltura-17/
LOCATION:Garden Le Serre\, via Bogino 14a\, Chieri\, Italia
CATEGORIES:Cibo, Comunità e Salute,CioCheMangio
ATTACH;FMTTYPE=image/jpeg:https://www.ciochevale.it/wp-content/uploads/2023/09/Logo-CioCheMangio.jpeg
ORGANIZER;CN="Associazione CioCheVale":MAILTO:associazione.ciochevale@gmail.com
END:VEVENT
BEGIN:VEVENT
DTSTART;VALUE=DATE:20231025
DTEND;VALUE=DATE:20231026
DTSTAMP:20260420T183357
CREATED:20231031T222740Z
LAST-MODIFIED:20231101T165618Z
UID:5164-1698192000-1698278399@www.ciochevale.it
SUMMARY:Premiazione del Progetto Pistaaa: La Blue Way Piemontese da parte dell'ANCI a Genova
DESCRIPTION:
URL:https://www.ciochevale.it/evento/premiazione-del-progetto-pistaaa-la-blue-way-piemontese-da-parte-dellanci-a-genova/
CATEGORIES:Eventi,Pistaaa
ATTACH;FMTTYPE=image/jpeg:https://www.ciochevale.it/wp-content/uploads/2023/10/WhatsApp-Image-2023-10-25-at-22.46.46.jpeg
END:VEVENT
BEGIN:VEVENT
DTSTART;TZID=Europe/Paris:20231028T170000
DTEND;TZID=Europe/Paris:20231028T193000
DTSTAMP:20260420T183357
CREATED:20231031T223346Z
LAST-MODIFIED:20231031T224123Z
UID:5169-1698512400-1698521400@www.ciochevale.it
SUMMARY:Living Library
DESCRIPTION:
URL:https://www.ciochevale.it/evento/living-library/
LOCATION:Biblioteca di Chieri
CATEGORIES:Eventi
ATTACH;FMTTYPE=image/jpeg:https://www.ciochevale.it/wp-content/uploads/2023/10/WhatsApp-Image-2023-10-26-at-14.01.33.jpeg
END:VEVENT
END:VCALENDAR