BEGIN:VCALENDAR
VERSION:2.0
PRODID:-//CioCheVale APS - ECPv6.15.20//NONSGML v1.0//EN
CALSCALE:GREGORIAN
METHOD:PUBLISH
X-ORIGINAL-URL:https://www.ciochevale.it
X-WR-CALDESC:Eventi per CioCheVale APS
REFRESH-INTERVAL;VALUE=DURATION:PT1H
X-Robots-Tag:noindex
X-PUBLISHED-TTL:PT1H
BEGIN:VTIMEZONE
TZID:Europe/Paris
BEGIN:DAYLIGHT
TZOFFSETFROM:+0100
TZOFFSETTO:+0200
TZNAME:CEST
DTSTART:20220327T010000
END:DAYLIGHT
BEGIN:STANDARD
TZOFFSETFROM:+0200
TZOFFSETTO:+0100
TZNAME:CET
DTSTART:20221030T010000
END:STANDARD
BEGIN:DAYLIGHT
TZOFFSETFROM:+0100
TZOFFSETTO:+0200
TZNAME:CEST
DTSTART:20230326T010000
END:DAYLIGHT
BEGIN:STANDARD
TZOFFSETFROM:+0200
TZOFFSETTO:+0100
TZNAME:CET
DTSTART:20231029T010000
END:STANDARD
BEGIN:DAYLIGHT
TZOFFSETFROM:+0100
TZOFFSETTO:+0200
TZNAME:CEST
DTSTART:20240331T010000
END:DAYLIGHT
BEGIN:STANDARD
TZOFFSETFROM:+0200
TZOFFSETTO:+0100
TZNAME:CET
DTSTART:20241027T010000
END:STANDARD
END:VTIMEZONE
BEGIN:VEVENT
DTSTART;TZID=Europe/Paris:20230314T170000
DTEND;TZID=Europe/Paris:20230314T190000
DTSTAMP:20260421T031535
CREATED:20230313T215407Z
LAST-MODIFIED:20240115T212624Z
UID:4832-1678813200-1678820400@www.ciochevale.it
SUMMARY:Consegna Panieri per soci CioCheMangio - Comunità di Supporto all'Agricoltura
DESCRIPTION:Cari soci\,\nvogliamo ricordarvi che domani tra le 17 e le 19 ci sarà la consegna del vostro paniere presso Il Garden-Le Serre.\nI prodotti che vi attendono sono:\n-ravanelli\n-spinaci\n-broccoletti\n-cime di rapa\n-verza\n-patate\n-truset \nhttps://www.avogel.it/Social_News/Ricette/insalata-spinaci.php \n\nBroccoli e patate al forno \n\nP. S. Se avete delle ricette che vi piacerebbe condividere inviatecele!
URL:https://www.ciochevale.it/evento/consegna-panieri-per-soci-ciochemangio-comunita-di-supporto-allagricoltura/
LOCATION:Garden Le Serre\, via Bogino 14a\, Chieri\, Italia
CATEGORIES:CioCheMangio
ATTACH;FMTTYPE=image/jpeg:https://www.ciochevale.it/wp-content/uploads/2022/02/csa-8-e1678744765176.jpg
ORGANIZER;CN="Associazione CioCheVale":MAILTO:associazione.ciochevale@gmail.com
END:VEVENT
BEGIN:VEVENT
DTSTART;TZID=Europe/Paris:20230314T183000
DTEND;TZID=Europe/Paris:20230314T200000
DTSTAMP:20260421T031535
CREATED:20230313T223428Z
LAST-MODIFIED:20240115T212617Z
UID:4842-1678818600-1678824000@www.ciochevale.it
SUMMARY:Riunione con agenzia Pubblicitaria ArcaStudio
DESCRIPTION:Proposta per studio Logo di CioCheMangio in base alle suggestioni dei soci
URL:https://www.ciochevale.it/evento/riunione-con-agenzia-pubblicitaria-arcastudio/
LOCATION:ArcaStudio\, Lungo Dora Pietro Colletta 131\, Torino\, Italia
CATEGORIES:Cibo, Comunità e Salute,CioCheMangio,Riunione
ATTACH;FMTTYPE=image/jpeg:https://www.ciochevale.it/wp-content/uploads/2020/05/arcastudio.jpeg
ORGANIZER;CN="Associazione CioCheVale":MAILTO:associazione.ciochevale@gmail.com
END:VEVENT
BEGIN:VEVENT
DTSTART;TZID=Europe/Paris:20230315T134500
DTEND;TZID=Europe/Paris:20230315T154500
DTSTAMP:20260421T031535
CREATED:20230313T222433Z
LAST-MODIFIED:20240115T212612Z
UID:4838-1678887900-1678895100@www.ciochevale.it
SUMMARY:Corso per Bilancio Enti del Terzo Settore
DESCRIPTION:
URL:https://www.ciochevale.it/evento/corso-per-bilancio-enti-del-terzo-settore/
LOCATION:Volto Volontariato Torino ETS\, via Giolitti 21\, Torino\, Italia
CATEGORIES:Corso
ATTACH;FMTTYPE=image/png:https://www.ciochevale.it/wp-content/uploads/2023/03/volto.png
END:VEVENT
BEGIN:VEVENT
DTSTART;TZID=Europe/Paris:20230315T211500
DTEND;TZID=Europe/Paris:20230315T230000
DTSTAMP:20260421T031535
CREATED:20230309T111252Z
LAST-MODIFIED:20240115T212606Z
UID:4808-1678914900-1678921200@www.ciochevale.it
SUMMARY:Riunione per MaB UNESCO
DESCRIPTION:Raccolta progetti per valorizzare la Riserva MaB UNESCO Collina Po\, definizione delle strategie di partecipazione
URL:https://www.ciochevale.it/evento/riunione-per-mab-unesco/
LOCATION:Casa del Popolo\, via Avezzana 24\, Chieri\, Italia
CATEGORIES:MaB UNESCO,PicchioVerde,Riunione
ATTACH;FMTTYPE=image/jpeg:https://www.ciochevale.it/wp-content/uploads/2023/03/mombello.jpg
END:VEVENT
BEGIN:VEVENT
DTSTART;TZID=Europe/Paris:20230317T163000
DTEND;TZID=Europe/Paris:20230317T180000
DTSTAMP:20260421T031535
CREATED:20230315T084059Z
LAST-MODIFIED:20240115T212601Z
UID:4898-1679070600-1679076000@www.ciochevale.it
SUMMARY:La Salvaguardia Partecipata del Patrimonio Boschivo
DESCRIPTION:Sala Conferenze Palazzo Chiablese Torino ore 16.30
URL:https://www.ciochevale.it/evento/la-salvaguardia-partecipata-del-patrimonio-boschivo/
CATEGORIES:Conferenza,Pistaaa
ATTACH;FMTTYPE=image/jpeg:https://www.ciochevale.it/wp-content/uploads/2023/03/WhatsApp-Image-2023-03-15-at-00.24.52.jpeg
END:VEVENT
BEGIN:VEVENT
DTSTART;TZID=Europe/Paris:20230321T080000
DTEND;TZID=Europe/Paris:20230321T080000
DTSTAMP:20260421T031535
CREATED:20230314T101313Z
LAST-MODIFIED:20240115T212556Z
UID:4886-1679385600-1679385600@www.ciochevale.it
SUMMARY:FlashMob Globale: "Mano nella Mano contro tutte le Mostruosità create dall'uomo"
DESCRIPTION:“L’essere umano ha un potere distruttivo illimitato e sta portando il mondo alla catastrofe.\nUniti mano nella mano\, avviamo il cammino di una nuova umanità.\nFLASHMOB GLOBALE IL 21 MARZO 2023”\nMichelangelo Pistoletto\, 21.12.2022 \nNell’anno 2012\, in risposta alla credenza popolare che il 21 dicembre sarebbe stato\nl’ultimo giorno della terra attribuendone la “colpa” ai Maya e al loro calendario\,\nMichelangelo Pistoletto istituì una call for Artist che le contrapponeva un messaggio di rinascita e rigenerazione responsabile della nostra società.\nNasceva così\, il 21.12.2012\, il Rebirth-day\, il giorno della rinascita\, una festa collettiva che unì tutto il mondo in più di cento interventi artistici tutti raccolti in un video-racconto presentato l’anno successivo al Louvre\, durante la mostra personale di\nMichelangelo Pistoletto Année 1\, Le paradis sur Terre.\nTra gli eventi\, molto significativo il cordone umano da Torino a Susa\, quando 50.000\npersone tenendosi per mano colmarono la distanza di 54 km tra le due località alle\n12 e 21 del 21 12 2012.\n50.000 persone – mano nella mano – una linea unica – per 54 km.\nDieci anni dopo\, il 21 dicembre 2022\, Michelangelo Pistoletto torna a lanciare un\nappello\, una chiamata all’azione.\nUna data\, il 21 marzo 2023\, un’unica azione in tutto il mondo: unirsi mano nella mano.\nTante righe su di un’unica mappa\, un’unica linea virtuale intorno al Pianeta.\nUna partecipazione globale\, contro tutte le mostruosità create dall’uomo.\nTutte\, nessuna esclusa. \n 
URL:https://www.ciochevale.it/evento/flashmob-globale-mano-nella-mano-contro-tutte-le-mostruosita-create-dalluomo/
CATEGORIES:Accademia del Dialogo,CioCheMangio,Eventi
ATTACH;FMTTYPE=image/jpeg:https://www.ciochevale.it/wp-content/uploads/2023/03/WhatsApp-Image-2023-03-14-at-11.06.01.jpeg
ORGANIZER;CN="Associazione CioCheVale":MAILTO:associazione.ciochevale@gmail.com
END:VEVENT
BEGIN:VEVENT
DTSTART;TZID=Europe/Paris:20230321T130000
DTEND;TZID=Europe/Paris:20230321T140000
DTSTAMP:20260421T031535
CREATED:20230314T071423Z
LAST-MODIFIED:20240115T213021Z
UID:4866-1679403600-1679407200@www.ciochevale.it
SUMMARY:Consegna Panieri CioCheMangio ai dipendenti del socio BIGMAT - Comunità di Supporto all'Agricoltura
DESCRIPTION:Se vuoi avere informazioni per regalare i panieri della Comunità di Supporto all’Agricoltura per i tuoi dipendenti: puoi scrivere a info.ciochervale@gmail.com o telefonare al 351 952 1680
URL:https://www.ciochevale.it/evento/consegna-panieri-ciochemangio-ai-dipendenti-del-socio-bigmat-comunita-di-supporto-allagricoltura/
LOCATION:Garden Le Serre\, via Bogino 14a\, Chieri\, Italia
CATEGORIES:Cibo, Comunità e Salute,CioCheMangio
ATTACH;FMTTYPE=image/png:https://www.ciochevale.it/wp-content/uploads/2022/02/csa-e1678778226198.png
ORGANIZER;CN="Associazione CioCheVale":MAILTO:associazione.ciochevale@gmail.com
END:VEVENT
BEGIN:VEVENT
DTSTART;TZID=Europe/Paris:20230321T143000
DTEND;TZID=Europe/Paris:20230321T160000
DTSTAMP:20260421T031535
CREATED:20230321T224922Z
LAST-MODIFIED:20240115T213016Z
UID:4921-1679409000-1679414400@www.ciochevale.it
SUMMARY:Comunicazione per il non profit: sensibilizzare e coinvolgere
DESCRIPTION:Webinar con Wishraiser
URL:https://www.ciochevale.it/evento/comunicazione-per-il-non-profit-sensibilizzare-e-coinvolgere/
CATEGORIES:Corso,Riunione
ATTACH;FMTTYPE=image/png:https://www.ciochevale.it/wp-content/uploads/2023/03/wishraiser.png
ORGANIZER;CN="Associazione CioCheVale":MAILTO:associazione.ciochevale@gmail.com
END:VEVENT
BEGIN:VEVENT
DTSTART;TZID=Europe/Paris:20230322T140000
DTEND;TZID=Europe/Paris:20230322T180000
DTSTAMP:20260421T031535
CREATED:20230321T224335Z
LAST-MODIFIED:20240115T213011Z
UID:4919-1679493600-1679508000@www.ciochevale.it
SUMMARY:Riunione per revisione Statuto
DESCRIPTION:Revisione Statuto CioCheVale per attività di interesse generale in base Legge del Terzo Settore con esperti di Volto
URL:https://www.ciochevale.it/evento/riunione-per-revisione-statuto/
CATEGORIES:Corso,Riunione
ATTACH;FMTTYPE=image/png:https://www.ciochevale.it/wp-content/uploads/2023/03/volto.png
ORGANIZER;CN="Associazione CioCheVale":MAILTO:associazione.ciochevale@gmail.com
END:VEVENT
BEGIN:VEVENT
DTSTART;TZID=Europe/Paris:20230323T173000
DTEND;TZID=Europe/Paris:20230323T190000
DTSTAMP:20260421T031535
CREATED:20230321T230037Z
LAST-MODIFIED:20240115T213006Z
UID:4925-1679592600-1679598000@www.ciochevale.it
SUMMARY:Riunione Biciplan Città Metropolitana
DESCRIPTION:la Città  metropolitana di Torino incontrerà amministratori e tecnici comunali insieme alle associazioni del territorio giovedi 23 marzo alle ore 17.30 a Chieri in Sala della Conceria per completare il quadro conoscitivo e la definizione partecipata della rete di corridoi ciclabili metropolitani. Al centro degli incontri normativa\, indirizzi\, possibilità  di finanziamento e primo quadro conoscitivo del Biciplan metropolitano. CioCheVale sarà presente con il progetto “Pistaaa: La Blue Way Piemontese”
URL:https://www.ciochevale.it/evento/riunione-biciplan-citta-metropolitana/
LOCATION:Sala Conceria\, via Conceria n. 2\, CHIERI\, ITALY\, 10023\, Italia
CATEGORIES:Pistaaa,Riunione
ATTACH;FMTTYPE=image/jpeg:https://www.ciochevale.it/wp-content/uploads/2023/03/BICIPAN_METROPOLITANO_page-0001.jpg
END:VEVENT
BEGIN:VEVENT
DTSTART;TZID=Europe/Paris:20230325T093000
DTEND;TZID=Europe/Paris:20230325T130000
DTSTAMP:20260421T031535
CREATED:20230321T195957Z
LAST-MODIFIED:20240115T213000Z
UID:4914-1679736600-1679749200@www.ciochevale.it
SUMMARY:Conosciamo la "cover crop" nella produzione integrata delle Orticole
DESCRIPTION:Passeggiata per i campi dell’Azienda Agricola “Massarone” (socia di CioCheVale) e le colline circostanti con il titolare Luca Roffinella.\nSarà un’occasione per conoscere le “cover crop”\, colture di copertura che vengono inserite nella successione colturale a sostegno delle colture principali apportando benefici agronomici e ambientali \nAzienda Agricola Massarone \nvia San Martino\, 2\, 14014 Montafia AT\ncell 347 066 7024\nhttps://maps.app.goo.gl/eaypL2rvTgBtAydK7
URL:https://www.ciochevale.it/evento/conosciamo-la-cover-crop-nella-produzione-integrata-delle-orticole/
LOCATION:Azienda Agricola Massarone\, via San Martino\, 2\, 14014\, Montafia AT\, Italia
CATEGORIES:Cibo, Comunità e Salute,CioCheMangio,Eventi
ATTACH;FMTTYPE=image/jpeg:https://www.ciochevale.it/wp-content/uploads/2023/03/WhatsApp-Image-2023-03-20-at-12.36.09-1.jpeg
ORGANIZER;CN="Associazione CioCheVale":MAILTO:associazione.ciochevale@gmail.com
END:VEVENT
BEGIN:VEVENT
DTSTART;TZID=Europe/Paris:20230327T100000
DTEND;TZID=Europe/Paris:20230327T123000
DTSTAMP:20260421T031535
CREATED:20230321T230639Z
LAST-MODIFIED:20240115T212954Z
UID:4931-1679911200-1679920200@www.ciochevale.it
SUMMARY:Riunione Pistaaa e BiciPlan con Assessore Turismo e Ambiente di Chieri
DESCRIPTION:
URL:https://www.ciochevale.it/evento/riunione-pistaaa-e-biciplan-con-assessore-turismo-e-ambiente-di-chieri/
LOCATION:Sala Consiliare Chieri\, Chieri\, Italia
CATEGORIES:Pistaaa,Riunione
ATTACH;FMTTYPE=image/jpeg:https://www.ciochevale.it/wp-content/uploads/2022/02/pistaaa-1.jpg
END:VEVENT
BEGIN:VEVENT
DTSTART;TZID=Europe/Paris:20230328T113000
DTEND;TZID=Europe/Paris:20230328T130000
DTSTAMP:20260421T031535
CREATED:20230315T082654Z
LAST-MODIFIED:20240115T212948Z
UID:4896-1680003000-1680008400@www.ciochevale.it
SUMMARY:Riunione Comune La Loggia per Pistaaa
DESCRIPTION:Mauro G. Marino \nUfficio Istruzione Cultura e Sport \nComune di La Loggia \nVia Bistolfi 20 \n10040  La Loggia  TO \nTel. 011 9658107
URL:https://www.ciochevale.it/evento/riunione-comune-la-loggia-per-pistaaa/
CATEGORIES:Pistaaa,Riunione
ATTACH;FMTTYPE=image/jpeg:https://www.ciochevale.it/wp-content/uploads/2022/02/pistaaa-1.jpg
ORGANIZER;CN="Associazione CioCheVale":MAILTO:associazione.ciochevale@gmail.com
END:VEVENT
BEGIN:VEVENT
DTSTART;TZID=Europe/Paris:20230328T170000
DTEND;TZID=Europe/Paris:20230328T190000
DTSTAMP:20260421T031535
CREATED:20230314T064919Z
LAST-MODIFIED:20240115T212941Z
UID:4846-1680022800-1680030000@www.ciochevale.it
SUMMARY:Consegna Panieri per soci CioCheMangio - Comunità di Supporto all'Agricoltura
DESCRIPTION:
URL:https://www.ciochevale.it/evento/consegna-panieri-per-soci-ciochemangio-comunita-di-supporto-allagricoltura-2/
LOCATION:Garden Le Serre\, via Bogino 14a\, Chieri\, Italia
CATEGORIES:Cibo, Comunità e Salute,CioCheMangio
ATTACH;FMTTYPE=image/jpeg:https://www.ciochevale.it/wp-content/uploads/2022/04/slider-home-mobile-csa.jpg
ORGANIZER;CN="Associazione CioCheVale":MAILTO:associazione.ciochevale@gmail.com
END:VEVENT
BEGIN:VEVENT
DTSTART;TZID=Europe/Paris:20230329T160000
DTEND;TZID=Europe/Paris:20230329T180000
DTSTAMP:20260421T031535
CREATED:20230329T062128Z
LAST-MODIFIED:20240115T212935Z
UID:4978-1680105600-1680112800@www.ciochevale.it
SUMMARY:Strada dei vini Astesana  - Enoteca Regionale di Albugnano
DESCRIPTION:
URL:https://www.ciochevale.it/evento/monsterrato-enoteca-regionale-di-albugnano/
CATEGORIES:Pistaaa,Riunione
ATTACH;FMTTYPE=image/png:https://www.ciochevale.it/wp-content/uploads/2023/03/enoteca-Albugnano.png
END:VEVENT
BEGIN:VEVENT
DTSTART;TZID=Europe/Paris:20230331T103000
DTEND;TZID=Europe/Paris:20230331T130000
DTSTAMP:20260421T031535
CREATED:20230329T185434Z
LAST-MODIFIED:20240115T212928Z
UID:4989-1680258600-1680267600@www.ciochevale.it
SUMMARY:Presentazione Progetto Enoteca di Albugnano
DESCRIPTION:
URL:https://www.ciochevale.it/evento/presentazione-progetto-enoteca-di-albugnano/
LOCATION:Enoteca Regionale di Albugnano
ATTACH;FMTTYPE=image/png:https://www.ciochevale.it/wp-content/uploads/2023/03/enoteca-Albugnano.png
END:VEVENT
END:VCALENDAR