BEGIN:VCALENDAR
VERSION:2.0
PRODID:-//CioCheVale APS - ECPv6.15.20//NONSGML v1.0//EN
CALSCALE:GREGORIAN
METHOD:PUBLISH
X-WR-CALNAME:CioCheVale APS
X-ORIGINAL-URL:https://www.ciochevale.it
X-WR-CALDESC:Eventi per CioCheVale APS
REFRESH-INTERVAL;VALUE=DURATION:PT1H
X-Robots-Tag:noindex
X-PUBLISHED-TTL:PT1H
BEGIN:VTIMEZONE
TZID:Europe/Paris
BEGIN:DAYLIGHT
TZOFFSETFROM:+0100
TZOFFSETTO:+0200
TZNAME:CEST
DTSTART:20210328T010000
END:DAYLIGHT
BEGIN:STANDARD
TZOFFSETFROM:+0200
TZOFFSETTO:+0100
TZNAME:CET
DTSTART:20211031T010000
END:STANDARD
BEGIN:DAYLIGHT
TZOFFSETFROM:+0100
TZOFFSETTO:+0200
TZNAME:CEST
DTSTART:20220327T010000
END:DAYLIGHT
BEGIN:STANDARD
TZOFFSETFROM:+0200
TZOFFSETTO:+0100
TZNAME:CET
DTSTART:20221030T010000
END:STANDARD
BEGIN:DAYLIGHT
TZOFFSETFROM:+0100
TZOFFSETTO:+0200
TZNAME:CEST
DTSTART:20230326T010000
END:DAYLIGHT
BEGIN:STANDARD
TZOFFSETFROM:+0200
TZOFFSETTO:+0100
TZNAME:CET
DTSTART:20231029T010000
END:STANDARD
END:VTIMEZONE
BEGIN:VEVENT
DTSTART;TZID=Europe/Paris:20220918T093000
DTEND;TZID=Europe/Paris:20220918T120000
DTSTAMP:20260421T110417
CREATED:20240912T084831Z
LAST-MODIFIED:20240912T130142Z
UID:5825-1663493400-1663502400@www.ciochevale.it
SUMMARY:Montaldo Green Festival: "Vivere non Esistere"
DESCRIPTION:
URL:https://www.ciochevale.it/evento/montaldo-green-festival-vivere-non-esistere/
CATEGORIES:Cibo, Comunità e Salute,CioCheMangio
ATTACH;FMTTYPE=image/jpeg:https://www.ciochevale.it/wp-content/uploads/2024/09/WhatsApp-Image-2024-09-12-at-10.32.38-1.jpeg
END:VEVENT
END:VCALENDAR