BEGIN:VCALENDAR
VERSION:2.0
PRODID:-//CioCheVale APS - ECPv6.15.20//NONSGML v1.0//EN
CALSCALE:GREGORIAN
METHOD:PUBLISH
X-ORIGINAL-URL:https://www.ciochevale.it
X-WR-CALDESC:Eventi per CioCheVale APS
REFRESH-INTERVAL;VALUE=DURATION:PT1H
X-Robots-Tag:noindex
X-PUBLISHED-TTL:PT1H
BEGIN:VTIMEZONE
TZID:Europe/Paris
BEGIN:DAYLIGHT
TZOFFSETFROM:+0100
TZOFFSETTO:+0200
TZNAME:CEST
DTSTART:20190331T010000
END:DAYLIGHT
BEGIN:STANDARD
TZOFFSETFROM:+0200
TZOFFSETTO:+0100
TZNAME:CET
DTSTART:20191027T010000
END:STANDARD
BEGIN:DAYLIGHT
TZOFFSETFROM:+0100
TZOFFSETTO:+0200
TZNAME:CEST
DTSTART:20200329T010000
END:DAYLIGHT
BEGIN:STANDARD
TZOFFSETFROM:+0200
TZOFFSETTO:+0100
TZNAME:CET
DTSTART:20201025T010000
END:STANDARD
BEGIN:DAYLIGHT
TZOFFSETFROM:+0100
TZOFFSETTO:+0200
TZNAME:CEST
DTSTART:20210328T010000
END:DAYLIGHT
BEGIN:STANDARD
TZOFFSETFROM:+0200
TZOFFSETTO:+0100
TZNAME:CET
DTSTART:20211031T010000
END:STANDARD
END:VTIMEZONE
BEGIN:VEVENT
DTSTART;TZID=Europe/Paris:20201203T220000
DTEND;TZID=Europe/Paris:20201203T230000
DTSTAMP:20260422T152342
CREATED:20201112T200352Z
LAST-MODIFIED:20240115T212258Z
UID:2811-1607032800-1607036400@www.ciochevale.it
SUMMARY:Ricicla\, riusa e ripara: LA CICLOFFICINA DI CHIERI - L’ARTE DI RIPARARE
DESCRIPTION:CioCheVale Pausa Caffè: LA CICLOFFICINA DI CHIERI – L’ARTE DI RIPARARE \nRicicla\, riusa e ripara\nLA CICLOFFICINA DI CHIERI\nIl team della Ciclofficina\nL’ARTE DI RIPARARE\nLuca Bonventre \nRiparare un oggetto diminuisce l’uso di risorse naturali ed energetiche\, riduce l’inquinamento e il degrado del capitale naturale \nSeguila dalla nostra pagina Facebook https://www.facebook.com/chieriwebtv/(il video diretta partirà all’ora di inizio dell’evento).
URL:https://www.ciochevale.it/evento/ricicla-riusa-e-ripara-la-ciclofficina-di-chieri-larte-di-riparare/
CATEGORIES:CioCheVale Pausa Caffè,Palinsesto
ATTACH;FMTTYPE=image/jpeg:https://www.ciochevale.it/wp-content/uploads/2020/11/Iconcina-Pausa-Caffe.jpeg
ORGANIZER;CN="Associazione CioCheVale":MAILTO:associazione.ciochevale@gmail.com
END:VEVENT
BEGIN:VEVENT
DTSTART;TZID=Europe/Paris:20201210T220000
DTEND;TZID=Europe/Paris:20201210T223000
DTSTAMP:20260422T152342
CREATED:20201115T200651Z
LAST-MODIFIED:20240115T212243Z
UID:2818-1607637600-1607639400@www.ciochevale.it
SUMMARY:Turismo della Collina: Coniugare il Mondo della Cultura e quello del Turismo
DESCRIPTION:Picchioverde: Coniugare il Mondo della Cultura e quello del Turismo \nDaniela Parena intervista Monica Gilli\, Docente di Sociologia del Turismo\, Corso di studio del Dipartimento di Culture\, Politica e Società\, Università di Torino. \nUn viaggio è la relazione che il turista instaura con i luoghi\, la storia\, la cultura\, l’identità e la vita di una comunità allo scopo di conoscerne stili di vita\, eredità culturali ed artistiche. \nSeguila dalla nostra pagina Facebook https://www.facebook.com/chieriwebtv/(il video diretta partirà all’ora di inizio dell’evento).
URL:https://www.ciochevale.it/evento/turismo-della-collina-coniugare-il-mondo-della-cultura-e-quello-del-turismo/
CATEGORIES:Palinsesto,Picchioverde
ATTACH;FMTTYPE=image/jpeg:https://www.ciochevale.it/wp-content/uploads/2020/11/Iconcina-Picchioverde.jpeg
ORGANIZER;CN="Associazione CioCheVale":MAILTO:associazione.ciochevale@gmail.com
END:VEVENT
BEGIN:VEVENT
DTSTART;TZID=Europe/Paris:20201213T163000
DTEND;TZID=Europe/Paris:20201213T163000
DTSTAMP:20260422T152342
CREATED:20201213T103757Z
LAST-MODIFIED:20240115T154109Z
UID:2861-1607877000-1607877000@www.ciochevale.it
SUMMARY:Inaugurazione di Fiocchi sopra le Stelle: Natale a Chieri
DESCRIPTION:
URL:https://www.ciochevale.it/evento/inaugurazione-di-fiocchi-sopra-le-stelle-natale-a-chieri/
CATEGORIES:Divertiamoci,Palinsesto
ATTACH;FMTTYPE=image/jpeg:https://www.ciochevale.it/wp-content/uploads/2020/12/fiocchi.jpg
ORGANIZER;CN="Associazione CioCheVale":MAILTO:associazione.ciochevale@gmail.com
END:VEVENT
BEGIN:VEVENT
DTSTART;TZID=Europe/Paris:20201215T220000
DTEND;TZID=Europe/Paris:20201215T230000
DTSTAMP:20260422T152342
CREATED:20201210T100814Z
LAST-MODIFIED:20240115T212805Z
UID:2854-1608069600-1608073200@www.ciochevale.it
SUMMARY:Due Punti Festival - Salti di specie : la prospettiva ONE HEALTH toccata con mano
DESCRIPTION:Due Punti Festival Università di Torino – Salti di specie : la prospettiva ONE HEALTH toccata con mano\nProf. Sergio Rosati\, immunologo\nRiconoscimento del legame indissolubile tra salute umana\, animale e salute dell’ecosistema \n 
URL:https://www.ciochevale.it/evento/due-punti-festival-salti-di-specie-la-prospettiva-one-health-toccata-con-mano/
CATEGORIES:Accademia del Dialogo,Palinsesto
ATTACH;FMTTYPE=image/jpeg:https://www.ciochevale.it/wp-content/uploads/2020/11/Iconcina-Accademia-Dialogo-1.jpeg
ORGANIZER;CN="Associazione CioCheVale":MAILTO:associazione.ciochevale@gmail.com
END:VEVENT
BEGIN:VEVENT
DTSTART;TZID=Europe/Paris:20201217T220000
DTEND;TZID=Europe/Paris:20201217T230000
DTSTAMP:20260422T152342
CREATED:20201123T140444Z
LAST-MODIFIED:20240115T212754Z
UID:2831-1608242400-1608246000@www.ciochevale.it
SUMMARY:Econonomia solidale: La comunità incontra l'agricoltura
DESCRIPTION:Cibo Comunità Salute: ECONOMIA SOLIDALE Esperienze raccontate dai protagonisti \nLa comunità incontra l’agricoltura\nEsperienze raccontate dai protagonisti \nSeguila dalla nostra pagina Facebook https://www.facebook.com/chieriwebtv/(il video diretta partirà all’ora di inizio dell’evento).
URL:https://www.ciochevale.it/evento/econonomia-solidale-la-comunita-incontra-lagricoltura/
CATEGORIES:Cibo, Comunità e Salute,Palinsesto
ATTACH;FMTTYPE=image/jpeg:https://www.ciochevale.it/wp-content/uploads/2020/11/Iconcina-Cibo-Comunita-Salute-1.jpeg
ORGANIZER;CN="Associazione CioCheVale":MAILTO:associazione.ciochevale@gmail.com
END:VEVENT
BEGIN:VEVENT
DTSTART;TZID=Europe/Paris:20201220T160000
DTEND;TZID=Europe/Paris:20201220T210000
DTSTAMP:20260422T152342
CREATED:20201213T105248Z
LAST-MODIFIED:20240115T212748Z
UID:2866-1608480000-1608498000@www.ciochevale.it
SUMMARY:Fiocchi sopra le Stelle: Natale a Chieri con i Drum Theatre
DESCRIPTION:Fiocchi sopra le Stelle: Natale a Chieri con i Drum Theatre e tanti altri appuntamenti \nSeguila dalla nostra pagina Facebook https://www.facebook.com/chieriwebtv/(il video diretta partirà all’ora di inizio dell’evento). \noppure da  https://www.mixcloud.com/live/FiocchiSopraleStelle/
URL:https://www.ciochevale.it/evento/fiocchi-sopra-le-stelle-natale-a-chieri-con-i-drum-theatre/
CATEGORIES:Divertiamoci,Palinsesto
ATTACH;FMTTYPE=image/jpeg:https://www.ciochevale.it/wp-content/uploads/2020/12/131099207_3049290551838082_2997637198854581540_n.jpg
ORGANIZER;CN="Associazione CioCheVale":MAILTO:associazione.ciochevale@gmail.com
END:VEVENT
BEGIN:VEVENT
DTSTART;TZID=Europe/Paris:20201229T220000
DTEND;TZID=Europe/Paris:20201229T230000
DTSTAMP:20260422T152342
CREATED:20201210T064737Z
LAST-MODIFIED:20240115T212743Z
UID:2838-1609279200-1609282800@www.ciochevale.it
SUMMARY:Le Città del nostro tempo. Fenomenologia urbana tra potere\, cultura e società
DESCRIPTION:Accademia del Dialogo: Le Città del nostro tempo. Fenomenologia urbana tra potere\, cultura e societàONOMIA SOLIDALE Esperienze raccontate dai protagonisti \ncon Giorgio Scialla\, Docente di Letteratura Italiana\nParlare della “città” significa entrare in uno dei luoghi più frequentati nel dibattito sulle trasformazioni politiche\, economiche e sociali che investono le\nsocietà di ogni tempo. \nSeguila dalla nostra pagina Facebook https://www.facebook.com/chieriwebtv/(il video diretta partirà all’ora di inizio dell’evento).
URL:https://www.ciochevale.it/evento/le-citta-del-nostro-tempo-fenomenologia-urbana-tra-potere-cultura-e-societa/
CATEGORIES:Accademia del Dialogo,Palinsesto
ATTACH;FMTTYPE=image/jpeg:https://www.ciochevale.it/wp-content/uploads/2020/11/Iconcina-Accademia-Dialogo-1.jpeg
END:VEVENT
END:VCALENDAR