BEGIN:VCALENDAR
VERSION:2.0
PRODID:-//CioCheVale APS - ECPv6.15.20//NONSGML v1.0//EN
CALSCALE:GREGORIAN
METHOD:PUBLISH
X-WR-CALNAME:CioCheVale APS
X-ORIGINAL-URL:https://www.ciochevale.it
X-WR-CALDESC:Eventi per CioCheVale APS
REFRESH-INTERVAL;VALUE=DURATION:PT1H
X-Robots-Tag:noindex
X-PUBLISHED-TTL:PT1H
BEGIN:VTIMEZONE
TZID:Europe/Paris
BEGIN:DAYLIGHT
TZOFFSETFROM:+0100
TZOFFSETTO:+0200
TZNAME:CEST
DTSTART:20150329T010000
END:DAYLIGHT
BEGIN:STANDARD
TZOFFSETFROM:+0200
TZOFFSETTO:+0100
TZNAME:CET
DTSTART:20151025T010000
END:STANDARD
BEGIN:DAYLIGHT
TZOFFSETFROM:+0100
TZOFFSETTO:+0200
TZNAME:CEST
DTSTART:20160327T010000
END:DAYLIGHT
BEGIN:STANDARD
TZOFFSETFROM:+0200
TZOFFSETTO:+0100
TZNAME:CET
DTSTART:20161030T010000
END:STANDARD
BEGIN:DAYLIGHT
TZOFFSETFROM:+0100
TZOFFSETTO:+0200
TZNAME:CEST
DTSTART:20170326T010000
END:DAYLIGHT
BEGIN:STANDARD
TZOFFSETFROM:+0200
TZOFFSETTO:+0100
TZNAME:CET
DTSTART:20171029T010000
END:STANDARD
END:VTIMEZONE
BEGIN:VEVENT
DTSTART;VALUE=DATE:20161111
DTEND;VALUE=DATE:20161115
DTSTAMP:20260420T041527
CREATED:20161111T140953Z
LAST-MODIFIED:20161111T141011Z
UID:705-1478826000-1479085199@www.ciochevale.it
SUMMARY:Conferenza: "Agricoltura\, cibo e salute" al S.E.M.I. Festival
DESCRIPTION:S.E.M.I. Festival (Sustainability Environment Main Innovation) è una rassegna espositiva sul tema del CIBO SANO E GENUINO che mette in risalto la catena produttiva dell’agricoltura sostenibile presente sui nostri territori.\nMostre\, incontri\, conferenze\, workshop\, degustazioni\, implementeranno i contributi critici a favore di un’ alimentazione equilibrata e naturale per la revisione di un modello di consumo alimentare orientato allo spreco e alla disuguaglianza alimentare. \nSi svolge dall’11 al 13 novembre 2016 nella splendida Vigevano. \nDa segnalare\, sabato 12 novembre alle ore 15 presso la Sala dell’Affresco del Castello Sforzesco\, ci sarà la conferenza “Agricoltura\, cibo e salute” a cura di Alberto Guggino.
URL:https://www.ciochevale.it/evento/conferenza-agricolturacibo-e-salute-al-s-e-m-i-festival/
LOCATION:Castello Sforzesco\, Piazza Ducale\, 20\, Vigevano\,  27029\, Italia
CATEGORIES:Eventi
END:VEVENT
BEGIN:VEVENT
DTSTART;TZID=Europe/Paris:20161020T101500
DTEND;TZID=Europe/Paris:20161020T190000
DTSTAMP:20260420T041527
CREATED:20161015T130016Z
LAST-MODIFIED:20161015T130510Z
UID:687-1476958500-1476990000@www.ciochevale.it
SUMMARY:La tutela internazionale dei beni culturali come valore sociale ed economico
DESCRIPTION:La tutela internazionale dei beni culturali come valore sociale ed economico: dal divieto di attacco e utilizzo per scopi militari al concetto di attentato contro l’umanità \nOrganizzato dal prof. Pierpaolo Rivello membro del nostro Comitato Scientifico\, insieme al prof. Porro. \n  \nLeggi il Programma dell’evento!
URL:https://www.ciochevale.it/evento/la-tutela-internazionale-dei-beni-culturali-come-valore-sociale-ed-economico/
LOCATION:Aula Magna\, Campus L. Einaudi\, Lungo Dora Siena 100 A\, Torino\, Italia
END:VEVENT
BEGIN:VEVENT
DTSTART;VALUE=DATE:20160924
DTEND;VALUE=DATE:20160927
DTSTAMP:20260420T041527
CREATED:20160905T160706Z
LAST-MODIFIED:20160906T130757Z
UID:589-1474678800-1474851599@www.ciochevale.it
SUMMARY:Sarastus Forum
DESCRIPTION:
URL:https://www.ciochevale.it/evento/sarastus-forum/
LOCATION:Ospedale San Giovanni (antica sede)\, via Cavour 31\, Torino\, 10123\, Italia
CATEGORIES:Eventi
END:VEVENT
BEGIN:VEVENT
DTSTART;TZID=Europe/Paris:20160920T190000
DTEND;TZID=Europe/Paris:20160920T220000
DTSTAMP:20260420T041527
CREATED:20160905T160232Z
LAST-MODIFIED:20160917T162847Z
UID:587-1474398000-1474408800@www.ciochevale.it
SUMMARY:Presentazione del progetto Pistaaa!!!
DESCRIPTION:
URL:https://www.ciochevale.it/evento/presentazione-del-progetto-pistaaa/
LOCATION:Terrazza Martini\, Piazza Luigi Rossi 2\, Pessione - Chieri\, Italia
CATEGORIES:Eventi
END:VEVENT
BEGIN:VEVENT
DTSTART;TZID=Europe/Paris:20160918T163000
DTEND;TZID=Europe/Paris:20160918T180000
DTSTAMP:20260420T041527
CREATED:20160905T155429Z
LAST-MODIFIED:20160906T130843Z
UID:584-1474216200-1474221600@www.ciochevale.it
SUMMARY:Presentazione della rivista Picchioverde
DESCRIPTION:
URL:https://www.ciochevale.it/evento/presentazione-picchioverde/
LOCATION:Cantina Terre dei Santi\, via San Giovanni 6\, Castelnuovo Don Bosco\, Italia
CATEGORIES:Eventi
END:VEVENT
BEGIN:VEVENT
DTSTART;TZID=Europe/Paris:20160422T180000
DTEND;TZID=Europe/Paris:20160422T210000
DTSTAMP:20260420T041527
CREATED:20160427T084312Z
LAST-MODIFIED:20160905T155817Z
UID:166-1461348000-1461358800@www.ciochevale.it
SUMMARY:Tra natura e società
DESCRIPTION:Venerdì 22 aprile sarò ospite all’incontro “TRA NATURA E SOCIETÀ” moderato da Ippolito Ostellino responsabile della Riserva della Biosfera CollinaPo. Un’occasione per conoscere case history selezionati da DEGUCRE’ sulle buone pratiche tra natura\, agricoltura\, paesaggio ed educazione sociale. Vi aspetto! \nVISITA IL SITO WEB DELL’EVENTO \n 
URL:https://www.ciochevale.it/evento/tra-natura-e-societa/
CATEGORIES:Eventi
END:VEVENT
END:VCALENDAR