BEGIN:VCALENDAR
VERSION:2.0
PRODID:-//CioCheVale APS - ECPv6.15.20//NONSGML v1.0//EN
CALSCALE:GREGORIAN
METHOD:PUBLISH
X-WR-CALNAME:CioCheVale APS
X-ORIGINAL-URL:https://www.ciochevale.it
X-WR-CALDESC:Eventi per CioCheVale APS
REFRESH-INTERVAL;VALUE=DURATION:PT1H
X-Robots-Tag:noindex
X-PUBLISHED-TTL:PT1H
BEGIN:VTIMEZONE
TZID:Europe/Paris
BEGIN:DAYLIGHT
TZOFFSETFROM:+0100
TZOFFSETTO:+0200
TZNAME:CEST
DTSTART:20190331T010000
END:DAYLIGHT
BEGIN:STANDARD
TZOFFSETFROM:+0200
TZOFFSETTO:+0100
TZNAME:CET
DTSTART:20191027T010000
END:STANDARD
BEGIN:DAYLIGHT
TZOFFSETFROM:+0100
TZOFFSETTO:+0200
TZNAME:CEST
DTSTART:20200329T010000
END:DAYLIGHT
BEGIN:STANDARD
TZOFFSETFROM:+0200
TZOFFSETTO:+0100
TZNAME:CET
DTSTART:20201025T010000
END:STANDARD
BEGIN:DAYLIGHT
TZOFFSETFROM:+0100
TZOFFSETTO:+0200
TZNAME:CEST
DTSTART:20210328T010000
END:DAYLIGHT
BEGIN:STANDARD
TZOFFSETFROM:+0200
TZOFFSETTO:+0100
TZNAME:CET
DTSTART:20211031T010000
END:STANDARD
END:VTIMEZONE
BEGIN:VEVENT
DTSTART;TZID=Europe/Paris:20200620T180000
DTEND;TZID=Europe/Paris:20200620T183000
DTSTAMP:20260420T065504
CREATED:20200617T080404Z
LAST-MODIFIED:20240115T201804Z
UID:2543-1592676000-1592677800@www.ciochevale.it
SUMMARY:Rilassiamoci con la Riflessologia
DESCRIPTION:Teniamoci in forma: Rilassiamoci con la Riflessologia\nCristiana Scalfi \nQuesto evento è una diretta partecipata\, cliccando sul seguente link\, si accetta la liberatoria: Partecipa su Zoom!  \nOppure\, seguila dalla nostra pagina facebook  https://www.facebook.com/chieriwebtv/  (il video diretta partirà all’ora di inizio dell’evento).
URL:https://www.ciochevale.it/evento/rilassiamoci-con-la-riflessologia/
CATEGORIES:Palinsesto,Teniamoci in forma
ATTACH;FMTTYPE=image/jpeg:https://www.ciochevale.it/wp-content/uploads/2020/05/teniamoci-in-forma.jpg
ORGANIZER;CN="Associazione CioCheVale":MAILTO:associazione.ciochevale@gmail.com
END:VEVENT
BEGIN:VEVENT
DTSTART;TZID=Europe/Paris:20200620T113000
DTEND;TZID=Europe/Paris:20200620T123000
DTSTAMP:20260420T065504
CREATED:20200607T200029Z
LAST-MODIFIED:20240115T201810Z
UID:2478-1592652600-1592656200@www.ciochevale.it
SUMMARY:Replica-Cibo\, Comunità\, Salute: Cibo locale\, sostegno per territorio e comunità
DESCRIPTION:Cibo\, Comunità\, Salute: Cibo locale\, sostegno per territorio e comunità \nAlessandra Savina\, Roberta Lo Muscio\, prof. Luigi Bistagnino – SYDERE Center (Systemic Design Research and Education)\, Federico Chiais \nrivedila sul nostro canale Youtube \n 
URL:https://www.ciochevale.it/evento/replica-cibo-comunita-salute-cibo-locale-sostegno-per-territorio-e-comunita/
CATEGORIES:Conosciamo,Palinsesto
ATTACH;FMTTYPE=image/jpeg:https://www.ciochevale.it/wp-content/uploads/2020/05/CONOSCIAMO.jpg
ORGANIZER;CN="Associazione CioCheVale":MAILTO:associazione.ciochevale@gmail.com
END:VEVENT
BEGIN:VEVENT
DTSTART;TZID=Europe/Paris:20200620T110000
DTEND;TZID=Europe/Paris:20200620T113000
DTSTAMP:20260420T065504
CREATED:20200617T075647Z
LAST-MODIFIED:20240115T201817Z
UID:2541-1592650800-1592652600@www.ciochevale.it
SUMMARY:Le pagine del Picchioverde: Sans-in. L'estate in città. Tre mesi di eventi a San Silvestro per tutte l'età.
DESCRIPTION:Le pagine del Picchioverde: Sans-in. L’estate in città. Tre mesi di eventi a San Silvestro per tutte l’età. \ncon P.Rainato ass. politiche giovanili\, E.Piva dir. Artistico \nQuesto evento è una diretta partecipata\, cliccando sul seguente link\, si accetta la liberatoria: Partecipa su Zoom! \nOppure\, seguila dalla nostra pagina facebook  https://www.facebook.com/chieriwebtv/  (il video in diretta partirà all’ora di inizio
URL:https://www.ciochevale.it/evento/le-pagine-del-picchioverde-sans-in-lestate-in-citta-tre-mesi-di-eventi-a-san-silvestro-per-tutte-leta/
CATEGORIES:Divertiamoci,Palinsesto
ATTACH;FMTTYPE=image/jpeg:https://www.ciochevale.it/wp-content/uploads/2020/05/DIVERTIAMOCI.jpg
ORGANIZER;CN="Associazione CioCheVale":MAILTO:associazione.ciochevale@gmail.com
END:VEVENT
BEGIN:VEVENT
DTSTART;TZID=Europe/Paris:20200619T180000
DTEND;TZID=Europe/Paris:20200619T180000
DTSTAMP:20260420T065504
CREATED:20200619T065523Z
LAST-MODIFIED:20240115T201824Z
UID:2556-1592589600-1592589600@www.ciochevale.it
SUMMARY:Consulta Chierese per le politiche a favore delle persone con disabilità: Io posso ancora vivere con la demenza
DESCRIPTION:Consulta Chierese per le politiche a favore delle persone con disabilità: Io posso ancora vivere con la demenza \nDiretta Live sulla pagina della Consulta Chierese per le politiche a favore delle persone con disabilità\, e di ChieriWebTv \nUn modo nuovo di guardare alle demenze\, perché la Vita non finisce con la demenza.\nLetizia Espanoli\, formatrice di fama nazionale e internazionale e ideatrice del metodo “Sente-mente” \, in diretta live su questa pagina Venerdi 19 giugno \, ore 17\,00\, ci aiuterà a comprendere il perché.\nNon perdete questo importante appuntamento che sarà l’inizio di un percorso di impegno della Consulta chierese per le politiche a favore delle persone con disabilità\,
URL:https://www.ciochevale.it/evento/consulta-chierese-per-le-politiche-a-favore-delle-persone-con-disabilita-io-posso-ancora-vivere-con-la-demenza/
CATEGORIES:Informiamoci,Palinsesto
ATTACH;FMTTYPE=image/jpeg:https://www.ciochevale.it/wp-content/uploads/2020/05/INFORMIAMOCI.jpg
ORGANIZER;CN="Associazione CioCheVale":MAILTO:associazione.ciochevale@gmail.com
END:VEVENT
BEGIN:VEVENT
DTSTART;TZID=Europe/Paris:20200618T220000
DTEND;TZID=Europe/Paris:20200618T230000
DTSTAMP:20260420T065504
CREATED:20200617T064608Z
LAST-MODIFIED:20240115T201830Z
UID:2539-1592517600-1592521200@www.ciochevale.it
SUMMARY:Accademia del dialogo : Storia culturale della città moderna (seconda parte)
DESCRIPTION:Accademia del Dialogo: Dove accadono le cose. Storia culturale della città moderna (seconda parte) \nGiorgio Scialla\n \nQuesto evento è una diretta partecipata\, cliccando su Partecipa su Zoom! si accetta la liberatoria. \nOppure\, seguila dalla nostra pagina facebook  https://www.facebook.com/chieriwebtv/  (la diretta video partirà all’ora di inizio dell’evento).
URL:https://www.ciochevale.it/evento/accademia-del-dialogo-storia-culturale-della-citta-moderna-seconda-parte/
CATEGORIES:Conosciamo,Palinsesto
ATTACH;FMTTYPE=image/jpeg:https://www.ciochevale.it/wp-content/uploads/2020/05/CONOSCIAMO.jpg
ORGANIZER;CN="Associazione CioCheVale":MAILTO:associazione.ciochevale@gmail.com
END:VEVENT
BEGIN:VEVENT
DTSTART;TZID=Europe/Paris:20200618T214500
DTEND;TZID=Europe/Paris:20200618T220000
DTSTAMP:20260420T065504
CREATED:20200612T200621Z
LAST-MODIFIED:20240115T201836Z
UID:2519-1592516700-1592517600@www.ciochevale.it
SUMMARY:Leggi che ti passa: La risata
DESCRIPTION:Leggi che ti passa: La risata \nMassimo Tallone \nSeguila dal video sottostante o sul nostro canale Youtube: il video partirà come première all’ora di inizio dell’evento (ma sarà possibile rivederlo se non doveste collegarvi in tempo).
URL:https://www.ciochevale.it/evento/leggi-che-ti-passa-la-risata/
CATEGORIES:Conosciamo,Palinsesto
ATTACH;FMTTYPE=image/jpeg:https://www.ciochevale.it/wp-content/uploads/2020/05/CONOSCIAMO.jpg
ORGANIZER;CN="Associazione CioCheVale":MAILTO:associazione.ciochevale@gmail.com
END:VEVENT
BEGIN:VEVENT
DTSTART;TZID=Europe/Paris:20200618T190000
DTEND;TZID=Europe/Paris:20200618T200000
DTSTAMP:20260420T065504
CREATED:20200617T054844Z
LAST-MODIFIED:20240115T201842Z
UID:2536-1592506800-1592510400@www.ciochevale.it
SUMMARY:Cibo\, Comunità\, Salute: Le erbe spontanee - tra riscoperta e nuovi utilizzi
DESCRIPTION:  \n \nCibo\, Comunità\, Salute: Le erbe spontanee – tra riscoperta e nuovi utilizzi \nAlessandra Savina\, Roberta Lomuscio\, Massimiliano Millefiori\, Elena Comollo (Agricoopecetto)\n \nQuesto evento è una diretta partecipata\, cliccando su Partecipa su Zoom! si accetta la liberatoria. \nOppure\, seguila dalla nostra pagina facebook  https://www.facebook.com/chieriwebtv/  (il video diretta partirà all’ora di inizio dell’evento).
URL:https://www.ciochevale.it/evento/cibo-comunita-salute-le-erbe-spontanee-tra-riscoperta-e-nuovi-utilizzi/
CATEGORIES:Conosciamo,Palinsesto
ATTACH;FMTTYPE=image/jpeg:https://www.ciochevale.it/wp-content/uploads/2020/05/CONOSCIAMO.jpg
ORGANIZER;CN="Associazione CioCheVale":MAILTO:associazione.ciochevale@gmail.com
END:VEVENT
BEGIN:VEVENT
DTSTART;TZID=Europe/Paris:20200618T110000
DTEND;TZID=Europe/Paris:20200618T113000
DTSTAMP:20260420T065504
CREATED:20200607T195633Z
LAST-MODIFIED:20240115T201847Z
UID:2476-1592478000-1592479800@www.ciochevale.it
SUMMARY:Replica-Incontriamoci in un racconto: Ieri\, oggi\, domani
DESCRIPTION:Incontriamoci in un racconto: Ieri\, oggi\, domani\nGiovanna Ferella\, psicologa \nrivedila sul nostro canale Youtube
URL:https://www.ciochevale.it/evento/replica-incontriamoci-in-un-racconto-ieri-oggi-domani/
CATEGORIES:Palinsesto,Teniamoci in forma
ATTACH;FMTTYPE=image/jpeg:https://www.ciochevale.it/wp-content/uploads/2020/05/teniamoci-in-forma.jpg
ORGANIZER;CN="Associazione CioCheVale":MAILTO:associazione.ciochevale@gmail.com
END:VEVENT
BEGIN:VEVENT
DTSTART;TZID=Europe/Paris:20200616T214500
DTEND;TZID=Europe/Paris:20200616T220000
DTSTAMP:20260420T065504
CREATED:20200610T101424Z
LAST-MODIFIED:20240115T201853Z
UID:2503-1592343900-1592344800@www.ciochevale.it
SUMMARY:Italia Che Cambia: Nostos\, la rete di alberghi diffusi che rilancia i centri storici
DESCRIPTION:Da Italia Che Cambia: Nostos\, la rete di alberghi diffusi che rilancia i centri storici \nritrasmessa sul nostro canale Youtube
URL:https://www.ciochevale.it/evento/italia-che-cambia-nostos-la-rete-di-alberghi-diffusi-che-rilancia-i-centri-storici/
CATEGORIES:Palinsesto,Servizi per la comunità
ATTACH;FMTTYPE=image/jpeg:https://www.ciochevale.it/wp-content/uploads/2020/05/SERVIZI.jpg
ORGANIZER;CN="Associazione CioCheVale":MAILTO:associazione.ciochevale@gmail.com
END:VEVENT
BEGIN:VEVENT
DTSTART;TZID=Europe/Paris:20200616T190000
DTEND;TZID=Europe/Paris:20200616T193000
DTSTAMP:20260420T065504
CREATED:20200525T144542Z
LAST-MODIFIED:20240115T201901Z
UID:2300-1592334000-1592335800@www.ciochevale.it
SUMMARY:Replica-CioCheVale...pausa caffè: Laboratorio di saponi naturali
DESCRIPTION:CioCheVale…pausa caffè: Laboratorio di saponi naturali\nSara Torchiti \nrivedila sul nostro canale Youtube
URL:https://www.ciochevale.it/evento/replica-ciochevale-pausa-caffe-laboratorio-di-saponi-naturali/
CATEGORIES:Creiamo insieme,Palinsesto
ATTACH;FMTTYPE=image/jpeg:https://www.ciochevale.it/wp-content/uploads/2020/05/Creiamo-insieme.jpg
ORGANIZER;CN="Associazione CioCheVale":MAILTO:associazione.ciochevale@gmail.com
END:VEVENT
BEGIN:VEVENT
DTSTART;TZID=Europe/Paris:20200616T113000
DTEND;TZID=Europe/Paris:20200616T122000
DTSTAMP:20260420T065504
CREATED:20200525T122818Z
LAST-MODIFIED:20240115T201906Z
UID:2296-1592307000-1592310000@www.ciochevale.it
SUMMARY:Replica-Sport lento: Ginnastica dolce
DESCRIPTION:Sport lento: Ginnastica dolce\nLuca Scalzo \nrivedila sul nostro canale Youtube
URL:https://www.ciochevale.it/evento/replica-sport-lento-ginnastica-dolce/
CATEGORIES:Palinsesto,Teniamoci in forma
ATTACH;FMTTYPE=image/jpeg:https://www.ciochevale.it/wp-content/uploads/2020/05/teniamoci-in-forma.jpg
ORGANIZER;CN="Associazione CioCheVale":MAILTO:associazione.ciochevale@gmail.com
END:VEVENT
BEGIN:VEVENT
DTSTART;TZID=Europe/Paris:20200613T223000
DTEND;TZID=Europe/Paris:20200613T230000
DTSTAMP:20260420T065504
CREATED:20200612T145338Z
LAST-MODIFIED:20240115T201912Z
UID:2513-1592087400-1592089200@www.ciochevale.it
SUMMARY:Nonna Nico e le Fiabe del Mulino: Peter Pan
DESCRIPTION:Nonna Nico e le Fiabe del Mulino: Peter Pan \nClaudia Nicolino \nSeguila dal video sottostante o sul nostro canale Youtube: il video partirà come première all’ora di inizio dell’evento (ma sarà possibile rivederlo se non doveste collegarvi in tempo).
URL:https://www.ciochevale.it/evento/nonna-nico-e-le-fiabe-del-mulino-peter-pan/
CATEGORIES:Divertiamoci,Palinsesto
ATTACH;FMTTYPE=image/jpeg:https://www.ciochevale.it/wp-content/uploads/2020/05/DIVERTIAMOCI.jpg
ORGANIZER;CN="Associazione CioCheVale":MAILTO:associazione.ciochevale@gmail.com
END:VEVENT
BEGIN:VEVENT
DTSTART;TZID=Europe/Paris:20200613T214500
DTEND;TZID=Europe/Paris:20200613T223000
DTSTAMP:20260420T065504
CREATED:20200612T072532Z
LAST-MODIFIED:20240115T201918Z
UID:2508-1592084700-1592087400@www.ciochevale.it
SUMMARY:Versi\, emozioni\, note: La Danza dei Tamburi
DESCRIPTION:Versi\, emozioni\, note: La Danza dei Tamburi \nQuesto evento è una diretta partecipata\, cliccando sul seguente link\, si accetta la liberatoria: Partecipa su Zoom! \nOppure\, seguila dalla nostra pagina facebook  https://www.facebook.com/chieriwebtv/  (il video in diretta partirà all’ora di inizio dell’evento).
URL:https://www.ciochevale.it/evento/versi-emozioni-note-la-danza-dei-tamburi/
CATEGORIES:Divertiamoci,Palinsesto
ATTACH;FMTTYPE=image/jpeg:https://www.ciochevale.it/wp-content/uploads/2020/05/DIVERTIAMOCI.jpg
ORGANIZER;CN="Associazione CioCheVale":MAILTO:associazione.ciochevale@gmail.com
END:VEVENT
BEGIN:VEVENT
DTSTART;TZID=Europe/Paris:20200613T213000
DTEND;TZID=Europe/Paris:20200613T214500
DTSTAMP:20260420T065504
CREATED:20200612T100902Z
LAST-MODIFIED:20240115T201925Z
UID:2510-1592083800-1592084700@www.ciochevale.it
SUMMARY:La parola a...  Angelita Mollo - Una sagra on Line alla scoperta delle eccellenze di un territorio unico
DESCRIPTION:La parola a … Angelita Mollo – Una sagra on Line alla scoperta delle eccellenze di un territorio unico \nSindaco di Poirino \nSeguila dal video sottostante o sul nostro canale Youtube: il video partirà come première all’ora di inizio dell’evento (ma sarà possibile rivederlo se non doveste collegarvi in tempo). \n\n 
URL:https://www.ciochevale.it/evento/la-parola-a-una-sagra-on-line-alla-scoperta-delle-eccellenze-di-un-territorio-unico/
CATEGORIES:Informiamoci,Palinsesto
ATTACH;FMTTYPE=image/jpeg:https://www.ciochevale.it/wp-content/uploads/2020/05/INFORMIAMOCI.jpg
ORGANIZER;CN="Associazione CioCheVale":MAILTO:associazione.ciochevale@gmail.com
END:VEVENT
BEGIN:VEVENT
DTSTART;TZID=Europe/Paris:20200613T190000
DTEND;TZID=Europe/Paris:20200613T200000
DTSTAMP:20260420T065504
CREATED:20200612T071243Z
LAST-MODIFIED:20240115T201932Z
UID:2505-1592074800-1592078400@www.ciochevale.it
SUMMARY:Pistaaa presenta: #IoCamminoinItalia
DESCRIPTION:Pistaaa presenta: #IoCamminoinItalia \nAlberto Conte (pres. Movimento Lento)\, Pietro Scidurlo (pres. Free Wheels Onlus) \nQuesto evento è una diretta partecipata\, cliccando su Partecipa su Zoom! si accetta la liberatoria. \nOppure\, seguila dalla nostra pagina facebook  https://www.facebook.com/chieriwebtv/  (il video diretta partirà all’ora di inizio dell’evento).
URL:https://www.ciochevale.it/evento/pistaaa-presenta-iocamminoinitalia/
CATEGORIES:Divertiamoci,Palinsesto
ATTACH;FMTTYPE=image/jpeg:https://www.ciochevale.it/wp-content/uploads/2020/05/DIVERTIAMOCI.jpg
ORGANIZER;CN="Associazione CioCheVale":MAILTO:associazione.ciochevale@gmail.com
END:VEVENT
BEGIN:VEVENT
DTSTART;TZID=Europe/Paris:20200613T110000
DTEND;TZID=Europe/Paris:20200613T113000
DTSTAMP:20260420T065504
CREATED:20200607T182607Z
LAST-MODIFIED:20240115T201938Z
UID:2466-1592046000-1592047800@www.ciochevale.it
SUMMARY:CioCheVale ... pausa caffè:  Trasformare un oggetto del passato per viverlo nuovamente nel futuro
DESCRIPTION:CioCheVale…pausa caffè: Trasformare un oggetto del passato per viverlo nuovamente nel futuro\nLaura Vanzo \nQuesto evento è una diretta partecipata\, cliccando sul seguente link\, si accetta la liberatoria: Partecipa su Zoom!  \nOppure\, seguila dalla nostra pagina facebook  https://www.facebook.com/chieriwebtv/  (il video diretta partirà all’ora di inizio dell’evento).
URL:https://www.ciochevale.it/evento/ciochevale-pausa-caffe-trasformare-un-oggetto-del-passato-per-viverlo-nuovamente-nel-futuro/
CATEGORIES:Creiamo insieme,Palinsesto
ATTACH;FMTTYPE=image/jpeg:https://www.ciochevale.it/wp-content/uploads/2020/05/Creiamo-insieme.jpg
ORGANIZER;CN="Associazione CioCheVale":MAILTO:associazione.ciochevale@gmail.com
END:VEVENT
BEGIN:VEVENT
DTSTART;TZID=Europe/Paris:20200611T220000
DTEND;TZID=Europe/Paris:20200611T230000
DTSTAMP:20260420T065504
CREATED:20200607T133450Z
LAST-MODIFIED:20240115T201427Z
UID:2462-1591912800-1591916400@www.ciochevale.it
SUMMARY:Dove accadono le cose. Storia culturale della città moderna (prima parte)
DESCRIPTION:Accademia del Dialogo: Dove accadono le cose. Storia culturale della città moderna (prima parte) \nGiorgio Scialla\n \nQuesto evento è una diretta partecipata\, cliccando su Partecipa su Zoom! si accetta la liberatoria. \nOppure\, seguila dalla nostra pagina facebook  https://www.facebook.com/chieriwebtv/  (la diretta video partirà all’ora di inizio dell’evento).
URL:https://www.ciochevale.it/evento/dove-accadono-le-cose-storia-culturale-della-citta-moderna-prima-parte/
CATEGORIES:Conosciamo,Palinsesto
ATTACH;FMTTYPE=image/jpeg:https://www.ciochevale.it/wp-content/uploads/2020/05/CONOSCIAMO.jpg
ORGANIZER;CN="Associazione CioCheVale":MAILTO:associazione.ciochevale@gmail.com
END:VEVENT
BEGIN:VEVENT
DTSTART;TZID=Europe/Paris:20200611T214500
DTEND;TZID=Europe/Paris:20200611T220000
DTSTAMP:20260420T065504
CREATED:20200606T135253Z
LAST-MODIFIED:20240115T201433Z
UID:2452-1591911900-1591912800@www.ciochevale.it
SUMMARY:Leggi che ti passa: La dieta letteraria
DESCRIPTION:Leggi che ti passa: La dieta letteraria \nMassimo Tallone \nSeguila dal video sottostante o sul nostro canale Youtube: il video partirà come première all’ora di inizio dell’evento (ma sarà possibile rivederlo se non doveste collegarvi in tempo).
URL:https://www.ciochevale.it/evento/leggi-che-ti-passa-la-dieta-letteraria/
CATEGORIES:Conosciamo,Palinsesto
ATTACH;FMTTYPE=image/jpeg:https://www.ciochevale.it/wp-content/uploads/2020/05/CONOSCIAMO.jpg
ORGANIZER;CN="Associazione CioCheVale":MAILTO:associazione.ciochevale@gmail.com
END:VEVENT
BEGIN:VEVENT
DTSTART;TZID=Europe/Paris:20200611T190000
DTEND;TZID=Europe/Paris:20200611T200000
DTSTAMP:20260420T065504
CREATED:20200607T132812Z
LAST-MODIFIED:20240115T201439Z
UID:2460-1591902000-1591905600@www.ciochevale.it
SUMMARY:Cibo\, Comunità\, Salute: Ripartiamo dal cibo
DESCRIPTION:Cibo\, Comunità\, Salute: Ripartiamo dal cibo \nAlessandra Savina\, Roberta Lo Muscio\, prof. Dario Padovan (UNITO)\, Paolo Pompilio (Capre e cavoli)\n \nQuesto evento è una diretta partecipata\, cliccando su Partecipa su Zoom! si accetta la liberatoria. \nOppure\, seguila dalla nostra pagina facebook  https://www.facebook.com/chieriwebtv/  (il video diretta partirà all’ora di inizio dell’evento).
URL:https://www.ciochevale.it/evento/cibo-comunita-salute-ripartiamo-dal-cibo/
CATEGORIES:Conosciamo,Palinsesto
ATTACH;FMTTYPE=image/jpeg:https://www.ciochevale.it/wp-content/uploads/2020/05/CONOSCIAMO.jpg
ORGANIZER;CN="Associazione CioCheVale":MAILTO:associazione.ciochevale@gmail.com
END:VEVENT
BEGIN:VEVENT
DTSTART;TZID=Europe/Paris:20200611T113000
DTEND;TZID=Europe/Paris:20200611T123000
DTSTAMP:20260420T065504
CREATED:20200607T132152Z
LAST-MODIFIED:20240115T201446Z
UID:2458-1591875000-1591878600@www.ciochevale.it
SUMMARY:Sport lento: Ginnastica dolce 4
DESCRIPTION:Sport lento: Ginnastica dolce 4\nLuca Scalzo \nQuesto evento è una diretta partecipata\, cliccando sul seguente link\, si accetta la liberatoria: Partecipa su Zoom!  \nOppure\, seguila dalla nostra pagina facebook  https://www.facebook.com/chieriwebtv/  (il video diretta partirà all’ora di inizio dell’evento).
URL:https://www.ciochevale.it/evento/sport-lento-ginnastica-dolce-4/
CATEGORIES:Palinsesto,Teniamoci in forma
ATTACH;FMTTYPE=image/jpeg:https://www.ciochevale.it/wp-content/uploads/2020/05/teniamoci-in-forma.jpg
ORGANIZER;CN="Associazione CioCheVale":MAILTO:associazione.ciochevale@gmail.com
END:VEVENT
BEGIN:VEVENT
DTSTART;TZID=Europe/Paris:20200611T110000
DTEND;TZID=Europe/Paris:20200611T113000
DTSTAMP:20260420T065504
CREATED:20200606T173514Z
LAST-MODIFIED:20240115T201455Z
UID:2455-1591873200-1591875000@www.ciochevale.it
SUMMARY:Incontriamoci in un racconto:  Solitudine: bisogno\, desiderio\, imposizione
DESCRIPTION:Incontriamoci in un racconto: Solitudine: bisogno\, desiderio\, imposizione\nGiovanna Ferella\, psicologa \nQuesto evento è una diretta partecipata\, cliccando sul seguente link\, si accetta la liberatoria: Partecipa su Zoom!  \nOppure\, seguila dalla nostra pagina facebook  https://www.facebook.com/chieriwebtv/  (il video in diretta partirà all’ora di inizio dell’evento). \n 
URL:https://www.ciochevale.it/evento/incontriamoci-in-un-racconto-solitudine-bisogno-desiderio-imposizione/
CATEGORIES:Palinsesto,Teniamoci in forma
ATTACH;FMTTYPE=image/jpeg:https://www.ciochevale.it/wp-content/uploads/2020/05/teniamoci-in-forma.jpg
ORGANIZER;CN="Associazione CioCheVale":MAILTO:associazione.ciochevale@gmail.com
END:VEVENT
BEGIN:VEVENT
DTSTART;TZID=Europe/Paris:20200609T214500
DTEND;TZID=Europe/Paris:20200609T220000
DTSTAMP:20260420T065504
CREATED:20200602T184256Z
LAST-MODIFIED:20240115T201502Z
UID:2411-1591739100-1591740000@www.ciochevale.it
SUMMARY:Da Italia che Cambia: L'arte salverà il mondo? Faccia a faccia con Michelangelo Pistoletto
DESCRIPTION:Da Italia Che Cambia: L’arte salverà il mondo? Faccia a faccia con Michelangelo Pistoletto \nritrasmessa sul nostro canale Youtube
URL:https://www.ciochevale.it/evento/da-italia-che-cambia-larte-salvera-il-mondo-faccia-a-faccia-con-michelangelo-pistoletto/
CATEGORIES:Palinsesto,Servizi per la comunità
ATTACH;FMTTYPE=image/jpeg:https://www.ciochevale.it/wp-content/uploads/2020/05/SERVIZI.jpg
ORGANIZER;CN="Associazione CioCheVale":MAILTO:associazione.ciochevale@gmail.com
END:VEVENT
BEGIN:VEVENT
DTSTART;TZID=Europe/Paris:20200609T190000
DTEND;TZID=Europe/Paris:20200609T193000
DTSTAMP:20260420T065504
CREATED:20200607T195117Z
LAST-MODIFIED:20240115T201508Z
UID:2473-1591729200-1591731000@www.ciochevale.it
SUMMARY:Replica-CioCheVale…pausa caffè: Laboratorio Come trovare spazio nello spazio
DESCRIPTION:CioCheVale…pausa caffè: Laboratorio Come trovare spazio nello spazio\nLaura Vanzo \nrivedila sul nostro canale Youtube
URL:https://www.ciochevale.it/evento/replica-ciochevalepausa-caffe-laboratorio-come-trovare-spazio-nello-spazio/
CATEGORIES:Creiamo insieme,Palinsesto
ATTACH;FMTTYPE=image/jpeg:https://www.ciochevale.it/wp-content/uploads/2020/05/Creiamo-insieme.jpg
ORGANIZER;CN="Associazione CioCheVale":MAILTO:associazione.ciochevale@gmail.com
END:VEVENT
BEGIN:VEVENT
DTSTART;TZID=Europe/Paris:20200609T113000
DTEND;TZID=Europe/Paris:20200609T123000
DTSTAMP:20260420T065504
CREATED:20200607T194622Z
LAST-MODIFIED:20240115T201514Z
UID:2471-1591702200-1591705800@www.ciochevale.it
SUMMARY:Replica-Sport lento: Ginnastica dolce 3
DESCRIPTION:Replica Sport lento: Ginnastica dolce 3\nLuca Scalzo \nrivedila sul nostro canale Youtube \n 
URL:https://www.ciochevale.it/evento/replica-sport-lento-ginnastica-dolce-3/
CATEGORIES:Palinsesto,Teniamoci in forma
ATTACH;FMTTYPE=image/jpeg:https://www.ciochevale.it/wp-content/uploads/2020/05/teniamoci-in-forma.jpg
ORGANIZER;CN="Associazione CioCheVale":MAILTO:associazione.ciochevale@gmail.com
END:VEVENT
BEGIN:VEVENT
DTSTART;TZID=Europe/Paris:20200606T223000
DTEND;TZID=Europe/Paris:20200606T230000
DTSTAMP:20260420T065504
CREATED:20200602T204116Z
LAST-MODIFIED:20240115T201519Z
UID:2415-1591482600-1591484400@www.ciochevale.it
SUMMARY:Nonna Nico e le Fiabe del Mulino: La strega grigia
DESCRIPTION:Nonna Nico e le Fiabe del Mulino: La strega grigia \nClaudia Nicolino \nSeguila dal video sottostante o sul nostro canale Youtube: il video partirà come première all’ora di inizio dell’evento (ma sarà possibile rivederlo se non doveste collegarvi in tempo).
URL:https://www.ciochevale.it/evento/nonna-nico-e-le-fiabe-del-mulino-la-strega-grigia/
CATEGORIES:Divertiamoci,Palinsesto
ATTACH;FMTTYPE=image/jpeg:https://www.ciochevale.it/wp-content/uploads/2020/05/DIVERTIAMOCI.jpg
ORGANIZER;CN="Associazione CioCheVale":MAILTO:associazione.ciochevale@gmail.com
END:VEVENT
BEGIN:VEVENT
DTSTART;TZID=Europe/Paris:20200606T214500
DTEND;TZID=Europe/Paris:20200606T223000
DTSTAMP:20260420T065504
CREATED:20200603T165208Z
LAST-MODIFIED:20240115T201526Z
UID:2440-1591479900-1591482600@www.ciochevale.it
SUMMARY:Kantina Social Band Intervistati da Valentina Veratrini
DESCRIPTION:Kantina Social Band Intervistati da Valentina Veratrini \nQuesto evento è una diretta partecipata\, cliccando sul seguente link\, si accetta la liberatoria: Partecipa su Zoom! \nOppure\, seguila dalla nostra pagina facebook  https://www.facebook.com/chieriwebtv/  (il video in diretta partirà all’ora di inizio dell’evento).
URL:https://www.ciochevale.it/evento/kantina-social-band-intervistati-da-valentina-veratrini/
CATEGORIES:Divertiamoci,Palinsesto
ATTACH;FMTTYPE=image/jpeg:https://www.ciochevale.it/wp-content/uploads/2020/05/DIVERTIAMOCI.jpg
ORGANIZER;CN="Associazione CioCheVale":MAILTO:associazione.ciochevale@gmail.com
END:VEVENT
BEGIN:VEVENT
DTSTART;TZID=Europe/Paris:20200606T213000
DTEND;TZID=Europe/Paris:20200606T214500
DTSTAMP:20260420T065504
CREATED:20200605T075536Z
LAST-MODIFIED:20240115T201624Z
UID:2438-1591479000-1591479900@www.ciochevale.it
SUMMARY:La parola a ... Muoviamoci! Sosteniamo la mobilità sostenibile
DESCRIPTION:La parola a … Roberto Ghio – Muoviamoci! Sosteniamo la mobilità sostenibile \nVice Sindaco di Santena \nSeguila dal video sottostante o sul nostro canale Youtube: il video partirà come première all’ora di inizio dell’evento (ma sarà possibile rivederlo se non doveste collegarvi in tempo).
URL:https://www.ciochevale.it/evento/la-parola-a-muoviamoci-sosteniamo-la-mobilita-sostenibile/
CATEGORIES:Informiamoci,Palinsesto
ATTACH;FMTTYPE=image/jpeg:https://www.ciochevale.it/wp-content/uploads/2020/05/INFORMIAMOCI.jpg
ORGANIZER;CN="Associazione CioCheVale":MAILTO:associazione.ciochevale@gmail.com
END:VEVENT
BEGIN:VEVENT
DTSTART;TZID=Europe/Paris:20200606T190000
DTEND;TZID=Europe/Paris:20200606T193000
DTSTAMP:20260420T065504
CREATED:20200603T161318Z
LAST-MODIFIED:20240115T201616Z
UID:2436-1591470000-1591471800@www.ciochevale.it
SUMMARY:Le pagine del Picchioverde: Cerese al mercà
DESCRIPTION:Le pagine del Picchioverde: Cerese al mercà \ncon Adriano Pizzo\, Federica Navone (vicesindaco e consigliera di Pecetto Tse)\, Giancarlo Goffi (presidente Proloco) e i personaggi storici la Bela Ceresera (Annamaria Penasso) e Monsu Graffion (Angelo Olivieri) \nQuesto evento è una diretta partecipata\, cliccando sul seguente link\, si accetta la liberatoria: Partecipa su Zoom! \nOppure\, seguila dalla nostra pagina facebook  https://www.facebook.com/chieriwebtv/  (il video in diretta partirà all’ora di inizio
URL:https://www.ciochevale.it/evento/le-pagine-del-picchioverde-cerese-al-merca/
CATEGORIES:Conosciamo,Palinsesto
ATTACH;FMTTYPE=image/jpeg:https://www.ciochevale.it/wp-content/uploads/2020/05/CONOSCIAMO.jpg
ORGANIZER;CN="Associazione CioCheVale":MAILTO:associazione.ciochevale@gmail.com
END:VEVENT
BEGIN:VEVENT
DTSTART;TZID=Europe/Paris:20200606T183000
DTEND;TZID=Europe/Paris:20200606T190000
DTSTAMP:20260420T065504
CREATED:20200603T121805Z
LAST-MODIFIED:20240115T201641Z
UID:2432-1591468200-1591470000@www.ciochevale.it
SUMMARY:Yoga Insieme: Yoga e pranayama: le tecniche di respiro per riequilibrare corpo e mente
DESCRIPTION:Yoga insieme: Yoga e pranayama: le tecniche di respiro più semplici per riequilibrare corpo e mente\nMonica Fagottin  \nQuesto evento è una diretta partecipata\, cliccando sul seguente link\, si accetta la liberatoria: Partecipa su Zoom!  \nOppure\, seguila dalla nostra pagina facebook  https://www.facebook.com/chieriwebtv/  (il video in diretta partirà all’ora di inizio dell’evento).
URL:https://www.ciochevale.it/evento/yoga-insieme-yoga-e-pranayama-le-tecniche-di-respiro-per-riequilibrare-corpo-e-mente/
CATEGORIES:Palinsesto,Teniamoci in forma
ATTACH;FMTTYPE=image/jpeg:https://www.ciochevale.it/wp-content/uploads/2020/05/teniamoci-in-forma.jpg
ORGANIZER;CN="Associazione CioCheVale":MAILTO:associazione.ciochevale@gmail.com
END:VEVENT
BEGIN:VEVENT
DTSTART;TZID=Europe/Paris:20200606T110000
DTEND;TZID=Europe/Paris:20200606T113000
DTSTAMP:20260420T065504
CREATED:20200603T143836Z
LAST-MODIFIED:20240115T201646Z
UID:2434-1591441200-1591443000@www.ciochevale.it
SUMMARY:CioCheVale…pausa caffè: Laboratorio Come trovare spazio nello spazio
DESCRIPTION:CioCheVale…pausa caffè: Laboratorio Come trovare spazio nello spazio\nLaura Vanzo \nQuesto evento è una diretta partecipata\, cliccando sul seguente link\, si accetta la liberatoria: Partecipa su Zoom!  \nOppure\, seguila dalla nostra pagina facebook  https://www.facebook.com/chieriwebtv/  (il video diretta partirà all’ora di inizio dell’evento).
URL:https://www.ciochevale.it/evento/ciochevalepausa-caffe-laboratorio-come-trovare-spazio-nello-spazio/
CATEGORIES:Creiamo insieme,Palinsesto
ATTACH;FMTTYPE=image/jpeg:https://www.ciochevale.it/wp-content/uploads/2020/05/Creiamo-insieme.jpg
ORGANIZER;CN="Associazione CioCheVale":MAILTO:associazione.ciochevale@gmail.com
END:VEVENT
END:VCALENDAR