BEGIN:VCALENDAR
VERSION:2.0
PRODID:-//CioCheVale APS - ECPv6.15.20//NONSGML v1.0//EN
CALSCALE:GREGORIAN
METHOD:PUBLISH
X-WR-CALNAME:CioCheVale APS
X-ORIGINAL-URL:https://www.ciochevale.it
X-WR-CALDESC:Eventi per CioCheVale APS
REFRESH-INTERVAL;VALUE=DURATION:PT1H
X-Robots-Tag:noindex
X-PUBLISHED-TTL:PT1H
BEGIN:VTIMEZONE
TZID:Europe/Paris
BEGIN:DAYLIGHT
TZOFFSETFROM:+0100
TZOFFSETTO:+0200
TZNAME:CEST
DTSTART:20240331T010000
END:DAYLIGHT
BEGIN:STANDARD
TZOFFSETFROM:+0200
TZOFFSETTO:+0100
TZNAME:CET
DTSTART:20241027T010000
END:STANDARD
BEGIN:DAYLIGHT
TZOFFSETFROM:+0100
TZOFFSETTO:+0200
TZNAME:CEST
DTSTART:20250330T010000
END:DAYLIGHT
BEGIN:STANDARD
TZOFFSETFROM:+0200
TZOFFSETTO:+0100
TZNAME:CET
DTSTART:20251026T010000
END:STANDARD
BEGIN:DAYLIGHT
TZOFFSETFROM:+0100
TZOFFSETTO:+0200
TZNAME:CEST
DTSTART:20260329T010000
END:DAYLIGHT
BEGIN:STANDARD
TZOFFSETFROM:+0200
TZOFFSETTO:+0100
TZNAME:CET
DTSTART:20261025T010000
END:STANDARD
END:VTIMEZONE
BEGIN:VEVENT
DTSTART;TZID=Europe/Paris:20250511T160000
DTEND;TZID=Europe/Paris:20250602T190000
DTSTAMP:20260419T194325
CREATED:20250509T192322Z
LAST-MODIFIED:20250509T192322Z
UID:6699-1746979200-1748890800@www.ciochevale.it
SUMMARY:Chieri celebra arte e territorio con le mostre “Archieri” e “Arte in Freisa” a Palazzo Opesso
DESCRIPTION:COMUNICATO STAMPA \nChieri celebra arte e territorio con le mostre “Archieri” e “Arte in Freisa” a Palazzo Opesso \nDal 11 maggio al 2 giugno 2025\, Palazzo Opesso (via San Giorgio 3\, Chieri) ospiterà due mostre fotografiche che intrecciano arte\, architettura e sostenibilità: “Archieri” e “Arte in Freisa”\, promosse dall’Associazione di Promozione Sociale CioCheVale APS con il contributo della Città di Chieri. \nInaugurazione: domenica 11 maggio\, ore 16.00 \nL’apertura ufficiale delle esposizioni si terrà domenica 11 maggio alle ore 16.00\, con una degustazione del dolce tipico chierese “Galucio ‘d Cher” accompagnato dal vino Freisa di Chieri. \n“Arte in Freisa”: la fotografia incontra il vino \nQuesta mostra presenta fotografie realizzate da Giancarlo Volpi\, stampate utilizzando il vino Freisa di Chieri come reagente naturale\, senza l’uso di chimica di sintesi. Le immagini sono impresse su carta prodotta dagli scarti dell’uva\, creando un connubio tra arte e sostenibilità. \n“Archieri”: un viaggio nell’architettura contemporanea di Chieri \n“Archieri” è un progetto di censimento fotografico delle architetture chieresi realizzate dal 1945 in poi\, a cura di un gruppo di architetti con il patrocinio dell’Ordine degli Architetti di Asti. Le fotografie\, scattate da Giancarlo Volpi e Gianfranco Verrua\, offrono uno sguardo inedito sul patrimonio edilizio moderno della città. \nAnteprima durante “Di Freisa in Freisa” \nIn occasione della manifestazione “Di Freisa in Freisa” il 10 maggio\, alcune opere di “Arte in Freisa” saranno esposte in anteprima lungo via Vittorio Emanuele II\, offrendo ai visitatori un assaggio dell’esposizione completa. \nInformazioni \nLe mostre saranno visitabili gratuitamente dal 11 maggio al 2 giugno 2025 presso Palazzo Opesso\, via San Giorgio 3\, Chieri. Gli orari di apertura da lun a ven 16-19 sab e dom 10.30-12.30 e 16-19 \nPer ulteriori informazioni: \n– Email associazione.ciochevale@gmail.com\, giancarlo.ciochevale@gmail.com \n– Sito web: www.ciochevale.it \nUn’occasione imperdibile per scoprire come arte\, cultura e territorio possano dialogare in modo innovativo e sostenibile.
URL:https://www.ciochevale.it/evento/chieri-celebra-arte-e-territorio-con-le-mostre-archieri-e-arte-in-freisa-a-palazzo-opesso/
LOCATION:Palazzo Opesso\, via San Giorgio 3\, Chieri
CATEGORIES:Eventi,Galucio,PicchioVerde,Picchioverde
ATTACH;FMTTYPE=image/jpeg:https://www.ciochevale.it/wp-content/uploads/2025/05/copertina-archieri-e-arte-in-freisa-1.jpg
ORGANIZER;CN="Associazione CioCheVale":MAILTO:associazione.ciochevale@gmail.com
END:VEVENT
END:VCALENDAR