BEGIN:VCALENDAR
VERSION:2.0
PRODID:-//CioCheVale APS - ECPv6.15.20//NONSGML v1.0//EN
CALSCALE:GREGORIAN
METHOD:PUBLISH
X-WR-CALNAME:CioCheVale APS
X-ORIGINAL-URL:https://www.ciochevale.it
X-WR-CALDESC:Eventi per CioCheVale APS
REFRESH-INTERVAL;VALUE=DURATION:PT1H
X-Robots-Tag:noindex
X-PUBLISHED-TTL:PT1H
BEGIN:VTIMEZONE
TZID:Europe/Paris
BEGIN:DAYLIGHT
TZOFFSETFROM:+0100
TZOFFSETTO:+0200
TZNAME:CEST
DTSTART:20240331T010000
END:DAYLIGHT
BEGIN:STANDARD
TZOFFSETFROM:+0200
TZOFFSETTO:+0100
TZNAME:CET
DTSTART:20241027T010000
END:STANDARD
BEGIN:DAYLIGHT
TZOFFSETFROM:+0100
TZOFFSETTO:+0200
TZNAME:CEST
DTSTART:20250330T010000
END:DAYLIGHT
BEGIN:STANDARD
TZOFFSETFROM:+0200
TZOFFSETTO:+0100
TZNAME:CET
DTSTART:20251026T010000
END:STANDARD
BEGIN:DAYLIGHT
TZOFFSETFROM:+0100
TZOFFSETTO:+0200
TZNAME:CEST
DTSTART:20260329T010000
END:DAYLIGHT
BEGIN:STANDARD
TZOFFSETFROM:+0200
TZOFFSETTO:+0100
TZNAME:CET
DTSTART:20261025T010000
END:STANDARD
END:VTIMEZONE
BEGIN:VEVENT
DTSTART;TZID=Europe/Paris:20250510T120000
DTEND;TZID=Europe/Paris:20250510T120000
DTSTAMP:20260419T194341
CREATED:20250509T191414Z
LAST-MODIFIED:20250509T191641Z
UID:6693-1746878400-1746878400@www.ciochevale.it
SUMMARY:CioCheVale partecipa sabato 9 maggio a "Di Freisa in Freisa" a Chieri
DESCRIPTION:COMUNICATO STAMPA \nIl Galucio ‘d Cher vola a braccetto col vino Freisa \nIl Galucio ‘d Cher\, dolce della tradizione chierese\, è un progetto promosso da CiòCheVale APS\, che trova un’importante vetrina nella manifestazione Di Freisa in Freisa\, organizzata dal Consorzio di Tutela e Valorizzazione delle DOC Freisa di Chieri e Collina Torinese e dal Comune di Chieri. Ma anche un’occasione per raccontare la propria storia che affonda le proprie radici nell’800: gli scarti dell’impasto del pane venivano riutilizzati per creare\, aggiungendo burro e zucchero\, una merendina apprezzata dai bambini di una volta fino agli anni ’70 del ‘900. Successivamente con l’avvento delle merendine a lunga conservazione da supermercato ha subito un costante calo di produzione fino alla quasi totale scomparsa. Dopo il rilancio della produzione avvenuta nel 2024 da un’idea di Carreum Potentia ODV\, il dolcetto delizia i golosi di tutte le età. Per la ricerca storica completa si rimanda a www.galuciodcher.it \nsabato 10 maggio 2025 da mezzogiorno a mezzanotte\, “Di Freisa in Freisa”: vendita del Galucio ‘d Cher allo stand di CiòCheVale APS dedicato ai produttori e promozione del Galucio ‘d Cher allo stand del Distretto del Cibo del Chierese Carmagnolese \nSabato 10 maggio durante la manifestazione Di Freisa in Freisa troverà spazio il Galucio ‘d Cher nello stand dedicato di vendita coordinato da CiòCheVale APS e gestito dai produttori. Tutti potranno degustare i vini Freisa accompagnandolo con il nostro dolcetto. \nI produttori che parteciperanno e metteranno in vendita il proprio galucio sono: Laboratorio Cuore di Burro di Mariagiulia Quattrocolo (Chieri)\, Panetteria Pasticceria Caffetteria Coppo (Andezeno)\, Panificio Paiola (Chieri)\, Pasticceria Avidano (Chieri)\, Pasticceria Dolci & Dolci (Chieri)\, Pasticceria Orchidea (Poirino). \nAllo stand saranno in vendita anche gadget stampati in 3D che ritraggono il marchio del Galucio ‘d Cher\, prodotti dalla ditta 3Assi srl (Chieri):  formine per realizzare a casa il galucio\, portachiavi e magneti per valorizzare e promuovere l’immagine e il sito internet del dolcetto tipico. \nLo stand del Distretto del Cibo del Chierese Carmagnolese verrà presidiato da CiòCheVale APS (associazione  fondatrice del Distretto assieme a numerosi altri soggetti)\, la quale promuoverà\, oltre al Galucio ‘d Cher\, una panoramica delle attività del Distretto e dei suoi prodotti enogastronomici. \n  \nmostra fotografica “Arte in Freisa”  \nsabato 10 maggio 2025 da mezzogiorno a mezzanotte\, anteprima della mostra durante “Di Freisa in Freisa” \nIn occasione della manifestazione “Di Freisa in Freisa” il 10 maggio\, alcune opere della mostra\, tra cui un’immagine del Galucio ‘d Cher prodotto dalla Panetteria Sotto i Portici (Andezeno)\, saranno esposte in anteprima lungo via Vittorio Emanuele II\, offrendo ai visitatori un assaggio dell’esposizione completa.
URL:https://www.ciochevale.it/evento/ciochevale-partecipa-sabato-9-maggio-a-di-freisa-in-freisa-a-chieri/
LOCATION:Piazza Cavour Chieri
CATEGORIES:Cibo, Comunità e Salute,CioCheMangio,Eventi,Galucio,Picchioverde,PicchioVerde,Pistaaa
ATTACH;FMTTYPE=image/jpeg:https://www.ciochevale.it/wp-content/uploads/2025/05/Galucio-a-Di-Freisa-in-Freisa.jpeg
ORGANIZER;CN="Associazione CioCheVale":MAILTO:associazione.ciochevale@gmail.com
END:VEVENT
END:VCALENDAR