BEGIN:VCALENDAR
VERSION:2.0
PRODID:-//CioCheVale APS - ECPv6.15.20//NONSGML v1.0//EN
CALSCALE:GREGORIAN
METHOD:PUBLISH
X-ORIGINAL-URL:https://www.ciochevale.it
X-WR-CALDESC:Eventi per CioCheVale APS
REFRESH-INTERVAL;VALUE=DURATION:PT1H
X-Robots-Tag:noindex
X-PUBLISHED-TTL:PT1H
BEGIN:VTIMEZONE
TZID:Europe/Paris
BEGIN:DAYLIGHT
TZOFFSETFROM:+0100
TZOFFSETTO:+0200
TZNAME:CEST
DTSTART:20230326T010000
END:DAYLIGHT
BEGIN:STANDARD
TZOFFSETFROM:+0200
TZOFFSETTO:+0100
TZNAME:CET
DTSTART:20231029T010000
END:STANDARD
BEGIN:DAYLIGHT
TZOFFSETFROM:+0100
TZOFFSETTO:+0200
TZNAME:CEST
DTSTART:20240331T010000
END:DAYLIGHT
BEGIN:STANDARD
TZOFFSETFROM:+0200
TZOFFSETTO:+0100
TZNAME:CET
DTSTART:20241027T010000
END:STANDARD
BEGIN:DAYLIGHT
TZOFFSETFROM:+0100
TZOFFSETTO:+0200
TZNAME:CEST
DTSTART:20250330T010000
END:DAYLIGHT
BEGIN:STANDARD
TZOFFSETFROM:+0200
TZOFFSETTO:+0100
TZNAME:CET
DTSTART:20251026T010000
END:STANDARD
END:VTIMEZONE
BEGIN:VEVENT
DTSTART;TZID=Europe/Paris:20241020T140000
DTEND;TZID=Europe/Paris:20241020T170000
DTSTAMP:20260420T045110
CREATED:20240804T083626Z
LAST-MODIFIED:20241010T161357Z
UID:5757-1729432800-1729443600@www.ciochevale.it
SUMMARY:Bike Pride Torino 2024
DESCRIPTION:Domenica 20 ottobre 2024 ore 14.00: ritrovo per la parata Parco Ruffini – lato Corso Trapani\, angolo Corso Rosselli (Torino) Sarà una giornata interamente dedicata al mondo della mobilità attiva! . Fin dalla mattina sarà presente lo stand Bike Pride per il tesseramento FIAB con le magliette di quest’anno\, e saranno organizzate attività per tutt*\, dai test di cargo bike ad attività per bambin* e famiglie. . Pic-nic all’aria aperta: organizza un pranzo collettivo pre-partenza! Di seguito segnaliamo anche i locali presenti nel parco e in zona . Ritrovo per la PARATA e partenza!! Tutt*\, ognun* con il proprio mezzo a pedali. Bambin* e le famiglie sono benvenute\, il percorso è semplice e sicuro\, come dovrebbe essere la città tutti i giorni ed è quello che vogliamo mostrare: una città bella\, sana e sicura. ‍‍ ̀ Vogliamo pedalare per rivendicare una mobilità a Torino più accessibile dove gli spazi pubblici siano distribuiti equamente tra tutte le persone. Significa riconoscere che anche la strada è un luogo di uguaglianza che appartiene alla collettività\, in cui potersi muovere in sicurezza\, organizzare attività sociali e comunitarie\, ma anche in cui coltivare l’autonomia della mobilità dei bambini e delle bambine garantendo l’accessibilità alle scuole in sicurezza\, a piedi o in bicicletta. L’obiettivo è migliorare la qualità degli spostamenti in città\, potenziare tutte le alternative all’auto privata\, aumentare le strade scolastiche e i servizi e le infrastrutture per la mobilità attiva. Per una città che rifletta le diverse esigenze di chi la abita\, a partire dalle persone più vulnerabili\, per una condivisione e una distribuzione equa dello spazio pubblico. ? > TESSERATI a FIAB Torino Bike Pride per l’anno 2025: https://bikepride.net/tesseramento/ > FAI PASSAPAROLA e organizzati per pedalare insieme ad amic*\, collegh* e parenti! https://bikepride.net/parata/bike-pride-2024/ > FAI UNA DONAZIONE\, anche un solo euro ci aiuta! https://bikepride.net/donazioni/ > DIVENTA VOLONTARI*\, compila il form! https://forms.gle/ZGb7KnzFfFBCijyZ8 Per info\, proposte e collaborazioni per l’evento: info@bikepride.net ❤️ Ti ricordiamo che è ancora attivo il Premio di Laurea ‘Gabriele Del Carlo’\, rivolto a laureati e laureate dell’Università e del Politecnico di Torino che abbiano conseguito la laurea magistrale tra il 1° aprile 2023 e il 31 marzo 2025. Se la tua tesi tratta il tema della mobilità ciclistica\, in qualsiasi ambito disciplinare\, hai l’opportunità di partecipare! Le candidature possono essere inviate fino al 31 marzo 2025. Per partecipare maggiori informazioni qui: https://bikepride.net/iniziative/premio-di-laurea-gabriele-del-carlo/ – – – Organizzato da FIAB Torino Bike Pride Nell’ambito della campagna #Torino30 Con il Patrocinio di Citta di Torino Finanziato all’interno del progetto SEFIT (FSE+) dell’Unione Europea realizzato in collaborazione con Rete delle Portinerie di comunità #bikepride2024 #bikepride – – – @ – Chiosco Bevande e Snack Parco Ruffini: https://maps.app.goo.gl/oFMzaUP3NP3hQcfv9 – Chiosco Bar: https://maps.app.goo.gl/vAWpLp44ySU8W9gL8 – Piadineria Ruffini: https://maps.app.goo.gl/a1MpuegRVSBUzUvr9
URL:https://www.ciochevale.it/evento/bike-pride-torino-2024/
LOCATION:Parco Ruffini Torino
CATEGORIES:Biciclettata
ATTACH;FMTTYPE=image/jpeg:https://www.ciochevale.it/wp-content/uploads/2024/08/WhatsApp-Image-2024-10-09-at-16.28.19.jpeg
END:VEVENT
END:VCALENDAR