BEGIN:VCALENDAR
VERSION:2.0
PRODID:-//CioCheVale APS - ECPv6.15.20//NONSGML v1.0//EN
CALSCALE:GREGORIAN
METHOD:PUBLISH
X-WR-CALNAME:CioCheVale APS
X-ORIGINAL-URL:https://www.ciochevale.it
X-WR-CALDESC:Eventi per CioCheVale APS
REFRESH-INTERVAL;VALUE=DURATION:PT1H
X-Robots-Tag:noindex
X-PUBLISHED-TTL:PT1H
BEGIN:VTIMEZONE
TZID:Europe/Paris
BEGIN:DAYLIGHT
TZOFFSETFROM:+0100
TZOFFSETTO:+0200
TZNAME:CEST
DTSTART:20230326T010000
END:DAYLIGHT
BEGIN:STANDARD
TZOFFSETFROM:+0200
TZOFFSETTO:+0100
TZNAME:CET
DTSTART:20231029T010000
END:STANDARD
BEGIN:DAYLIGHT
TZOFFSETFROM:+0100
TZOFFSETTO:+0200
TZNAME:CEST
DTSTART:20240331T010000
END:DAYLIGHT
BEGIN:STANDARD
TZOFFSETFROM:+0200
TZOFFSETTO:+0100
TZNAME:CET
DTSTART:20241027T010000
END:STANDARD
BEGIN:DAYLIGHT
TZOFFSETFROM:+0100
TZOFFSETTO:+0200
TZNAME:CEST
DTSTART:20250330T010000
END:DAYLIGHT
BEGIN:STANDARD
TZOFFSETFROM:+0200
TZOFFSETTO:+0100
TZNAME:CET
DTSTART:20251026T010000
END:STANDARD
END:VTIMEZONE
BEGIN:VEVENT
DTSTART;TZID=Europe/Paris:20241006T080000
DTEND;TZID=Europe/Paris:20241006T170000
DTSTAMP:20260420T045058
CREATED:20240804T082632Z
LAST-MODIFIED:20240912T065340Z
UID:5751-1728201600-1728234000@www.ciochevale.it
SUMMARY:Focaccia Gravel
DESCRIPTION:Focaccia Gravel è un Evento Gravel NON COMPETITIVO adatto a Biciclette Gravel\, MTB e E-Bike. \nSi svolge in libera circolazione su strade asfaltate\, a fondo naturale\, piste ciclabili\, ecc.\, regolamentata secondo le norme di circolazione stradale vigenti sulle singole tratte percorse e non sono previste chiusure specifiche per il passaggio dei ciclisti.\nÈ pertanto è obbligatorio per tutti i partecipanti il rispetto del Codice della Strada\, della segnaletica verticale e orizzontale presente\, della cartellonistica dell’evento\, l’utilizzo del casco protettivo omologato e dei dispositivi di illuminazione e sicurezza previsti dal codice della strada.\nE’ previsto – di massima – il numero chiuso a 200 partecipanti totali su entrambi i percorsi. \nIl percorso si sviluppa attraverso numerosi tratti di “Pistaaa: La Blue-Way Piemontese”\, e si svolge in libera escursione su strade asfaltate secondarie\, strade bianche e viabilità rurale.\nAttraversando splendidi paesaggi\, Tenute\, Castelli\, Chiesette e panchine giganti\, scoprirete la bellezza del territorio chierese e i suoi prodotti tipici serviti ai nostri ristori.\nGrazie agli Artigiani del Gusto Locali\, la Focaccia di Chieri vi accompagnerà per tutto il viaggio. \nL’evento è organizzato dall’ASD Cicli Gai Chieri sotto l’egida della Federazione Ciclistica Italiana con la preziosa collaborazione di Gabriele Mazzetta (ex Triatleta professionista\, allenatore e fondatore di Enjoy Triathlon) e Andrea Bonventre (Fotografo\, Videomaker e Cicloviaggiatore. Fondatore di BeRevolution e Space Travel) \nFocaccia Gravel è inserito all’interno di un circuito denominato Gravel MIX composto da circa di 12 eventi organizzati con format simili sul territorio di Piemonte Liguria e Valle d’Aosta \n– ISCRIZIONI:\nL’evento è aperto a tutti i maggiorenni\, tesserati FCI e\ntesserati degli Enti Promozione Sportiva riconosciuti dal CONI e a tutti i NON TESSERATI con Certificato Medico\nAgonistico (o di elevato impegno cardiovascolare) in corso di validità. \nLe iscrizioni sono da effettuarsi:\n– ONLINE (€ 20): sul portale ENDU al link apposito\, accessibile dalla pagina del sito\nwww.focacciagravel.it sino alle ore 24.00 di mercoledì 2 Ottobre 2024. \n– SUL POSTO (€ 25): presso il punto iscrizioni nella zona del Focaccia Village (solo Domenica 6 Ottobre fino alle\nore 10:00) \nVedi regolamento per maggiori dettagli \n– RITROVO:\nDalle ore 8:30 di Domenica 6 Ottobre sarà possibile ritirare il numero ed il Focaccia BOX (pacco di Partecipazione)\npresso il Focaccia Village allestito adiacente al Bar del centro Sportivo San Silvestro (interno parco). \n– PARTENZA:\nLa partenza è alla “Francese” per entrambi i percorsi ed è consentita tra le ore 9:30 e le 10:30 del corrente giorno\nDicesi alla “Francese”: partenza in piccoli gruppi in successione\, in genere 15 ciclisti circa ogni 5 minuti\, per evitare\ndi creare problemi di viabilità. \nVi Aspettiamo Numerosi!! \nCONDIVIDETE
URL:https://www.ciochevale.it/evento/focaccia-gravel/
CATEGORIES:Biciclettata,Eventi,Pistaaa
ATTACH;FMTTYPE=image/jpeg:https://www.ciochevale.it/wp-content/uploads/2024/08/WhatsApp-Image-2024-09-06-at-16.57.15.jpeg
END:VEVENT
BEGIN:VEVENT
DTSTART;TZID=Europe/Paris:20241006T090000
DTEND;TZID=Europe/Paris:20241006T170000
DTSTAMP:20260420T045058
CREATED:20240804T083019Z
LAST-MODIFIED:20240914T140931Z
UID:5753-1728205200-1728234000@www.ciochevale.it
SUMMARY:Evento: Cambiando la prospettiva 6.0
DESCRIPTION:
URL:https://www.ciochevale.it/evento/evento-cambiando-la-prospettiva-6-0/
CATEGORIES:Eventi,PicchioVerde
ATTACH;FMTTYPE=image/jpeg:https://www.ciochevale.it/wp-content/uploads/2024/08/WhatsApp-Image-2024-09-12-at-07.00.09.jpeg
END:VEVENT
END:VCALENDAR