BEGIN:VCALENDAR
VERSION:2.0
PRODID:-//CioCheVale APS - ECPv6.15.20//NONSGML v1.0//EN
CALSCALE:GREGORIAN
METHOD:PUBLISH
X-WR-CALNAME:CioCheVale APS
X-ORIGINAL-URL:https://www.ciochevale.it
X-WR-CALDESC:Eventi per CioCheVale APS
REFRESH-INTERVAL;VALUE=DURATION:PT1H
X-Robots-Tag:noindex
X-PUBLISHED-TTL:PT1H
BEGIN:VTIMEZONE
TZID:Europe/Paris
BEGIN:DAYLIGHT
TZOFFSETFROM:+0100
TZOFFSETTO:+0200
TZNAME:CEST
DTSTART:20230326T010000
END:DAYLIGHT
BEGIN:STANDARD
TZOFFSETFROM:+0200
TZOFFSETTO:+0100
TZNAME:CET
DTSTART:20231029T010000
END:STANDARD
BEGIN:DAYLIGHT
TZOFFSETFROM:+0100
TZOFFSETTO:+0200
TZNAME:CEST
DTSTART:20240331T010000
END:DAYLIGHT
BEGIN:STANDARD
TZOFFSETFROM:+0200
TZOFFSETTO:+0100
TZNAME:CET
DTSTART:20241027T010000
END:STANDARD
BEGIN:DAYLIGHT
TZOFFSETFROM:+0100
TZOFFSETTO:+0200
TZNAME:CEST
DTSTART:20250330T010000
END:DAYLIGHT
BEGIN:STANDARD
TZOFFSETFROM:+0200
TZOFFSETTO:+0100
TZNAME:CET
DTSTART:20251026T010000
END:STANDARD
END:VTIMEZONE
BEGIN:VEVENT
DTSTART;TZID=Europe/Paris:20240901T090000
DTEND;TZID=Europe/Paris:20240901T180000
DTSTAMP:20260420T150958
CREATED:20240804T081600Z
LAST-MODIFIED:20240823T203035Z
UID:5745-1725181200-1725213600@www.ciochevale.it
SUMMARY:Sagra del Pomodoro Costoluto a Cambiano
DESCRIPTION:Nell’ambito della prossima edizione della Sagra del Pomodoro Costoluto di Cambiano\, il Comune e la Pro Loco di Cambiano\, con il supporto dell’associazione CioCheVale\, promuovono la 2°edizione del premio “Costoluto d’Argilla”: un concorso nato con l’intenzione di valorizzare e sostenere le aziende agricole virtuose\, le aziende di trasformazione del cibo e gli istituti scolastici del territorio che praticano un’agricoltura sostenibile\, che integri la tecnologia con la tradizione\, il rispetto dell’ambiente e delle risorse naturali o metodi di trasformazione di cibo sano e nutriente. \nIl concorso è aperto a tutte le piccole aziende agricole\, aziende di trasformazione del cibo e istituti scolastici del territorio della collina torinese e chierese\, Pianalto e Basso Monferrato che praticano metodi di coltivazione agricola naturale\, che tutelano la biodiversità\, la fertilità del suolo e le colture autoctone\, o che si distinguono per la trasformazione del cibo in modo sostenibile per l’ambiente e la salute dell’uomo e della terra. \nVerrà premiata l’azienda o l’istituto scolastico che presenterà la pratica produttiva sperimentata sul campo ritenuta più innovativa e creativa al fine di: \n – Ridurre il consumo idrico \n – Rigenerare il suolo \n – Tutelare la biodiversità \n – Creare nuovi sistemi basati sull’Economia circolare \nPer poter partecipare al concorso è necessario compilare\, entro il 27 agosto 2024\, il modulo di iscrizione online disponibile al seguente link – clicca per modulo online \nPer maggiori dettagli invitiamo a scaricare e consultare il regolamento del concorso “INNOVAZIONE SOSTENIBILE NELLE AZIENDE AGRICOLE\, NELLE AZIENDE DI TRASFORMAZIONE DEL CIBO E NEGLI ISTITUTI SCOLASTICI DEL TERRITORIO” disponibile nella sezione allegati del presente avviso e al seguente link – REGOLAMENTO PREMIO COSTOLUTO DI ARGILLA – 2024 \nGIURIA E SELEZIONE\nLa pratica ritenuta più innovativa e creativa verrà selezionata da una giuria\ncomposta da cinque esperti del settore agricolo e/o della sostenibilità ambientale:\n● Egidio Dansero – Università degli Studi di Torino\, Coordinatore “Atlante del\ncibo della Città\n● Cristiana Peano – Coordinatrice Master Sostenibilità delle Reti\nAgroalimentari di UNITO\n● Edoardo Calia – CIO di Links (Istituto di ricerca partecipato dal Politecnico\ndi Torino)\n● Roberto Ghio – Presidente Distretto del Cibo Chierese Carmagnolese\n● Roberto Sanbo – Responsabile Presidi Slow Food Piemonte e Valle d’Aosta\n● Marco De Vecchi – Presidente Accademia di Agricoltura di Torino \n \n\n  \nScopri il progetto regionale “Fieramente in Piemonte – Piccole sagre\, grandi prodotti” e tutti i dettaglio dell’evento “Sagra del pomodoro costoluto di Cambiano” visitando il sito www.visitpiemonte.com – Link al sito
URL:https://www.ciochevale.it/evento/sagra-del-pomodoro-costoluto-a-cambiano/
LOCATION:Comune Cambiano (TO)
CATEGORIES:Cibo, Comunità e Salute,CioCheMangio,Eventi,PicchioVerde,Pistaaa
ATTACH;FMTTYPE=image/jpeg:https://www.ciochevale.it/wp-content/uploads/2024/08/pomodoro-costoluto-2024.jpg
END:VEVENT
BEGIN:VEVENT
DTSTART;TZID=Europe/Paris:20240901T100000
DTEND;TZID=Europe/Paris:20240901T123000
DTSTAMP:20260420T150958
CREATED:20240804T082038Z
LAST-MODIFIED:20240823T195720Z
UID:5747-1725184800-1725193800@www.ciochevale.it
SUMMARY:Biciclettata Fiere: Pomodoro Costoluto di Cambiano e Zootecnica di Riva presso Chieri (TO)
DESCRIPTION:Biciclettata Fiere: Pomodoro Costoluto di Cambiano e Zootecnica di Riva presso Chieri (TO) \n\n\nRiva presso Chieri. Dal 28 agosto al 2 settembre torna la Rassegna Zootecnica Regionale \n\n  \n  \n 
URL:https://www.ciochevale.it/evento/biciclettata-fiere-pomodoro-costoluto-di-cambiano-e-zootecnica-di-riva-presso-chieri-to/
LOCATION:Comune Cambiano (TO)
CATEGORIES:Biciclettata,Distretto del Cibo Chierese,Pistaaa
ATTACH;FMTTYPE=image/jpeg:https://www.ciochevale.it/wp-content/uploads/2022/02/pistaaa-1.jpg
END:VEVENT
END:VCALENDAR