BEGIN:VCALENDAR
VERSION:2.0
PRODID:-//CioCheVale APS - ECPv6.15.20//NONSGML v1.0//EN
CALSCALE:GREGORIAN
METHOD:PUBLISH
X-WR-CALNAME:CioCheVale APS
X-ORIGINAL-URL:https://www.ciochevale.it
X-WR-CALDESC:Eventi per CioCheVale APS
REFRESH-INTERVAL;VALUE=DURATION:PT1H
X-Robots-Tag:noindex
X-PUBLISHED-TTL:PT1H
BEGIN:VTIMEZONE
TZID:Europe/Paris
BEGIN:DAYLIGHT
TZOFFSETFROM:+0100
TZOFFSETTO:+0200
TZNAME:CEST
DTSTART:20230326T010000
END:DAYLIGHT
BEGIN:STANDARD
TZOFFSETFROM:+0200
TZOFFSETTO:+0100
TZNAME:CET
DTSTART:20231029T010000
END:STANDARD
BEGIN:DAYLIGHT
TZOFFSETFROM:+0100
TZOFFSETTO:+0200
TZNAME:CEST
DTSTART:20240331T010000
END:DAYLIGHT
BEGIN:STANDARD
TZOFFSETFROM:+0200
TZOFFSETTO:+0100
TZNAME:CET
DTSTART:20241027T010000
END:STANDARD
BEGIN:DAYLIGHT
TZOFFSETFROM:+0100
TZOFFSETTO:+0200
TZNAME:CEST
DTSTART:20250330T010000
END:DAYLIGHT
BEGIN:STANDARD
TZOFFSETFROM:+0200
TZOFFSETTO:+0100
TZNAME:CET
DTSTART:20251026T010000
END:STANDARD
END:VTIMEZONE
BEGIN:VEVENT
DTSTART;TZID=Europe/Paris:20240716T093000
DTEND;TZID=Europe/Paris:20240716T130000
DTSTAMP:20260420T082621
CREATED:20231221T081224Z
LAST-MODIFIED:20231221T081505Z
UID:5368-1721122200-1721134800@www.ciochevale.it
SUMMARY:Preparazione Panieri CioCheMangio ai dipendenti di BIGMAT De Tommasi – Comunità di Supporto all’Agricoltura
DESCRIPTION:
URL:https://www.ciochevale.it/evento/preparazione-panieri-ciochemangio-ai-dipendenti-di-bigmat-de-tommasi-comunita-di-supporto-allagricoltura-6/
LOCATION:Garden Le Serre\, via Bogino 14a\, Chieri\, Italia
CATEGORIES:Cibo, Comunità e Salute,CioCheMangio
ATTACH;FMTTYPE=image/jpeg:https://www.ciochevale.it/wp-content/uploads/2023/09/Logo-CioCheMangio.jpeg
ORGANIZER;CN="Associazione CioCheVale":MAILTO:associazione.ciochevale@gmail.com
END:VEVENT
END:VCALENDAR