BEGIN:VCALENDAR
VERSION:2.0
PRODID:-//CioCheVale APS - ECPv6.15.20//NONSGML v1.0//EN
CALSCALE:GREGORIAN
METHOD:PUBLISH
X-ORIGINAL-URL:https://www.ciochevale.it
X-WR-CALDESC:Eventi per CioCheVale APS
REFRESH-INTERVAL;VALUE=DURATION:PT1H
X-Robots-Tag:noindex
X-PUBLISHED-TTL:PT1H
BEGIN:VTIMEZONE
TZID:Europe/Paris
BEGIN:DAYLIGHT
TZOFFSETFROM:+0100
TZOFFSETTO:+0200
TZNAME:CEST
DTSTART:20230326T010000
END:DAYLIGHT
BEGIN:STANDARD
TZOFFSETFROM:+0200
TZOFFSETTO:+0100
TZNAME:CET
DTSTART:20231029T010000
END:STANDARD
BEGIN:DAYLIGHT
TZOFFSETFROM:+0100
TZOFFSETTO:+0200
TZNAME:CEST
DTSTART:20240331T010000
END:DAYLIGHT
BEGIN:STANDARD
TZOFFSETFROM:+0200
TZOFFSETTO:+0100
TZNAME:CET
DTSTART:20241027T010000
END:STANDARD
BEGIN:DAYLIGHT
TZOFFSETFROM:+0100
TZOFFSETTO:+0200
TZNAME:CEST
DTSTART:20250330T010000
END:DAYLIGHT
BEGIN:STANDARD
TZOFFSETFROM:+0200
TZOFFSETTO:+0100
TZNAME:CET
DTSTART:20251026T010000
END:STANDARD
END:VTIMEZONE
BEGIN:VEVENT
DTSTART;TZID=Europe/Paris:20240615T160000
DTEND;TZID=Europe/Paris:20240615T220000
DTSTAMP:20260420T093443
CREATED:20240607T195008Z
LAST-MODIFIED:20240607T195008Z
UID:5671-1718467200-1718488800@www.ciochevale.it
SUMMARY:Festa del Grano ad Arignano
DESCRIPTION:
URL:https://www.ciochevale.it/evento/festa-del-grano-ad-arignano/
LOCATION:Mulino di Arignano\, via del Lago 4\, Arignano\, Italia
CATEGORIES:Eventi,Picchioverde,Pistaaa
ATTACH;FMTTYPE=image/jpeg:https://www.ciochevale.it/wp-content/uploads/2024/06/arignano-15-giugno.jpeg
END:VEVENT
BEGIN:VEVENT
DTSTART;TZID=Europe/Paris:20240615T180000
DTEND;TZID=Europe/Paris:20240615T190000
DTSTAMP:20260420T093443
CREATED:20240607T193026Z
LAST-MODIFIED:20240607T193026Z
UID:5664-1718474400-1718478000@www.ciochevale.it
SUMMARY:Presentazione del Progetto Pistaaa: La Blue Way Piemontese a Pavarolo
DESCRIPTION:
URL:https://www.ciochevale.it/evento/presentazione-del-progetto-pistaaa-la-blue-way-piemontese-a-pavarolo/
LOCATION:Piazzetta del Campanile Pavarolo
CATEGORIES:Conferenza,Distretto del Cibo Chierese,Pistaaa
ATTACH;FMTTYPE=image/jpeg:https://www.ciochevale.it/wp-content/uploads/2024/06/Pavarolo-15-06-24.jpeg
END:VEVENT
END:VCALENDAR