BEGIN:VCALENDAR
VERSION:2.0
PRODID:-//CioCheVale APS - ECPv6.15.20//NONSGML v1.0//EN
CALSCALE:GREGORIAN
METHOD:PUBLISH
X-ORIGINAL-URL:https://www.ciochevale.it
X-WR-CALDESC:Eventi per CioCheVale APS
REFRESH-INTERVAL;VALUE=DURATION:PT1H
X-Robots-Tag:noindex
X-PUBLISHED-TTL:PT1H
BEGIN:VTIMEZONE
TZID:Europe/Paris
BEGIN:DAYLIGHT
TZOFFSETFROM:+0100
TZOFFSETTO:+0200
TZNAME:CEST
DTSTART:20230326T010000
END:DAYLIGHT
BEGIN:STANDARD
TZOFFSETFROM:+0200
TZOFFSETTO:+0100
TZNAME:CET
DTSTART:20231029T010000
END:STANDARD
BEGIN:DAYLIGHT
TZOFFSETFROM:+0100
TZOFFSETTO:+0200
TZNAME:CEST
DTSTART:20240331T010000
END:DAYLIGHT
BEGIN:STANDARD
TZOFFSETFROM:+0200
TZOFFSETTO:+0100
TZNAME:CET
DTSTART:20241027T010000
END:STANDARD
BEGIN:DAYLIGHT
TZOFFSETFROM:+0100
TZOFFSETTO:+0200
TZNAME:CEST
DTSTART:20250330T010000
END:DAYLIGHT
BEGIN:STANDARD
TZOFFSETFROM:+0200
TZOFFSETTO:+0100
TZNAME:CET
DTSTART:20251026T010000
END:STANDARD
END:VTIMEZONE
BEGIN:VEVENT
DTSTART;TZID=Europe/Paris:20240504T093000
DTEND;TZID=Europe/Paris:20240519T190000
DTSTAMP:20260420T104350
CREATED:20240418T171621Z
LAST-MODIFIED:20240418T200447Z
UID:5608-1714815000-1716145200@www.ciochevale.it
SUMMARY:Mostra Fotografica: Progetto ArChieri - Architetture chieresi contemporanee 1945-2023
DESCRIPTION:
URL:https://www.ciochevale.it/evento/mostra-fotografica-progetto-archieri-architetture-chieresi-contemporanee-1945-2023/
LOCATION:Palazzo Valfrè\, via San Giorgio 2\, Chieri
CATEGORIES:Eventi,PicchioVerde,Picchioverde,Pistaaa
ATTACH;FMTTYPE=image/jpeg:https://www.ciochevale.it/wp-content/uploads/2024/04/WhatsApp-Image-2024-04-17-at-14.32.28.jpeg
ORGANIZER;CN="Associazione CioCheVale":MAILTO:associazione.ciochevale@gmail.com
END:VEVENT
BEGIN:VEVENT
DTSTART;TZID=Europe/Paris:20240505T113000
DTEND;TZID=Europe/Paris:20240505T123000
DTSTAMP:20260420T104350
CREATED:20240418T201130Z
LAST-MODIFIED:20240418T201139Z
UID:5613-1714908600-1714912200@www.ciochevale.it
SUMMARY:Presentazione CSA Comunità di Supporto all'Agricoltura alla XIII Festa di Primavera di Cambiano
DESCRIPTION:
URL:https://www.ciochevale.it/evento/presentazione-csa-comunita-di-supporto-allagricoltura-alla-xiii-festa-di-primavera-di-cambiano/
LOCATION:Chiesetta Spirito Santo\, Cambiano
CATEGORIES:Cibo, Comunità e Salute,CioCheMangio,Eventi
ATTACH;FMTTYPE=image/jpeg:https://www.ciochevale.it/wp-content/uploads/2024/04/XIII-fiera-di-primavera-cambiano.jpeg
END:VEVENT
END:VCALENDAR