BEGIN:VCALENDAR
VERSION:2.0
PRODID:-//CioCheVale APS - ECPv6.15.20//NONSGML v1.0//EN
CALSCALE:GREGORIAN
METHOD:PUBLISH
X-WR-CALNAME:CioCheVale APS
X-ORIGINAL-URL:https://www.ciochevale.it
X-WR-CALDESC:Eventi per CioCheVale APS
REFRESH-INTERVAL;VALUE=DURATION:PT1H
X-Robots-Tag:noindex
X-PUBLISHED-TTL:PT1H
BEGIN:VTIMEZONE
TZID:Europe/Paris
BEGIN:DAYLIGHT
TZOFFSETFROM:+0100
TZOFFSETTO:+0200
TZNAME:CEST
DTSTART:20230326T010000
END:DAYLIGHT
BEGIN:STANDARD
TZOFFSETFROM:+0200
TZOFFSETTO:+0100
TZNAME:CET
DTSTART:20231029T010000
END:STANDARD
BEGIN:DAYLIGHT
TZOFFSETFROM:+0100
TZOFFSETTO:+0200
TZNAME:CEST
DTSTART:20240331T010000
END:DAYLIGHT
BEGIN:STANDARD
TZOFFSETFROM:+0200
TZOFFSETTO:+0100
TZNAME:CET
DTSTART:20241027T010000
END:STANDARD
BEGIN:DAYLIGHT
TZOFFSETFROM:+0100
TZOFFSETTO:+0200
TZNAME:CEST
DTSTART:20250330T010000
END:DAYLIGHT
BEGIN:STANDARD
TZOFFSETFROM:+0200
TZOFFSETTO:+0100
TZNAME:CET
DTSTART:20251026T010000
END:STANDARD
END:VTIMEZONE
BEGIN:VEVENT
DTSTART;TZID=Europe/Paris:20240324T093000
DTEND;TZID=Europe/Paris:20240324T120000
DTSTAMP:20260420T133033
CREATED:20240129T081231Z
LAST-MODIFIED:20240317T134801Z
UID:5482-1711272600-1711281600@www.ciochevale.it
SUMMARY:Festival del Paesaggio: “Bellezze in Bicicletta”
DESCRIPTION:CioCheVale\, Fiab Muoviti Chieri e Assam organizzano la biciclettata “Bellezze in Bicicletta”\,  sui percorsi di “Pistaaa: La Blue Way Piemontese” per ammirare i nostri paesaggi.\nMappa percorso e descrizione: https://pistaaa.org/bellezze-in-bicicletta/\nRitrovo in piazza Cavour a Chieri alle 9.30 di domenica 24 marzo. Per prenotazioni scrivere a associazione.ciochevale@gmail.com o telefonare al 3357267159
URL:https://www.ciochevale.it/evento/festival-del-paesaggio-bellezze-in-bicicletta/
LOCATION:Piazza Cavour Chieri
CATEGORIES:Biciclettata,Distretto del Cibo Chierese,Pistaaa
ATTACH;FMTTYPE=image/jpeg:https://www.ciochevale.it/wp-content/uploads/2022/02/pistaaa.jpg
ORGANIZER;CN="Associazione CioCheVale":MAILTO:associazione.ciochevale@gmail.com
END:VEVENT
BEGIN:VEVENT
DTSTART;TZID=Europe/Paris:20240324T160000
DTEND;TZID=Europe/Paris:20240324T173000
DTSTAMP:20260420T133033
CREATED:20240317T132656Z
LAST-MODIFIED:20240317T133347Z
UID:5543-1711296000-1711301400@www.ciochevale.it
SUMMARY:Premio Giovane Agricoltore 2024
DESCRIPTION:
URL:https://www.ciochevale.it/evento/premio-giovane-agricoltore-2024/
LOCATION:Auditorium Pino Torinese\, piazza Montessori\, Pino Torinese
CATEGORIES:CioCheMangio,CioCheVale Pausa Caffè,Eventi
ATTACH;FMTTYPE=image/jpeg:https://www.ciochevale.it/wp-content/uploads/2024/03/Locandina-Premio-Giovane-Agricoltore2024.jpg
END:VEVENT
END:VCALENDAR