BEGIN:VCALENDAR
VERSION:2.0
PRODID:-//CioCheVale APS - ECPv6.15.20//NONSGML v1.0//EN
CALSCALE:GREGORIAN
METHOD:PUBLISH
X-WR-CALNAME:CioCheVale APS
X-ORIGINAL-URL:https://www.ciochevale.it
X-WR-CALDESC:Eventi per CioCheVale APS
REFRESH-INTERVAL;VALUE=DURATION:PT1H
X-Robots-Tag:noindex
X-PUBLISHED-TTL:PT1H
BEGIN:VTIMEZONE
TZID:Europe/Paris
BEGIN:DAYLIGHT
TZOFFSETFROM:+0100
TZOFFSETTO:+0200
TZNAME:CEST
DTSTART:20220327T010000
END:DAYLIGHT
BEGIN:STANDARD
TZOFFSETFROM:+0200
TZOFFSETTO:+0100
TZNAME:CET
DTSTART:20221030T010000
END:STANDARD
BEGIN:DAYLIGHT
TZOFFSETFROM:+0100
TZOFFSETTO:+0200
TZNAME:CEST
DTSTART:20230326T010000
END:DAYLIGHT
BEGIN:STANDARD
TZOFFSETFROM:+0200
TZOFFSETTO:+0100
TZNAME:CET
DTSTART:20231029T010000
END:STANDARD
BEGIN:DAYLIGHT
TZOFFSETFROM:+0100
TZOFFSETTO:+0200
TZNAME:CEST
DTSTART:20240331T010000
END:DAYLIGHT
BEGIN:STANDARD
TZOFFSETFROM:+0200
TZOFFSETTO:+0100
TZNAME:CET
DTSTART:20241027T010000
END:STANDARD
END:VTIMEZONE
BEGIN:VEVENT
DTSTART;TZID=Europe/Paris:20231217T090000
DTEND;TZID=Europe/Paris:20231217T180000
DTSTAMP:20260420T171629
CREATED:20231221T013016Z
LAST-MODIFIED:20231221T013016Z
UID:5352-1702803600-1702836000@www.ciochevale.it
SUMMARY:Mercatino di Natale a Mombello
DESCRIPTION:
URL:https://www.ciochevale.it/evento/mercatino-di-natale-a-mombello/
LOCATION:Piazza Mazzini Mombello
CATEGORIES:Eventi,Picchioverde,Pistaaa
ATTACH;FMTTYPE=image/jpeg:https://www.ciochevale.it/wp-content/uploads/2023/12/WhatsApp-Image-2023-11-09-at-18.05.04.jpeg
END:VEVENT
BEGIN:VEVENT
DTSTART;TZID=Europe/Paris:20231217T130000
DTEND;TZID=Europe/Paris:20231217T180000
DTSTAMP:20260420T171629
CREATED:20231116T110804Z
LAST-MODIFIED:20231116T110920Z
UID:5286-1702818000-1702836000@www.ciochevale.it
SUMMARY:Presepe Chi Eri
DESCRIPTION:
URL:https://www.ciochevale.it/evento/presepe-chi-eri/
LOCATION:Piazza Cavour Chieri
CATEGORIES:Cibo, Comunità e Salute,CioCheMangio,Eventi,Picchioverde,PicchioVerde,PicchioVerde,Pistaaa
ATTACH;FMTTYPE=image/jpeg:https://www.ciochevale.it/wp-content/uploads/2023/11/incontrinsieme.jpg
END:VEVENT
END:VCALENDAR