BEGIN:VCALENDAR
VERSION:2.0
PRODID:-//CioCheVale APS - ECPv6.15.20//NONSGML v1.0//EN
CALSCALE:GREGORIAN
METHOD:PUBLISH
X-ORIGINAL-URL:https://www.ciochevale.it
X-WR-CALDESC:Eventi per CioCheVale APS
REFRESH-INTERVAL;VALUE=DURATION:PT1H
X-Robots-Tag:noindex
X-PUBLISHED-TTL:PT1H
BEGIN:VTIMEZONE
TZID:Europe/Paris
BEGIN:DAYLIGHT
TZOFFSETFROM:+0100
TZOFFSETTO:+0200
TZNAME:CEST
DTSTART:20220327T010000
END:DAYLIGHT
BEGIN:STANDARD
TZOFFSETFROM:+0200
TZOFFSETTO:+0100
TZNAME:CET
DTSTART:20221030T010000
END:STANDARD
BEGIN:DAYLIGHT
TZOFFSETFROM:+0100
TZOFFSETTO:+0200
TZNAME:CEST
DTSTART:20230326T010000
END:DAYLIGHT
BEGIN:STANDARD
TZOFFSETFROM:+0200
TZOFFSETTO:+0100
TZNAME:CET
DTSTART:20231029T010000
END:STANDARD
BEGIN:DAYLIGHT
TZOFFSETFROM:+0100
TZOFFSETTO:+0200
TZNAME:CEST
DTSTART:20240331T010000
END:DAYLIGHT
BEGIN:STANDARD
TZOFFSETFROM:+0200
TZOFFSETTO:+0100
TZNAME:CET
DTSTART:20241027T010000
END:STANDARD
END:VTIMEZONE
BEGIN:VEVENT
DTSTART;TZID=Europe/Paris:20230917T080000
DTEND;TZID=Europe/Paris:20230917T180000
DTSTAMP:20260420T205046
CREATED:20231031T213912Z
LAST-MODIFIED:20231031T213912Z
UID:5139-1694937600-1694973600@www.ciochevale.it
SUMMARY:Cambiano come Montmartre 2023
DESCRIPTION:
URL:https://www.ciochevale.it/evento/cambiano-come-montmartre-2023/
LOCATION:Comune Cambiano (TO)
CATEGORIES:Cibo, Comunità e Salute,CioCheMangio,Conferenza,Eventi,Picchioverde,PicchioVerde,Pistaaa
ATTACH;FMTTYPE=image/webp:https://www.ciochevale.it/wp-content/uploads/2023/10/montmartre-2023.webp
END:VEVENT
END:VCALENDAR