BEGIN:VCALENDAR
VERSION:2.0
PRODID:-//CioCheVale APS - ECPv6.15.20//NONSGML v1.0//EN
CALSCALE:GREGORIAN
METHOD:PUBLISH
X-WR-CALNAME:CioCheVale APS
X-ORIGINAL-URL:https://www.ciochevale.it
X-WR-CALDESC:Eventi per CioCheVale APS
REFRESH-INTERVAL;VALUE=DURATION:PT1H
X-Robots-Tag:noindex
X-PUBLISHED-TTL:PT1H
BEGIN:VTIMEZONE
TZID:Europe/Paris
BEGIN:DAYLIGHT
TZOFFSETFROM:+0100
TZOFFSETTO:+0200
TZNAME:CEST
DTSTART:20220327T010000
END:DAYLIGHT
BEGIN:STANDARD
TZOFFSETFROM:+0200
TZOFFSETTO:+0100
TZNAME:CET
DTSTART:20221030T010000
END:STANDARD
BEGIN:DAYLIGHT
TZOFFSETFROM:+0100
TZOFFSETTO:+0200
TZNAME:CEST
DTSTART:20230326T010000
END:DAYLIGHT
BEGIN:STANDARD
TZOFFSETFROM:+0200
TZOFFSETTO:+0100
TZNAME:CET
DTSTART:20231029T010000
END:STANDARD
BEGIN:DAYLIGHT
TZOFFSETFROM:+0100
TZOFFSETTO:+0200
TZNAME:CEST
DTSTART:20240331T010000
END:DAYLIGHT
BEGIN:STANDARD
TZOFFSETFROM:+0200
TZOFFSETTO:+0100
TZNAME:CET
DTSTART:20241027T010000
END:STANDARD
END:VTIMEZONE
BEGIN:VEVENT
DTSTART;TZID=Europe/Paris:20230907T180000
DTEND;TZID=Europe/Paris:20230907T193000
DTSTAMP:20260420T205030
CREATED:20231101T175211Z
LAST-MODIFIED:20231101T175734Z
UID:5200-1694109600-1694115000@www.ciochevale.it
SUMMARY:CambiaVento Climate social Festival Chieri
DESCRIPTION:
URL:https://www.ciochevale.it/evento/cambiavento-climate-social-festival-chieri/
LOCATION:Parco Tessile Chierese\, Area Caselli\, Chieri
CATEGORIES:Cibo, Comunità e Salute,CioCheMangio,Conferenza
ATTACH;FMTTYPE=image/jpeg:https://www.ciochevale.it/wp-content/uploads/2023/11/WhatsApp-Image-2023-11-01-at-18.50.43.jpeg
END:VEVENT
END:VCALENDAR