BEGIN:VCALENDAR
VERSION:2.0
PRODID:-//CioCheVale APS - ECPv6.15.20//NONSGML v1.0//EN
CALSCALE:GREGORIAN
METHOD:PUBLISH
X-WR-CALNAME:CioCheVale APS
X-ORIGINAL-URL:https://www.ciochevale.it
X-WR-CALDESC:Eventi per CioCheVale APS
REFRESH-INTERVAL;VALUE=DURATION:PT1H
X-Robots-Tag:noindex
X-PUBLISHED-TTL:PT1H
BEGIN:VTIMEZONE
TZID:Europe/Paris
BEGIN:DAYLIGHT
TZOFFSETFROM:+0100
TZOFFSETTO:+0200
TZNAME:CEST
DTSTART:20220327T010000
END:DAYLIGHT
BEGIN:STANDARD
TZOFFSETFROM:+0200
TZOFFSETTO:+0100
TZNAME:CET
DTSTART:20221030T010000
END:STANDARD
BEGIN:DAYLIGHT
TZOFFSETFROM:+0100
TZOFFSETTO:+0200
TZNAME:CEST
DTSTART:20230326T010000
END:DAYLIGHT
BEGIN:STANDARD
TZOFFSETFROM:+0200
TZOFFSETTO:+0100
TZNAME:CET
DTSTART:20231029T010000
END:STANDARD
BEGIN:DAYLIGHT
TZOFFSETFROM:+0100
TZOFFSETTO:+0200
TZNAME:CEST
DTSTART:20240331T010000
END:DAYLIGHT
BEGIN:STANDARD
TZOFFSETFROM:+0200
TZOFFSETTO:+0100
TZNAME:CET
DTSTART:20241027T010000
END:STANDARD
END:VTIMEZONE
BEGIN:VEVENT
DTSTART;TZID=Europe/Paris:20230427T203000
DTEND;TZID=Europe/Paris:20230427T223000
DTSTAMP:20260421T031454
CREATED:20230411T054825Z
LAST-MODIFIED:20240115T212824Z
UID:5004-1682627400-1682634600@www.ciochevale.it
SUMMARY:Assemblea Straordinaria e Assemblea Ordinaria Soci CioCheVale
DESCRIPTION:Convocazioni riservate ai Soci di CioCheVale in regola con la quota associativa 2023 \nAssemblea Straordinaria 26 aprile 2023 Prima Convocazione ore 7.00 in Via Marconi 15 Chieri\nAssemblea Ordinaria 26 aprile 2023 Prima Convocazione ore 8.30 in Via Marconi 15 Chieri \nAssemblea Straordinaria 27 aprile 2023 Seconda Convocazione ore 20.30 Strada del Ritano 43 presso De Tommasi BigMat\na seguire\nAssemblea Ordinaria 27 aprile 2023 Seconda Convocazione sempre in Strada del Ritano 43 presso De Tommasi BigMat \nOrdine del giorno assemblea straordinaria\nRatifica soci esclusi o dimessi\nCambiamento nome associazione in “CiòCheVale APS”\nApprovazione modifica Statuto\nApprovazione riclassificazione rendiconto economico 2021 con il nuovo modello ministeriale D \nOrdine del giorno assemblea ordinaria\nApprovazione quote Soci 2024\nRelazione attività 2022\nApprovazione rendiconto economico consuntivo 2022\nRelazione attività previste 2023\nApprovazione rendiconto previsionale 2023\nVarie ed Eventuali \nSi ricorda che per l’assemblea straordinaria è necessaria la presenza dei due terzi dei soci in regola con le quote 2023\, i soci possono rappresentare con delega scritta altri due soci \nSarà possibile partecipare da remoto collegandosi al link che verrà fornito qualche giorno prima
URL:https://www.ciochevale.it/evento/assemblea-straordinaria-e-assemblea-ordinaria-soci-ciochevale/
LOCATION:BigMat De Tommasi\, strada del Ritano 43\, Chieri\, Italia
CATEGORIES:Riunione
ATTACH;FMTTYPE=image/png:https://www.ciochevale.it/wp-content/uploads/2020/04/ciochevale_logo_trasparente.png
ORGANIZER;CN="Associazione CioCheVale":MAILTO:associazione.ciochevale@gmail.com
END:VEVENT
END:VCALENDAR