BEGIN:VCALENDAR
VERSION:2.0
PRODID:-//CioCheVale APS - ECPv6.15.20//NONSGML v1.0//EN
CALSCALE:GREGORIAN
METHOD:PUBLISH
X-WR-CALNAME:CioCheVale APS
X-ORIGINAL-URL:https://www.ciochevale.it
X-WR-CALDESC:Eventi per CioCheVale APS
REFRESH-INTERVAL;VALUE=DURATION:PT1H
X-Robots-Tag:noindex
X-PUBLISHED-TTL:PT1H
BEGIN:VTIMEZONE
TZID:Europe/Paris
BEGIN:DAYLIGHT
TZOFFSETFROM:+0100
TZOFFSETTO:+0200
TZNAME:CEST
DTSTART:20220327T010000
END:DAYLIGHT
BEGIN:STANDARD
TZOFFSETFROM:+0200
TZOFFSETTO:+0100
TZNAME:CET
DTSTART:20221030T010000
END:STANDARD
BEGIN:DAYLIGHT
TZOFFSETFROM:+0100
TZOFFSETTO:+0200
TZNAME:CEST
DTSTART:20230326T010000
END:DAYLIGHT
BEGIN:STANDARD
TZOFFSETFROM:+0200
TZOFFSETTO:+0100
TZNAME:CET
DTSTART:20231029T010000
END:STANDARD
BEGIN:DAYLIGHT
TZOFFSETFROM:+0100
TZOFFSETTO:+0200
TZNAME:CEST
DTSTART:20240331T010000
END:DAYLIGHT
BEGIN:STANDARD
TZOFFSETFROM:+0200
TZOFFSETTO:+0100
TZNAME:CET
DTSTART:20241027T010000
END:STANDARD
END:VTIMEZONE
BEGIN:VEVENT
DTSTART;TZID=Europe/Paris:20230405T180000
DTEND;TZID=Europe/Paris:20230405T200000
DTSTAMP:20260421T031454
CREATED:20230330T062658Z
LAST-MODIFIED:20240115T212916Z
UID:4996-1680717600-1680724800@www.ciochevale.it
SUMMARY:Come creare Comunità di Supporto all'Agricoltura
DESCRIPTION:Le Comunity Supported Agriculture (CSA) rappresentano un nodo della nascente società civile globale che ha come obiettivo rifondare il rapporto fra i membri della comunità\, territorio e produttori di cibo\, per partecipare attivamente al processo di produzione del cibo\, del mantenimento e della fruizione del paesaggio agrario. \nInterverrà raccontando l’esperienza chierese Pietro Liotta\, coordinatore della CSA CioCheMangio
URL:https://www.ciochevale.it/evento/come-creare-comunita-di-supporto-allagricoltura/
LOCATION:Cittadellarte Fondazione Pistoletto\, via Serralunga 27\, Biella\, ITALY
CATEGORIES:Cibo, Comunità e Salute,CioCheMangio,Corso
ATTACH;FMTTYPE=image/jpeg:https://www.ciochevale.it/wp-content/uploads/2023/03/WhatsApp-Image-2023-03-29-at-13.07.49.jpeg
END:VEVENT
END:VCALENDAR