BEGIN:VCALENDAR
VERSION:2.0
PRODID:-//CioCheVale APS - ECPv6.15.20//NONSGML v1.0//EN
CALSCALE:GREGORIAN
METHOD:PUBLISH
X-WR-CALNAME:CioCheVale APS
X-ORIGINAL-URL:https://www.ciochevale.it
X-WR-CALDESC:Eventi per CioCheVale APS
REFRESH-INTERVAL;VALUE=DURATION:PT1H
X-Robots-Tag:noindex
X-PUBLISHED-TTL:PT1H
BEGIN:VTIMEZONE
TZID:Europe/Paris
BEGIN:DAYLIGHT
TZOFFSETFROM:+0100
TZOFFSETTO:+0200
TZNAME:CEST
DTSTART:20190331T010000
END:DAYLIGHT
BEGIN:STANDARD
TZOFFSETFROM:+0200
TZOFFSETTO:+0100
TZNAME:CET
DTSTART:20191027T010000
END:STANDARD
BEGIN:DAYLIGHT
TZOFFSETFROM:+0100
TZOFFSETTO:+0200
TZNAME:CEST
DTSTART:20200329T010000
END:DAYLIGHT
BEGIN:STANDARD
TZOFFSETFROM:+0200
TZOFFSETTO:+0100
TZNAME:CET
DTSTART:20201025T010000
END:STANDARD
BEGIN:DAYLIGHT
TZOFFSETFROM:+0100
TZOFFSETTO:+0200
TZNAME:CEST
DTSTART:20210328T010000
END:DAYLIGHT
BEGIN:STANDARD
TZOFFSETFROM:+0200
TZOFFSETTO:+0100
TZNAME:CET
DTSTART:20211031T010000
END:STANDARD
END:VTIMEZONE
BEGIN:VEVENT
DTSTART;TZID=Europe/Paris:20201210T220000
DTEND;TZID=Europe/Paris:20201210T223000
DTSTAMP:20260422T164632
CREATED:20201115T200651Z
LAST-MODIFIED:20240115T212243Z
UID:2818-1607637600-1607639400@www.ciochevale.it
SUMMARY:Turismo della Collina: Coniugare il Mondo della Cultura e quello del Turismo
DESCRIPTION:Picchioverde: Coniugare il Mondo della Cultura e quello del Turismo \nDaniela Parena intervista Monica Gilli\, Docente di Sociologia del Turismo\, Corso di studio del Dipartimento di Culture\, Politica e Società\, Università di Torino. \nUn viaggio è la relazione che il turista instaura con i luoghi\, la storia\, la cultura\, l’identità e la vita di una comunità allo scopo di conoscerne stili di vita\, eredità culturali ed artistiche. \nSeguila dalla nostra pagina Facebook https://www.facebook.com/chieriwebtv/(il video diretta partirà all’ora di inizio dell’evento).
URL:https://www.ciochevale.it/evento/turismo-della-collina-coniugare-il-mondo-della-cultura-e-quello-del-turismo/
CATEGORIES:Palinsesto,Picchioverde
ATTACH;FMTTYPE=image/jpeg:https://www.ciochevale.it/wp-content/uploads/2020/11/Iconcina-Picchioverde.jpeg
ORGANIZER;CN="Associazione CioCheVale":MAILTO:associazione.ciochevale@gmail.com
END:VEVENT
END:VCALENDAR