BEGIN:VCALENDAR
VERSION:2.0
PRODID:-//CioCheVale APS - ECPv6.15.20//NONSGML v1.0//EN
CALSCALE:GREGORIAN
METHOD:PUBLISH
X-WR-CALNAME:CioCheVale APS
X-ORIGINAL-URL:https://www.ciochevale.it
X-WR-CALDESC:Eventi per CioCheVale APS
REFRESH-INTERVAL;VALUE=DURATION:PT1H
X-Robots-Tag:noindex
X-PUBLISHED-TTL:PT1H
BEGIN:VTIMEZONE
TZID:Europe/Paris
BEGIN:DAYLIGHT
TZOFFSETFROM:+0100
TZOFFSETTO:+0200
TZNAME:CEST
DTSTART:20190331T010000
END:DAYLIGHT
BEGIN:STANDARD
TZOFFSETFROM:+0200
TZOFFSETTO:+0100
TZNAME:CET
DTSTART:20191027T010000
END:STANDARD
BEGIN:DAYLIGHT
TZOFFSETFROM:+0100
TZOFFSETTO:+0200
TZNAME:CEST
DTSTART:20200329T010000
END:DAYLIGHT
BEGIN:STANDARD
TZOFFSETFROM:+0200
TZOFFSETTO:+0100
TZNAME:CET
DTSTART:20201025T010000
END:STANDARD
BEGIN:DAYLIGHT
TZOFFSETFROM:+0100
TZOFFSETTO:+0200
TZNAME:CEST
DTSTART:20210328T010000
END:DAYLIGHT
BEGIN:STANDARD
TZOFFSETFROM:+0200
TZOFFSETTO:+0100
TZNAME:CET
DTSTART:20211031T010000
END:STANDARD
END:VTIMEZONE
BEGIN:VEVENT
DTSTART;TZID=Europe/Paris:20201126T220000
DTEND;TZID=Europe/Paris:20201126T230000
DTSTAMP:20260422T222020
CREATED:20201112T194901Z
LAST-MODIFIED:20240115T212304Z
UID:2807-1606428000-1606431600@www.ciochevale.it
SUMMARY:Pistaaa. La Blue Way Piemontese: Valori\, Obiettivi\, Partner\, Attività Web
DESCRIPTION:Pistaaa. La Blue Way Piemontese: Valori\, Obiettivi\, Partner\, Attività Web \nA.Guggino\, P. Liotta\, G.Bosco\, V. Drago\, del Team del progetto Pistaaa\,  raccontano l’esperienza di una ciclovia su strade bianche \nSeguila dalla nostra pagina Facebook https://www.facebook.com/chieriwebtv/(il video diretta partirà all’ora di inizio dell’evento).
URL:https://www.ciochevale.it/evento/pistaaa-la-blue-way-piemontese-valori-obiettivi-partner-attivita-web/
CATEGORIES:Palinsesto,Pistaaa
ATTACH;FMTTYPE=image/jpeg:https://www.ciochevale.it/wp-content/uploads/2020/11/Iconcina-Pistaaa-1.jpeg
ORGANIZER;CN="Associazione CioCheVale":MAILTO:associazione.ciochevale@gmail.com
END:VEVENT
END:VCALENDAR