BEGIN:VCALENDAR
VERSION:2.0
PRODID:-//CioCheVale APS - ECPv6.15.20//NONSGML v1.0//EN
CALSCALE:GREGORIAN
METHOD:PUBLISH
X-WR-CALNAME:CioCheVale APS
X-ORIGINAL-URL:https://www.ciochevale.it
X-WR-CALDESC:Eventi per CioCheVale APS
REFRESH-INTERVAL;VALUE=DURATION:PT1H
X-Robots-Tag:noindex
X-PUBLISHED-TTL:PT1H
BEGIN:VTIMEZONE
TZID:Europe/Paris
BEGIN:DAYLIGHT
TZOFFSETFROM:+0100
TZOFFSETTO:+0200
TZNAME:CEST
DTSTART:20190331T010000
END:DAYLIGHT
BEGIN:STANDARD
TZOFFSETFROM:+0200
TZOFFSETTO:+0100
TZNAME:CET
DTSTART:20191027T010000
END:STANDARD
BEGIN:DAYLIGHT
TZOFFSETFROM:+0100
TZOFFSETTO:+0200
TZNAME:CEST
DTSTART:20200329T010000
END:DAYLIGHT
BEGIN:STANDARD
TZOFFSETFROM:+0200
TZOFFSETTO:+0100
TZNAME:CET
DTSTART:20201025T010000
END:STANDARD
BEGIN:DAYLIGHT
TZOFFSETFROM:+0100
TZOFFSETTO:+0200
TZNAME:CEST
DTSTART:20210328T010000
END:DAYLIGHT
BEGIN:STANDARD
TZOFFSETFROM:+0200
TZOFFSETTO:+0100
TZNAME:CET
DTSTART:20211031T010000
END:STANDARD
END:VTIMEZONE
BEGIN:VEVENT
DTSTART;TZID=Europe/Paris:20200915T090000
DTEND;TZID=Europe/Paris:20201015T180000
DTSTAMP:20260422T204542
CREATED:20200712T195857Z
LAST-MODIFIED:20240115T212331Z
UID:2669-1600160400-1602784800@www.ciochevale.it
SUMMARY:Anche ChieriWebTV si concede una pausa estiva. Appuntamento a settembre!
DESCRIPTION:Anche ChieriWebTV si concede una pausa estiva: dal nostro punto di vista\, la strada percorsa dall’avvio di questa avventura\, avvenuto lo scorso 21 maggio\, è stata costellata di incontri interessanti\, di esperienze condivise\, di racconti e di occasioni per\, riflettere\, divertirsi\, imparare. \nÈ stato un primo periodo di sperimentazione\, di intenso ed entusiasmante lavoro di squadra\, non solo come gruppo di lavoro\, che tecnicamente ha costruito ChieriWebTV\, ma anche come comunità\, che ha reso possibile tutto questo. Perciò vogliamo ringraziare gli ospiti delle trasmissioni\, i collaboratori\, gli amministratori locali\, coloro che ci hanno seguiti e tutti coloro che\, a vario titolo\, hanno contribuito all’iniziativa e che condividono con noi gli obiettivi del progetto\, che vuole essere voce viva del territorio chierese. Un ringraziamento per la collaborazione a: \nCorriere di Chieri \nPolitecnico di Torino – Dipartimento Architettura e Design \nCooperativa Cittattiva \nAssessorato all’istruzione della Città di Chieri \nUNESCO Chair in Sustainable Development and Territory Management University of Turin \nItalia Che Cambia \nPremio InediTO \nIl “Festival Due Punti ON AIR” festival diffuso su cibo ecosistemi e cultura\, promosso dal Dipartimento di Scienze Agrarie\, Forestali e Alimentari\, dal Dipartimento di Scienze Veterinarie e dal Dipartimento di Lingue e Letterature Straniere e Culture Moderne. \nVi ricordiamo che le trasmissioni realizzate si possono rivedere attraverso la pagine web di CioCheVale www.ciochevale.it/chieriwebtv/rubriche  oppure sul nostro canale Youtube e sulla pagina Facebook di ChieriWebTv. \nCi fermiamo per ricaricare le pile e per preparare il ritorno: l’appuntamento è per settembre\, quando ChieriWebTV riprenderà a raccontare… \nGrazie a tutti e buona estate! \n 
URL:https://www.ciochevale.it/evento/anche-chieriwebtv-si-concede-una-pausa-estiva-appuntamento-a-settembre/
CATEGORIES:Palinsesto,Servizi per la comunità
ATTACH;FMTTYPE=image/png:https://www.ciochevale.it/wp-content/uploads/2020/04/CWT_vert_rgb.png
ORGANIZER;CN="Associazione CioCheVale":MAILTO:associazione.ciochevale@gmail.com
END:VEVENT
END:VCALENDAR