BEGIN:VCALENDAR
VERSION:2.0
PRODID:-//CioCheVale APS - ECPv6.15.20//NONSGML v1.0//EN
CALSCALE:GREGORIAN
METHOD:PUBLISH
X-ORIGINAL-URL:https://www.ciochevale.it
X-WR-CALDESC:Eventi per CioCheVale APS
REFRESH-INTERVAL;VALUE=DURATION:PT1H
X-Robots-Tag:noindex
X-PUBLISHED-TTL:PT1H
BEGIN:VTIMEZONE
TZID:Europe/Paris
BEGIN:DAYLIGHT
TZOFFSETFROM:+0100
TZOFFSETTO:+0200
TZNAME:CEST
DTSTART:20190331T010000
END:DAYLIGHT
BEGIN:STANDARD
TZOFFSETFROM:+0200
TZOFFSETTO:+0100
TZNAME:CET
DTSTART:20191027T010000
END:STANDARD
BEGIN:DAYLIGHT
TZOFFSETFROM:+0100
TZOFFSETTO:+0200
TZNAME:CEST
DTSTART:20200329T010000
END:DAYLIGHT
BEGIN:STANDARD
TZOFFSETFROM:+0200
TZOFFSETTO:+0100
TZNAME:CET
DTSTART:20201025T010000
END:STANDARD
BEGIN:DAYLIGHT
TZOFFSETFROM:+0100
TZOFFSETTO:+0200
TZNAME:CEST
DTSTART:20210328T010000
END:DAYLIGHT
BEGIN:STANDARD
TZOFFSETFROM:+0200
TZOFFSETTO:+0100
TZNAME:CET
DTSTART:20211031T010000
END:STANDARD
END:VTIMEZONE
BEGIN:VEVENT
DTSTART;TZID=Europe/Paris:20200714T180000
DTEND;TZID=Europe/Paris:20200714T190000
DTSTAMP:20260422T230539
CREATED:20200712T055613Z
LAST-MODIFIED:20240115T212400Z
UID:2657-1594749600-1594753200@www.ciochevale.it
SUMMARY:Replica-Cibo\, Comunità\, Salute: Let Eat Bi: tra coltura\, cultura e convivialità
DESCRIPTION:Cibo\, Comunità\, Salute: Let Eat Bi: tra coltura\, cultura e convivialità \nAlessandra Savina\, Roberta Lomuscio\, Armona Pistoletto (Cittadellarte)\, Luca Roffinella (Azienda Agricola Massarone) \nrivedila sul nostro canale Youtube  \n\n 
URL:https://www.ciochevale.it/evento/replica-cibo-comunita-salute-let-eat-bi-tra-coltura-cultura-e-convivialita/
CATEGORIES:Conosciamo,Palinsesto
ATTACH;FMTTYPE=image/jpeg:https://www.ciochevale.it/wp-content/uploads/2020/05/CONOSCIAMO.jpg
ORGANIZER;CN="Associazione CioCheVale":MAILTO:associazione.ciochevale@gmail.com
END:VEVENT
BEGIN:VEVENT
DTSTART;TZID=Europe/Paris:20200714T190000
DTEND;TZID=Europe/Paris:20200714T200000
DTSTAMP:20260422T230539
CREATED:20200712T194740Z
LAST-MODIFIED:20240115T212353Z
UID:2665-1594753200-1594756800@www.ciochevale.it
SUMMARY:Pistaaa presenta: La Prima Cicloturistica CollinaPo
DESCRIPTION:Pistaaa presenta: La prima Cicloturistica CollinaPo – Amministrazioni Comunali \, associazioni e volontari insieme per realizzare un’ “EROICA”nel nostro territorio \nconduce Laura Pompeo Assessore al Turismo e alla Cultura del Comune di Moncalieri\, \nSeguila dal video sottostante o sul nostro canale Youtube: il video partirà come première all’ora di inizio dell’evento (ma sarà possibile rivederlo se non doveste collegarvi in tempo).
URL:https://www.ciochevale.it/evento/pistaaa-presenta-prima-cicloturistica-collinapo/
CATEGORIES:Informiamoci,Palinsesto
ATTACH;FMTTYPE=image/jpeg:https://www.ciochevale.it/wp-content/uploads/2020/05/INFORMIAMOCI.jpg
ORGANIZER;CN="Associazione CioCheVale":MAILTO:associazione.ciochevale@gmail.com
END:VEVENT
BEGIN:VEVENT
DTSTART;TZID=Europe/Paris:20200714T200000
DTEND;TZID=Europe/Paris:20200714T210000
DTSTAMP:20260422T230539
CREATED:20200712T193103Z
LAST-MODIFIED:20240115T212345Z
UID:2659-1594756800-1594760400@www.ciochevale.it
SUMMARY:Festival Due Punti - Le degustazioni sul divano: Vino per apprezzare tre vini piemontesi: Freisa di Chieri DOP Freisa di Chieri "frizzante" DOP Roero Arneis DOCG
DESCRIPTION:Festival Due Punti: Le degustazioni sul divano: Vino per apprezzare tre vini piemontesi: Freisa di Chieri DOP Freisa di Chieri “frizzante” DOP Roero Arneis DOCG \ncon prof. Vincenzo Gerbi\, Disafa Unito e Presidente di ONAV.it \nRingraziamo  “Università degli Studi di Torino” per aver consentito di trasmettere questa iniziativa sulla nostra ChieriWebTv \nSeguila dalla nostra pagina Facebook https://www.facebook.com/chieriwebtv/(il video diretta partirà all’ora di inizio dell’evento).
URL:https://www.ciochevale.it/evento/festival-due-punti-le-degustazioni-sul-divano-vino-per-apprezzare-tre-vini-piemontesi-freisa-di-chieri-dop-freisa-di-chieri-frizzante-dop-roero-arneis-docg/
CATEGORIES:Conosciamo,Palinsesto
ATTACH;FMTTYPE=image/jpeg:https://www.ciochevale.it/wp-content/uploads/2020/05/CONOSCIAMO.jpg
ORGANIZER;CN="Associazione CioCheVale":MAILTO:associazione.ciochevale@gmail.com
END:VEVENT
BEGIN:VEVENT
DTSTART;TZID=Europe/Paris:20200714T220000
DTEND;TZID=Europe/Paris:20200714T223000
DTSTAMP:20260422T230539
CREATED:20200712T193948Z
LAST-MODIFIED:20240115T212337Z
UID:2662-1594764000-1594765800@www.ciochevale.it
SUMMARY:Festival Due Punti - Oggi ti mangio\, domani ti mangerò?
DESCRIPTION:Festival Due Punti: Oggi ti mangio\, domani ti mangerò? \nintervista a Domenico Bergero Direttore del Dipartimento di Scienze Veterinarie \nRingraziamo  “Università degli Studi di Torino” per aver consentito di trasmettere questa iniziativa sulla nostra ChieriWebTv \nSeguila dalla nostra pagina Facebook https://www.facebook.com/chieriwebtv/(il video diretta partirà all’ora di inizio dell’evento).
URL:https://www.ciochevale.it/evento/festival-due-punti-oggi-ti-mangio-domani-ti-mangero/
CATEGORIES:Conosciamo,Palinsesto
ATTACH;FMTTYPE=image/jpeg:https://www.ciochevale.it/wp-content/uploads/2020/05/CONOSCIAMO.jpg
ORGANIZER;CN="Associazione CioCheVale":MAILTO:associazione.ciochevale@gmail.com
END:VEVENT
END:VCALENDAR