BEGIN:VCALENDAR
VERSION:2.0
PRODID:-//CioCheVale APS - ECPv6.15.20//NONSGML v1.0//EN
CALSCALE:GREGORIAN
METHOD:PUBLISH
X-ORIGINAL-URL:https://www.ciochevale.it
X-WR-CALDESC:Eventi per CioCheVale APS
REFRESH-INTERVAL;VALUE=DURATION:PT1H
X-Robots-Tag:noindex
X-PUBLISHED-TTL:PT1H
BEGIN:VTIMEZONE
TZID:Europe/Paris
BEGIN:DAYLIGHT
TZOFFSETFROM:+0100
TZOFFSETTO:+0200
TZNAME:CEST
DTSTART:20190331T010000
END:DAYLIGHT
BEGIN:STANDARD
TZOFFSETFROM:+0200
TZOFFSETTO:+0100
TZNAME:CET
DTSTART:20191027T010000
END:STANDARD
BEGIN:DAYLIGHT
TZOFFSETFROM:+0100
TZOFFSETTO:+0200
TZNAME:CEST
DTSTART:20200329T010000
END:DAYLIGHT
BEGIN:STANDARD
TZOFFSETFROM:+0200
TZOFFSETTO:+0100
TZNAME:CET
DTSTART:20201025T010000
END:STANDARD
BEGIN:DAYLIGHT
TZOFFSETFROM:+0100
TZOFFSETTO:+0200
TZNAME:CEST
DTSTART:20210328T010000
END:DAYLIGHT
BEGIN:STANDARD
TZOFFSETFROM:+0200
TZOFFSETTO:+0100
TZNAME:CET
DTSTART:20211031T010000
END:STANDARD
END:VTIMEZONE
BEGIN:VEVENT
DTSTART;TZID=Europe/Paris:20200709T110000
DTEND;TZID=Europe/Paris:20200709T113000
DTSTAMP:20260422T230555
CREATED:20200707T100933Z
LAST-MODIFIED:20240115T212452Z
UID:2626-1594292400-1594294200@www.ciochevale.it
SUMMARY:Incontriamoci in un racconto: Fiducia e speranza\, come coltivarle? Apprendere dall’esperienza
DESCRIPTION:Incontriamoci in un racconto: Fiducia e speranza\, come coltivarle? Apprendere dall’esperienza\nGiovanna Ferella\, psicologa \nQuesto evento è una diretta partecipata\, cliccando sul seguente link\, si accetta la liberatoria: Partecipa su Zoom!  \nOppure\, seguila dalla nostra pagina facebook  https://www.facebook.com/chieriwebtv/  (il video in diretta partirà all’ora di inizio dell’evento).
URL:https://www.ciochevale.it/evento/incontriamoci-in-un-racconto-fiducia-e-speranza-come-coltivarle-apprendere-dallesperienza/
CATEGORIES:Palinsesto,Teniamoci in forma
ATTACH;FMTTYPE=image/jpeg:https://www.ciochevale.it/wp-content/uploads/2020/05/teniamoci-in-forma.jpg
ORGANIZER;CN="Associazione CioCheVale":MAILTO:associazione.ciochevale@gmail.com
END:VEVENT
BEGIN:VEVENT
DTSTART;TZID=Europe/Paris:20200709T180000
DTEND;TZID=Europe/Paris:20200709T190000
DTSTAMP:20260422T230555
CREATED:20200707T101601Z
LAST-MODIFIED:20240115T212446Z
UID:2628-1594317600-1594321200@www.ciochevale.it
SUMMARY:Le pagine del Picchioverde:  A due passi da Torino? Scopriamo una nuova iniziativa per valorizzare il nostro territorio
DESCRIPTION:Le pagine del Picchioverde: A due passi da Torino? Scopriamo una nuova iniziativa per valorizzare il nostro territorio \nLidia e Enrico Vergnano e tutta l’equipe di “A due passi da Torino” \nQuesto evento è una diretta partecipata\, cliccando sul seguente link\, si accetta la liberatoria: Partecipa su Zoom! \nOppure\, seguila dalla nostra pagina facebook  https://www.facebook.com/chieriwebtv/  (il video in diretta partirà all’ora di inizio)
URL:https://www.ciochevale.it/evento/le-pagine-del-picchioverde-a-due-passi-da-torino-scopriamo-una-nuova-iniziativa-per-valorizzare-il-nostro-territorio/
CATEGORIES:Conosciamo,Palinsesto
ATTACH;FMTTYPE=image/jpeg:https://www.ciochevale.it/wp-content/uploads/2020/05/CONOSCIAMO.jpg
ORGANIZER;CN="Associazione CioCheVale":MAILTO:associazione.ciochevale@gmail.com
END:VEVENT
BEGIN:VEVENT
DTSTART;TZID=Europe/Paris:20200709T190000
DTEND;TZID=Europe/Paris:20200709T200000
DTSTAMP:20260422T230555
CREATED:20200707T102652Z
LAST-MODIFIED:20240115T212440Z
UID:2630-1594321200-1594324800@www.ciochevale.it
SUMMARY:Cibo\, comunità\, salute: Let Eat Bi: tra coltura\, cultura e convivialità
DESCRIPTION:Cibo\, Comunità\, Salute: Let Eat Bi: tra coltura\, cultura e convivialità \nAlessandra Savina\, Roberta Lomuscio\, Armona Pistoletto (Cittadellarte)\, Luca Roffinella (Azienda Agricola Massarone)\n \nQuesto evento è una diretta partecipata\, cliccando su Partecipa su Zoom! si accetta la liberatoria. \nOppure\, seguila dalla nostra pagina facebook  https://www.facebook.com/chieriwebtv/  (il video diretta partirà all’ora di inizio dell’evento).
URL:https://www.ciochevale.it/evento/cibo-comunita-salute-let-eat-bi-tra-coltura-cultura-e-convivialita/
CATEGORIES:Conosciamo,Palinsesto
ATTACH;FMTTYPE=image/jpeg:https://www.ciochevale.it/wp-content/uploads/2020/05/CONOSCIAMO.jpg
ORGANIZER;CN="Associazione CioCheVale":MAILTO:associazione.ciochevale@gmail.com
END:VEVENT
BEGIN:VEVENT
DTSTART;TZID=Europe/Paris:20200709T201500
DTEND;TZID=Europe/Paris:20200709T204500
DTSTAMP:20260422T230555
CREATED:20200708T082920Z
LAST-MODIFIED:20240115T212434Z
UID:2634-1594325700-1594327500@www.ciochevale.it
SUMMARY:Giovani come state? Le risposte ad una città che cambia
DESCRIPTION:Informiamoci … Giovani come state? Le risposte ad una città che cambia \nA cura dell’Assessorato alle Politiche Giovanili della Città di Chieri con Paolo Rainato e Elisa Albarosa \nSeguila dal video sottostante o sul nostro canale Youtube: il video partirà come première all’ora di inizio dell’evento (ma sarà possibile rivederlo se non doveste collegarvi in tempo).
URL:https://www.ciochevale.it/evento/giovani-come-state-le-risposte-ad-una-citta-che-cambia/
CATEGORIES:Informiamoci,Palinsesto
ATTACH;FMTTYPE=image/jpeg:https://www.ciochevale.it/wp-content/uploads/2020/05/INFORMIAMOCI.jpg
ORGANIZER;CN="Associazione CioCheVale":MAILTO:associazione.ciochevale@gmail.com
END:VEVENT
BEGIN:VEVENT
DTSTART;TZID=Europe/Paris:20200709T210000
DTEND;TZID=Europe/Paris:20200709T211500
DTSTAMP:20260422T230555
CREATED:20200708T085539Z
LAST-MODIFIED:20240115T212428Z
UID:2636-1594328400-1594329300@www.ciochevale.it
SUMMARY:Leggi che ti passa: La tenacia
DESCRIPTION:Leggi che ti passa: La tenacia \nMassimo Tallone \nSeguila dal video sottostante o sul nostro canale Youtube: il video partirà come première all’ora di inizio dell’evento (ma sarà possibile rivederlo se non doveste collegarvi in tempo).
URL:https://www.ciochevale.it/evento/leggi-che-ti-passa-la-tenacia/
CATEGORIES:Conosciamo,Palinsesto
ATTACH;FMTTYPE=image/jpeg:https://www.ciochevale.it/wp-content/uploads/2020/05/CONOSCIAMO.jpg
ORGANIZER;CN="Associazione CioCheVale":MAILTO:associazione.ciochevale@gmail.com
END:VEVENT
BEGIN:VEVENT
DTSTART;TZID=Europe/Paris:20200709T213000
DTEND;TZID=Europe/Paris:20200709T223000
DTSTAMP:20260422T230555
CREATED:20200707T103147Z
LAST-MODIFIED:20240115T212422Z
UID:2632-1594330200-1594333800@www.ciochevale.it
SUMMARY:Accademia del dialogo:  La città contemporanea. Problemi\, interpretazioni\, rappresentazioni urbane del nostro tempo
DESCRIPTION:Accademia del Dialogo: La città contemporanea. Problemi\, interpretazioni\, rappresentazioni urbane del nostro tempo \nGiorgio Scialla\n \nQuesto evento è una diretta partecipata\, cliccando su Partecipa su Zoom! si accetta la liberatoria. \nOppure\, seguila dalla nostra pagina facebook  https://www.facebook.com/chieriwebtv/  (la diretta video partirà all’ora di inizio dell’evento).
URL:https://www.ciochevale.it/evento/accademia-del-dialogo-la-citta-contemporanea-problemi-interpretazioni-rappresentazioni-urbane-del-nostro-tempo/
CATEGORIES:Conosciamo,Palinsesto
ATTACH;FMTTYPE=image/jpeg:https://www.ciochevale.it/wp-content/uploads/2020/05/CONOSCIAMO.jpg
ORGANIZER;CN="Associazione CioCheVale":MAILTO:associazione.ciochevale@gmail.com
END:VEVENT
END:VCALENDAR