BEGIN:VCALENDAR
VERSION:2.0
PRODID:-//CioCheVale APS - ECPv6.15.20//NONSGML v1.0//EN
CALSCALE:GREGORIAN
METHOD:PUBLISH
X-WR-CALNAME:CioCheVale APS
X-ORIGINAL-URL:https://www.ciochevale.it
X-WR-CALDESC:Eventi per CioCheVale APS
REFRESH-INTERVAL;VALUE=DURATION:PT1H
X-Robots-Tag:noindex
X-PUBLISHED-TTL:PT1H
BEGIN:VTIMEZONE
TZID:Europe/Paris
BEGIN:DAYLIGHT
TZOFFSETFROM:+0100
TZOFFSETTO:+0200
TZNAME:CEST
DTSTART:20190331T010000
END:DAYLIGHT
BEGIN:STANDARD
TZOFFSETFROM:+0200
TZOFFSETTO:+0100
TZNAME:CET
DTSTART:20191027T010000
END:STANDARD
BEGIN:DAYLIGHT
TZOFFSETFROM:+0100
TZOFFSETTO:+0200
TZNAME:CEST
DTSTART:20200329T010000
END:DAYLIGHT
BEGIN:STANDARD
TZOFFSETFROM:+0200
TZOFFSETTO:+0100
TZNAME:CET
DTSTART:20201025T010000
END:STANDARD
BEGIN:DAYLIGHT
TZOFFSETFROM:+0100
TZOFFSETTO:+0200
TZNAME:CEST
DTSTART:20210328T010000
END:DAYLIGHT
BEGIN:STANDARD
TZOFFSETFROM:+0200
TZOFFSETTO:+0100
TZNAME:CET
DTSTART:20211031T010000
END:STANDARD
END:VTIMEZONE
BEGIN:VEVENT
DTSTART;TZID=Europe/Paris:20200707T190000
DTEND;TZID=Europe/Paris:20200707T193000
DTSTAMP:20260422T230544
CREATED:20200702T101922Z
LAST-MODIFIED:20240115T202559Z
UID:2606-1594148400-1594150200@www.ciochevale.it
SUMMARY:Replica-CioCheVale…pausa caffè:  Trasformare un oggetto del passato per viverlo nuovamente nel futuro
DESCRIPTION:CioCheVale…pausa caffè: Trasformare un oggetto del passato per viverlo nuovamente nel futuro\nLaura Vanzo \nrivedila sul nostro canale Youtube
URL:https://www.ciochevale.it/evento/replica-ciochevalepausa-caffe-trasformare-un-oggetto-del-passato-per-viverlo-nuovamente-nel-futuro/
CATEGORIES:Creiamo insieme,Palinsesto
ATTACH;FMTTYPE=image/jpeg:https://www.ciochevale.it/wp-content/uploads/2020/05/Creiamo-insieme.jpg
ORGANIZER;CN="Associazione CioCheVale":MAILTO:associazione.ciochevale@gmail.com
END:VEVENT
BEGIN:VEVENT
DTSTART;TZID=Europe/Paris:20200707T200000
DTEND;TZID=Europe/Paris:20200707T203000
DTSTAMP:20260422T230544
CREATED:20200706T153155Z
LAST-MODIFIED:20240115T202551Z
UID:2623-1594152000-1594153800@www.ciochevale.it
SUMMARY:Replica - Nonna Nico e le Fiabe del Mulino: La minestra di sassi
DESCRIPTION:Nonna Nico e le Fiabe del Mulino: Un galletto Amburghese \nClaudia Nicolino \nRivedila sul nostro canale Youtube
URL:https://www.ciochevale.it/evento/replica-nonna-nico-e-le-fiabe-del-mulino-la-minestra-di-sassi/
CATEGORIES:Divertiamoci,Palinsesto
ATTACH;FMTTYPE=image/jpeg:https://www.ciochevale.it/wp-content/uploads/2020/05/DIVERTIAMOCI.jpg
ORGANIZER;CN="Associazione CioCheVale":MAILTO:associazione.ciochevale@gmail.com
END:VEVENT
BEGIN:VEVENT
DTSTART;TZID=Europe/Paris:20200707T224500
DTEND;TZID=Europe/Paris:20200707T224500
DTSTAMP:20260422T230544
CREATED:20200702T133150Z
LAST-MODIFIED:20240115T202545Z
UID:2608-1594161900-1594161900@www.ciochevale.it
SUMMARY:Italia che Cambia - Daniela Ducato\, trasformare i rifiuti in risorse
DESCRIPTION:Da Italia Che Cambia: Daniela Ducato\, trasformare i rifiuti in risorse \nritrasmessa sul nostro canale Youtube
URL:https://www.ciochevale.it/evento/italia-che-cambia-daniela-ducato-trasformare-i-rifiuti-in-risorse/
CATEGORIES:Palinsesto,Servizi per la comunità
ATTACH;FMTTYPE=image/jpeg:https://www.ciochevale.it/wp-content/uploads/2020/05/SERVIZI.jpg
ORGANIZER;CN="Associazione CioCheVale":MAILTO:associazione.ciochevale@gmail.com
END:VEVENT
END:VCALENDAR