BEGIN:VCALENDAR
VERSION:2.0
PRODID:-//CioCheVale APS - ECPv6.15.20//NONSGML v1.0//EN
CALSCALE:GREGORIAN
METHOD:PUBLISH
X-ORIGINAL-URL:https://www.ciochevale.it
X-WR-CALDESC:Eventi per CioCheVale APS
REFRESH-INTERVAL;VALUE=DURATION:PT1H
X-Robots-Tag:noindex
X-PUBLISHED-TTL:PT1H
BEGIN:VTIMEZONE
TZID:Europe/Paris
BEGIN:DAYLIGHT
TZOFFSETFROM:+0100
TZOFFSETTO:+0200
TZNAME:CEST
DTSTART:20190331T010000
END:DAYLIGHT
BEGIN:STANDARD
TZOFFSETFROM:+0200
TZOFFSETTO:+0100
TZNAME:CET
DTSTART:20191027T010000
END:STANDARD
BEGIN:DAYLIGHT
TZOFFSETFROM:+0100
TZOFFSETTO:+0200
TZNAME:CEST
DTSTART:20200329T010000
END:DAYLIGHT
BEGIN:STANDARD
TZOFFSETFROM:+0200
TZOFFSETTO:+0100
TZNAME:CET
DTSTART:20201025T010000
END:STANDARD
BEGIN:DAYLIGHT
TZOFFSETFROM:+0100
TZOFFSETTO:+0200
TZNAME:CEST
DTSTART:20210328T010000
END:DAYLIGHT
BEGIN:STANDARD
TZOFFSETFROM:+0200
TZOFFSETTO:+0100
TZNAME:CET
DTSTART:20211031T010000
END:STANDARD
END:VTIMEZONE
BEGIN:VEVENT
DTSTART;TZID=Europe/Paris:20200704T110000
DTEND;TZID=Europe/Paris:20200704T113000
DTSTAMP:20260422T230540
CREATED:20200701T121545Z
LAST-MODIFIED:20240115T202613Z
UID:2600-1593860400-1593862200@www.ciochevale.it
SUMMARY:Festival Due Punti: AAA Foresta cercasi
DESCRIPTION:Festival Due Punti: AAA Foresta cercasi \nIntervista a Giorgio Vacchiano ricercatore in pianificazione e gestione forestale e segnalato dalla rivista Nature nel 2018 come uno tra gli 11 giovani ricercatori più promettenti al mondo \nRingraziamo  “Università degli Studi di Torino” per aver consentito di trasmettere questa iniziativa sulla nostra ChieriWebTv \nSeguila dal video sottostante o sul nostro canale Youtube: il video partirà come première all’ora di inizio dell’evento (ma sarà possibile rivederlo se non doveste collegarvi in tempo). \n\n 
URL:https://www.ciochevale.it/evento/festival-due-punti-aaa-foresta-cercasi/
CATEGORIES:Conosciamo,Palinsesto
ATTACH;FMTTYPE=image/jpeg:https://www.ciochevale.it/wp-content/uploads/2020/05/CONOSCIAMO.jpg
ORGANIZER;CN="Associazione CioCheVale":MAILTO:associazione.ciochevale@gmail.com
END:VEVENT
BEGIN:VEVENT
DTSTART;TZID=Europe/Paris:20200704T113000
DTEND;TZID=Europe/Paris:20200704T120000
DTSTAMP:20260422T230540
CREATED:20200701T133746Z
LAST-MODIFIED:20240115T202607Z
UID:2602-1593862200-1593864000@www.ciochevale.it
SUMMARY:Laboratorio bimbi TOCTOC: Il bruco dei numeri
DESCRIPTION:Laboratorio bimbi TOCTOC: Il bruco dei numeri \nRealizzato da Cittattiva e finanziato dall’Assessorato all’istruzione della Città di Chieri \nSeguila dal video sottostante o sul nostro canale Youtube: il video partirà come première all’ora di inizio dell’evento (ma sarà possibile rivederlo se non doveste collegarvi in tempo). \n 
URL:https://www.ciochevale.it/evento/laboratorio-bimbi-toctoc-il-bruco-dei-numeri/
CATEGORIES:Conosciamo,Palinsesto
ATTACH;FMTTYPE=image/jpeg:https://www.ciochevale.it/wp-content/uploads/2020/05/DIVERTIAMOCI.jpg
ORGANIZER;CN="Associazione CioCheVale":MAILTO:associazione.ciochevale@gmail.com
END:VEVENT
END:VCALENDAR