BEGIN:VCALENDAR
VERSION:2.0
PRODID:-//CioCheVale APS - ECPv6.15.20//NONSGML v1.0//EN
CALSCALE:GREGORIAN
METHOD:PUBLISH
X-ORIGINAL-URL:https://www.ciochevale.it
X-WR-CALDESC:Eventi per CioCheVale APS
REFRESH-INTERVAL;VALUE=DURATION:PT1H
X-Robots-Tag:noindex
X-PUBLISHED-TTL:PT1H
BEGIN:VTIMEZONE
TZID:Europe/Paris
BEGIN:DAYLIGHT
TZOFFSETFROM:+0100
TZOFFSETTO:+0200
TZNAME:CEST
DTSTART:20190331T010000
END:DAYLIGHT
BEGIN:STANDARD
TZOFFSETFROM:+0200
TZOFFSETTO:+0100
TZNAME:CET
DTSTART:20191027T010000
END:STANDARD
BEGIN:DAYLIGHT
TZOFFSETFROM:+0100
TZOFFSETTO:+0200
TZNAME:CEST
DTSTART:20200329T010000
END:DAYLIGHT
BEGIN:STANDARD
TZOFFSETFROM:+0200
TZOFFSETTO:+0100
TZNAME:CET
DTSTART:20201025T010000
END:STANDARD
BEGIN:DAYLIGHT
TZOFFSETFROM:+0100
TZOFFSETTO:+0200
TZNAME:CEST
DTSTART:20210328T010000
END:DAYLIGHT
BEGIN:STANDARD
TZOFFSETFROM:+0200
TZOFFSETTO:+0100
TZNAME:CET
DTSTART:20211031T010000
END:STANDARD
END:VTIMEZONE
BEGIN:VEVENT
DTSTART;TZID=Europe/Paris:20200702T110000
DTEND;TZID=Europe/Paris:20200702T113000
DTSTAMP:20260422T230539
CREATED:20200630T132636Z
LAST-MODIFIED:20240115T202643Z
UID:2591-1593687600-1593689400@www.ciochevale.it
SUMMARY:Incontriamoci in un racconto: Smart working e scuola online - il tema dei confini tra noi e la rete
DESCRIPTION:Incontriamoci in un racconto: Smart working e scuola online – il tema dei confini tra noi e la rete\nGiovanna Ferella\, psicologa \nQuesto evento è una diretta partecipata\, cliccando sul seguente link\, si accetta la liberatoria: Partecipa su Zoom!  \nOppure\, seguila dalla nostra pagina facebook  https://www.facebook.com/chieriwebtv/  (il video in diretta partirà all’ora di inizio dell’evento).
URL:https://www.ciochevale.it/evento/incontriamoci-in-un-racconto-smart-working-e-scuola-online-il-tema-dei-confini-tra-noi-e-la-rete/
CATEGORIES:Palinsesto,Teniamoci in forma
ATTACH;FMTTYPE=image/jpeg:https://www.ciochevale.it/wp-content/uploads/2020/05/teniamoci-in-forma.jpg
ORGANIZER;CN="Associazione CioCheVale":MAILTO:associazione.ciochevale@gmail.com
END:VEVENT
BEGIN:VEVENT
DTSTART;TZID=Europe/Paris:20200702T193000
DTEND;TZID=Europe/Paris:20200702T203000
DTSTAMP:20260422T230539
CREATED:20200630T135237Z
LAST-MODIFIED:20240115T202637Z
UID:2593-1593718200-1593721800@www.ciochevale.it
SUMMARY:Cibo\, comunità\, salute: Tra sensorialità e creatività - le potenzialità del cibo
DESCRIPTION:Cibo\, Comunità\, Salute: Tra sensorialità e creatività – le potenzialità del cibo \nAlessandra Savina\, Roberta Lomuscio\, Dott.ssa Maria Lucia Macrì (dietista)\, Raffaella Firpo (Azienda Agricola Cascina Piola)\n \nQuesto evento è una diretta partecipata\, cliccando su Partecipa su Zoom! si accetta la liberatoria. \nOppure\, seguila dalla nostra pagina facebook  https://www.facebook.com/chieriwebtv/  (il video diretta partirà all’ora di inizio dell’evento).
URL:https://www.ciochevale.it/evento/cibo-comunita-salute-tra-sensorialita-e-creativita-le-potenzialita-del-cibo/
CATEGORIES:Conosciamo,Palinsesto
ATTACH;FMTTYPE=image/jpeg:https://www.ciochevale.it/wp-content/uploads/2020/05/CONOSCIAMO.jpg
ORGANIZER;CN="Associazione CioCheVale":MAILTO:associazione.ciochevale@gmail.com
END:VEVENT
BEGIN:VEVENT
DTSTART;TZID=Europe/Paris:20200702T214500
DTEND;TZID=Europe/Paris:20200702T220000
DTSTAMP:20260422T230539
CREATED:20200626T201055Z
LAST-MODIFIED:20240115T202631Z
UID:2579-1593726300-1593727200@www.ciochevale.it
SUMMARY:Leggi che ti passa: La felicità
DESCRIPTION:Leggi che ti passa: La felicità \nMassimo Tallone \nSeguila dal video sottostante o sul nostro canale Youtube: il video partirà come première all’ora di inizio dell’evento (ma sarà possibile rivederlo se non doveste collegarvi in tempo).
URL:https://www.ciochevale.it/evento/leggi-che-ti-passa-la-felicita/
CATEGORIES:Conosciamo,Palinsesto
ATTACH;FMTTYPE=image/jpeg:https://www.ciochevale.it/wp-content/uploads/2020/05/CONOSCIAMO.jpg
ORGANIZER;CN="Associazione CioCheVale":MAILTO:associazione.ciochevale@gmail.com
END:VEVENT
BEGIN:VEVENT
DTSTART;TZID=Europe/Paris:20200702T220000
DTEND;TZID=Europe/Paris:20200702T230000
DTSTAMP:20260422T230539
CREATED:20200701T091325Z
LAST-MODIFIED:20240115T202621Z
UID:2598-1593727200-1593730800@www.ciochevale.it
SUMMARY:Accademia del dialogo: Filosofia e letteratura della metropoli
DESCRIPTION:Accademia del Dialogo: Filosofia e letteratura della metropoli \nGiorgio Scialla\n \nQuesto evento è una diretta partecipata\, cliccando su Partecipa su Zoom! si accetta la liberatoria. \nOppure\, seguila dalla nostra pagina facebook  https://www.facebook.com/chieriwebtv/  (la diretta video partirà all’ora di inizio dell’evento).
URL:https://www.ciochevale.it/evento/accademia-del-dialogo-filosofia-e-letteratura-della-metropoli/
CATEGORIES:Conosciamo,Palinsesto
ATTACH;FMTTYPE=image/jpeg:https://www.ciochevale.it/wp-content/uploads/2020/05/CONOSCIAMO.jpg
ORGANIZER;CN="Associazione CioCheVale":MAILTO:associazione.ciochevale@gmail.com
END:VEVENT
END:VCALENDAR