BEGIN:VCALENDAR
VERSION:2.0
PRODID:-//CioCheVale APS - ECPv6.15.20//NONSGML v1.0//EN
CALSCALE:GREGORIAN
METHOD:PUBLISH
X-WR-CALNAME:CioCheVale APS
X-ORIGINAL-URL:https://www.ciochevale.it
X-WR-CALDESC:Eventi per CioCheVale APS
REFRESH-INTERVAL;VALUE=DURATION:PT1H
X-Robots-Tag:noindex
X-PUBLISHED-TTL:PT1H
BEGIN:VTIMEZONE
TZID:Europe/Paris
BEGIN:DAYLIGHT
TZOFFSETFROM:+0100
TZOFFSETTO:+0200
TZNAME:CEST
DTSTART:20190331T010000
END:DAYLIGHT
BEGIN:STANDARD
TZOFFSETFROM:+0200
TZOFFSETTO:+0100
TZNAME:CET
DTSTART:20191027T010000
END:STANDARD
BEGIN:DAYLIGHT
TZOFFSETFROM:+0100
TZOFFSETTO:+0200
TZNAME:CEST
DTSTART:20200329T010000
END:DAYLIGHT
BEGIN:STANDARD
TZOFFSETFROM:+0200
TZOFFSETTO:+0100
TZNAME:CET
DTSTART:20201025T010000
END:STANDARD
BEGIN:DAYLIGHT
TZOFFSETFROM:+0100
TZOFFSETTO:+0200
TZNAME:CEST
DTSTART:20210328T010000
END:DAYLIGHT
BEGIN:STANDARD
TZOFFSETFROM:+0200
TZOFFSETTO:+0100
TZNAME:CET
DTSTART:20211031T010000
END:STANDARD
END:VTIMEZONE
BEGIN:VEVENT
DTSTART;TZID=Europe/Paris:20200630T190000
DTEND;TZID=Europe/Paris:20200630T193000
DTSTAMP:20260422T230459
CREATED:20200630T054334Z
LAST-MODIFIED:20240115T202708Z
UID:2582-1593543600-1593545400@www.ciochevale.it
SUMMARY:Versi\, emozioni\, note: Il diritto al delirio (monologo)
DESCRIPTION:Versi\, emozioni\, note: Il diritto al delirio (monologo) \nFrancesco Foti Attore \nSeguilo dal video sottostante o sul nostro canale Youtube: il video partirà come première all’ora di inizio dell’evento (ma sarà possibile rivederlo se non doveste collegarvi in tempo). \n\n 
URL:https://www.ciochevale.it/evento/versi-emozioni-note-il-diritto-al-delirio-monologo/
CATEGORIES:Conosciamo,Palinsesto
ATTACH;FMTTYPE=image/jpeg:https://www.ciochevale.it/wp-content/uploads/2020/05/CONOSCIAMO.jpg
ORGANIZER;CN="Associazione CioCheVale":MAILTO:associazione.ciochevale@gmail.com
END:VEVENT
BEGIN:VEVENT
DTSTART;TZID=Europe/Paris:20200630T200000
DTEND;TZID=Europe/Paris:20200630T203000
DTSTAMP:20260422T230459
CREATED:20200630T054817Z
LAST-MODIFIED:20240115T202701Z
UID:2584-1593547200-1593549000@www.ciochevale.it
SUMMARY:Replica - Nonna Nico e le Fiabe del Mulino: Un galletto Amburghese
DESCRIPTION:Nonna Nico e le Fiabe del Mulino: Un galletto Amburghese \nClaudia Nicolino \nRivedila sul nostro canale Youtube \n\n 
URL:https://www.ciochevale.it/evento/replica-nonna-nico-e-le-fiabe-del-mulino-un-galletto-amburghese/
CATEGORIES:Divertiamoci,Palinsesto
ATTACH;FMTTYPE=image/jpeg:https://www.ciochevale.it/wp-content/uploads/2020/05/DIVERTIAMOCI.jpg
ORGANIZER;CN="Associazione CioCheVale":MAILTO:associazione.ciochevale@gmail.com
END:VEVENT
BEGIN:VEVENT
DTSTART;TZID=Europe/Paris:20200630T214500
DTEND;TZID=Europe/Paris:20200630T220000
DTSTAMP:20260422T230459
CREATED:20200630T055417Z
LAST-MODIFIED:20240115T202655Z
UID:2587-1593553500-1593554400@www.ciochevale.it
SUMMARY:Italia che Cambia: Rusko riparare gli oggetti rotti può aggiustare il mondo
DESCRIPTION:Da Italia Che Cambia: Rusko riparare gli oggetti rotti può aggiustare il mondo  \nritrasmessa sul nostro canale Youtube \n\n 
URL:https://www.ciochevale.it/evento/italia-che-cambia-rusko-riparare-gli-oggetti-rotti-puo-aggiustare-il-mondo/
CATEGORIES:Palinsesto,Servizi per la comunità
ATTACH;FMTTYPE=image/jpeg:https://www.ciochevale.it/wp-content/uploads/2020/05/SERVIZI.jpg
ORGANIZER;CN="Associazione CioCheVale":MAILTO:associazione.ciochevale@gmail.com
END:VEVENT
BEGIN:VEVENT
DTSTART;TZID=Europe/Paris:20200630T220000
DTEND;TZID=Europe/Paris:20200630T230000
DTSTAMP:20260422T230459
CREATED:20200630T055957Z
LAST-MODIFIED:20240115T202648Z
UID:2589-1593554400-1593558000@www.ciochevale.it
SUMMARY:RIFLESSIONI VIRALI #3 Strategie per preservare la biodiversità e i servizi che ci fornisce.
DESCRIPTION:RIFLESSIONI VIRALI #3: Strategie per preservare la biodiversità e i servizi che ci fornisce \ncon Anna Gregis (UNESCO Chair) e Simona Bonelli\, docente di Zoologia e Conservazione degli Invertebrati dell’Università degli Studi di Torino\, che ci parla delle strategie per preservare la biodiversità e i servizi che essa ci fornisce.  \nRingraziamo “UNESCO Chair in Sustainable Development and Territory Management” e “Università degli Studi di Torino” per aver consentito di trasmettere questa iniziativa sulla nostra ChieriWebTv \nSeguila dal video sottostante o sul nostro canale Youtube: il video partirà come première all’ora di inizio dell’evento (ma sarà possibile rivederlo se non doveste collegarvi in tempo). \n\n 
URL:https://www.ciochevale.it/evento/riflessioni-virali-3-strategie-per-preservare-la-biodiversita-e-i-servizi-che-ci-fornisce/
CATEGORIES:Conosciamo,Palinsesto
ATTACH;FMTTYPE=image/jpeg:https://www.ciochevale.it/wp-content/uploads/2020/05/CONOSCIAMO.jpg
ORGANIZER;CN="Associazione CioCheVale":MAILTO:associazione.ciochevale@gmail.com
END:VEVENT
END:VCALENDAR