BEGIN:VCALENDAR
VERSION:2.0
PRODID:-//CioCheVale APS - ECPv6.15.20//NONSGML v1.0//EN
CALSCALE:GREGORIAN
METHOD:PUBLISH
X-WR-CALNAME:CioCheVale APS
X-ORIGINAL-URL:https://www.ciochevale.it
X-WR-CALDESC:Eventi per CioCheVale APS
REFRESH-INTERVAL;VALUE=DURATION:PT1H
X-Robots-Tag:noindex
X-PUBLISHED-TTL:PT1H
BEGIN:VTIMEZONE
TZID:Europe/Paris
BEGIN:DAYLIGHT
TZOFFSETFROM:+0100
TZOFFSETTO:+0200
TZNAME:CEST
DTSTART:20190331T010000
END:DAYLIGHT
BEGIN:STANDARD
TZOFFSETFROM:+0200
TZOFFSETTO:+0100
TZNAME:CET
DTSTART:20191027T010000
END:STANDARD
BEGIN:DAYLIGHT
TZOFFSETFROM:+0100
TZOFFSETTO:+0200
TZNAME:CEST
DTSTART:20200329T010000
END:DAYLIGHT
BEGIN:STANDARD
TZOFFSETFROM:+0200
TZOFFSETTO:+0100
TZNAME:CET
DTSTART:20201025T010000
END:STANDARD
BEGIN:DAYLIGHT
TZOFFSETFROM:+0100
TZOFFSETTO:+0200
TZNAME:CEST
DTSTART:20210328T010000
END:DAYLIGHT
BEGIN:STANDARD
TZOFFSETFROM:+0200
TZOFFSETTO:+0100
TZNAME:CET
DTSTART:20211031T010000
END:STANDARD
END:VTIMEZONE
BEGIN:VEVENT
DTSTART;TZID=Europe/Paris:20200627T113000
DTEND;TZID=Europe/Paris:20200627T120000
DTSTAMP:20260423T001359
CREATED:20200626T123752Z
LAST-MODIFIED:20240115T202721Z
UID:2575-1593257400-1593259200@www.ciochevale.it
SUMMARY:CioCheVale pausa caffè: Come scegliere i colori per personalizzare l'ambiente
DESCRIPTION:CioCheVale…pausa caffè: Come scegliere i colori per personalizzare l’ambiente\nLaura Vanzo \nQuesto evento è una diretta partecipata\, cliccando sul seguente link\, si accetta la liberatoria: Partecipa su Zoom!  \nOppure\, seguila dalla nostra pagina facebook  https://www.facebook.com/chieriwebtv/  (il video diretta partirà all’ora di inizio dell’evento).
URL:https://www.ciochevale.it/evento/ciochevale-pausa-caffe-come-scegliere-i-colori-per-personalizzare-lambiente/
CATEGORIES:Creiamo insieme,Palinsesto
ATTACH;FMTTYPE=image/jpeg:https://www.ciochevale.it/wp-content/uploads/2020/05/Creiamo-insieme.jpg
ORGANIZER;CN="Associazione CioCheVale":MAILTO:associazione.ciochevale@gmail.com
END:VEVENT
BEGIN:VEVENT
DTSTART;TZID=Europe/Paris:20200627T193000
DTEND;TZID=Europe/Paris:20200627T200000
DTSTAMP:20260423T001359
CREATED:20200626T192828Z
LAST-MODIFIED:20240115T202715Z
UID:2577-1593286200-1593288000@www.ciochevale.it
SUMMARY:Laboratorio bimbi TOCTOC: "La lepre e la tartaruga" e "Baratto-lo dei pensieri felici"
DESCRIPTION:Laboratorio bimbi TOCTOC: La lepre e la tartaruga” e “Baratto-lo dei pensieri felici \nRealizzato da Cittattiva e finanziato dall’Assessorato all’istruzione della Città di Chieri \nSeguila dal video sottostante o sul nostro canale Youtube: il video partirà come première all’ora di inizio dell’evento (ma sarà possibile rivederlo se non doveste collegarvi in tempo).
URL:https://www.ciochevale.it/evento/laboratorio-bimbi-toctoc-la-lepre-e-la-tartaruga-e-baratto-lo-dei-pensieri-felici/
CATEGORIES:Divertiamoci,Palinsesto
ATTACH;FMTTYPE=image/jpeg:https://www.ciochevale.it/wp-content/uploads/2020/05/DIVERTIAMOCI.jpg
ORGANIZER;CN="Associazione CioCheVale":MAILTO:associazione.ciochevale@gmail.com
END:VEVENT
END:VCALENDAR