BEGIN:VCALENDAR
VERSION:2.0
PRODID:-//CioCheVale APS - ECPv6.15.20//NONSGML v1.0//EN
CALSCALE:GREGORIAN
METHOD:PUBLISH
X-ORIGINAL-URL:https://www.ciochevale.it
X-WR-CALDESC:Eventi per CioCheVale APS
REFRESH-INTERVAL;VALUE=DURATION:PT1H
X-Robots-Tag:noindex
X-PUBLISHED-TTL:PT1H
BEGIN:VTIMEZONE
TZID:Europe/Paris
BEGIN:DAYLIGHT
TZOFFSETFROM:+0100
TZOFFSETTO:+0200
TZNAME:CEST
DTSTART:20190331T010000
END:DAYLIGHT
BEGIN:STANDARD
TZOFFSETFROM:+0200
TZOFFSETTO:+0100
TZNAME:CET
DTSTART:20191027T010000
END:STANDARD
BEGIN:DAYLIGHT
TZOFFSETFROM:+0100
TZOFFSETTO:+0200
TZNAME:CEST
DTSTART:20200329T010000
END:DAYLIGHT
BEGIN:STANDARD
TZOFFSETFROM:+0200
TZOFFSETTO:+0100
TZNAME:CET
DTSTART:20201025T010000
END:STANDARD
BEGIN:DAYLIGHT
TZOFFSETFROM:+0100
TZOFFSETTO:+0200
TZNAME:CEST
DTSTART:20210328T010000
END:DAYLIGHT
BEGIN:STANDARD
TZOFFSETFROM:+0200
TZOFFSETTO:+0100
TZNAME:CET
DTSTART:20211031T010000
END:STANDARD
END:VTIMEZONE
BEGIN:VEVENT
DTSTART;TZID=Europe/Paris:20200625T110000
DTEND;TZID=Europe/Paris:20200625T113000
DTSTAMP:20260423T001432
CREATED:20200623T085339Z
LAST-MODIFIED:20240115T202748Z
UID:2564-1593082800-1593084600@www.ciochevale.it
SUMMARY:Incontriamoci in un racconto: La trama dei rapporti interpersonali: strappi e nuovi legami
DESCRIPTION:Incontriamoci in un racconto: La trama dei rapporti interpersonali: strappi e nuovi legami\nGiovanna Ferella\, psicologa \nQuesto evento è una diretta partecipata\, cliccando sul seguente link\, si accetta la liberatoria: Partecipa su Zoom!  \nOppure\, seguila dalla nostra pagina facebook  https://www.facebook.com/chieriwebtv/  (il video in diretta partirà all’ora di inizio dell’evento). \n 
URL:https://www.ciochevale.it/evento/incontriamoci-in-un-racconto-la-trama-dei-rapporti-interpersonali-strappi-e-nuovi-legami/
CATEGORIES:Palinsesto,Teniamoci in forma
ATTACH;FMTTYPE=image/jpeg:https://www.ciochevale.it/wp-content/uploads/2020/05/teniamoci-in-forma.jpg
ORGANIZER;CN="Associazione CioCheVale":MAILTO:associazione.ciochevale@gmail.com
END:VEVENT
BEGIN:VEVENT
DTSTART;TZID=Europe/Paris:20200625T193000
DTEND;TZID=Europe/Paris:20200625T201500
DTSTAMP:20260423T001432
CREATED:20200623T122717Z
LAST-MODIFIED:20240115T202742Z
UID:2570-1593113400-1593116100@www.ciochevale.it
SUMMARY:Versi\, emozioni\, note: ChieriWebTv incontra Francesco Foti - Lo spirito e la volontà per diventare un attore
DESCRIPTION:Versi\, emozioni\, note: Lo spirito e la volontà per diventare un attore \nFrancesco Foti Attore intervistato da Valentina Veratrini \nQuesto evento è una diretta partecipata\, cliccando sul seguente link\, si accetta la liberatoria: Partecipa su Zoom! \nOppure\, seguila dalla nostra pagina facebook  https://www.facebook.com/chieriwebtv/  (il video in diretta partirà all’ora di inizio dell’evento).
URL:https://www.ciochevale.it/evento/versi-emozioni-note-chieriwebtv-incontra-francesco-foti-lo-spirito-e-la-volonta-per-diventare-un-attore/
CATEGORIES:Conosciamo,Palinsesto
ATTACH;FMTTYPE=image/jpeg:https://www.ciochevale.it/wp-content/uploads/2020/05/CONOSCIAMO.jpg
ORGANIZER;CN="Associazione CioCheVale":MAILTO:associazione.ciochevale@gmail.com
END:VEVENT
BEGIN:VEVENT
DTSTART;TZID=Europe/Paris:20200625T214500
DTEND;TZID=Europe/Paris:20200625T220000
DTSTAMP:20260423T001432
CREATED:20200612T171847Z
LAST-MODIFIED:20240115T202733Z
UID:2517-1593121500-1593122400@www.ciochevale.it
SUMMARY:Leggi che ti passa: La solitudine
DESCRIPTION:Leggi che ti passa: La solitudine \nMassimo Tallone \nSeguila dal video sottostante o sul nostro canale Youtube: il video partirà come première all’ora di inizio dell’evento (ma sarà possibile rivederlo se non doveste collegarvi in tempo).
URL:https://www.ciochevale.it/evento/leggi-che-ti-passa-la-solitudine/
CATEGORIES:Conosciamo,Palinsesto
ATTACH;FMTTYPE=image/jpeg:https://www.ciochevale.it/wp-content/uploads/2020/05/CONOSCIAMO.jpg
ORGANIZER;CN="Associazione CioCheVale":MAILTO:associazione.ciochevale@gmail.com
END:VEVENT
BEGIN:VEVENT
DTSTART;TZID=Europe/Paris:20200625T220000
DTEND;TZID=Europe/Paris:20200625T230000
DTSTAMP:20260423T001432
CREATED:20200623T112347Z
LAST-MODIFIED:20240115T202727Z
UID:2566-1593122400-1593126000@www.ciochevale.it
SUMMARY:Accademia del dialogo: La città moderna (terza parte)
DESCRIPTION:Accademia del Dialogo: La città moderna (terza parte). La città dell’Ottocento. La città industriale. La città dell’utopia. \nGiorgio Scialla\n \nQuesto evento è una diretta partecipata\, cliccando su Partecipa su Zoom! si accetta la liberatoria. \nOppure\, seguila dalla nostra pagina facebook  https://www.facebook.com/chieriwebtv/  (la diretta video partirà all’ora di inizio dell’evento). \n 
URL:https://www.ciochevale.it/evento/accademia-del-dialogo-la-citta-moderna-terza-parte/
CATEGORIES:Conosciamo,Palinsesto
ATTACH;FMTTYPE=image/jpeg:https://www.ciochevale.it/wp-content/uploads/2020/05/CONOSCIAMO.jpg
ORGANIZER;CN="Associazione CioCheVale":MAILTO:associazione.ciochevale@gmail.com
END:VEVENT
END:VCALENDAR