BEGIN:VCALENDAR
VERSION:2.0
PRODID:-//CioCheVale APS - ECPv6.15.20//NONSGML v1.0//EN
CALSCALE:GREGORIAN
METHOD:PUBLISH
X-ORIGINAL-URL:https://www.ciochevale.it
X-WR-CALDESC:Eventi per CioCheVale APS
REFRESH-INTERVAL;VALUE=DURATION:PT1H
X-Robots-Tag:noindex
X-PUBLISHED-TTL:PT1H
BEGIN:VTIMEZONE
TZID:Europe/Paris
BEGIN:DAYLIGHT
TZOFFSETFROM:+0100
TZOFFSETTO:+0200
TZNAME:CEST
DTSTART:20190331T010000
END:DAYLIGHT
BEGIN:STANDARD
TZOFFSETFROM:+0200
TZOFFSETTO:+0100
TZNAME:CET
DTSTART:20191027T010000
END:STANDARD
BEGIN:DAYLIGHT
TZOFFSETFROM:+0100
TZOFFSETTO:+0200
TZNAME:CEST
DTSTART:20200329T010000
END:DAYLIGHT
BEGIN:STANDARD
TZOFFSETFROM:+0200
TZOFFSETTO:+0100
TZNAME:CET
DTSTART:20201025T010000
END:STANDARD
BEGIN:DAYLIGHT
TZOFFSETFROM:+0100
TZOFFSETTO:+0200
TZNAME:CEST
DTSTART:20210328T010000
END:DAYLIGHT
BEGIN:STANDARD
TZOFFSETFROM:+0200
TZOFFSETTO:+0100
TZNAME:CET
DTSTART:20211031T010000
END:STANDARD
END:VTIMEZONE
BEGIN:VEVENT
DTSTART;TZID=Europe/Paris:20200623T200000
DTEND;TZID=Europe/Paris:20200623T203000
DTSTAMP:20260423T001432
CREATED:20200623T070016Z
LAST-MODIFIED:20240115T201745Z
UID:2560-1592942400-1592944200@www.ciochevale.it
SUMMARY:Nonna Nico e le Fiabe del Mulino: Un galletto Amburghese
DESCRIPTION:Nonna Nico e le Fiabe del Mulino: Un galletto Amburghese \nClaudia Nicolino \nSeguila dal video sottostante o sul nostro canale Youtube: il video partirà come première all’ora di inizio dell’evento (ma sarà possibile rivederlo se non doveste collegarvi in tempo).
URL:https://www.ciochevale.it/evento/nonna-nico-e-le-fiabe-del-mulino-un-galletto-amburghese/
CATEGORIES:Divertiamoci,Palinsesto
ATTACH;FMTTYPE=image/jpeg:https://www.ciochevale.it/wp-content/uploads/2020/05/DIVERTIAMOCI.jpg
END:VEVENT
BEGIN:VEVENT
DTSTART;TZID=Europe/Paris:20200623T214500
DTEND;TZID=Europe/Paris:20200623T220000
DTSTAMP:20260423T001432
CREATED:20200616T124430Z
LAST-MODIFIED:20240115T201737Z
UID:2534-1592948700-1592949600@www.ciochevale.it
SUMMARY:Da Italia che Cambia: Fail Società Cooperativa - dalla crisi ad un modo nuovo di fare impresa
DESCRIPTION:Da Italia Che Cambia: Fail Società Cooperativa – dalla crisi ad un modo nuovo di fare impresa \nritrasmessa sul nostro canale Youtube
URL:https://www.ciochevale.it/evento/da-italia-che-cambia-fail-societa-cooperativa-dalla-crisi-ad-un-modo-nuovo-di-fare-impresa/
CATEGORIES:Palinsesto,Servizi per la comunità
ATTACH;FMTTYPE=image/jpeg:https://www.ciochevale.it/wp-content/uploads/2020/05/SERVIZI.jpg
ORGANIZER;CN="Associazione CioCheVale":MAILTO:associazione.ciochevale@gmail.com
END:VEVENT
BEGIN:VEVENT
DTSTART;TZID=Europe/Paris:20200623T220000
DTEND;TZID=Europe/Paris:20200623T230000
DTSTAMP:20260423T001432
CREATED:20200623T072141Z
LAST-MODIFIED:20240115T202758Z
UID:2562-1592949600-1592953200@www.ciochevale.it
SUMMARY:RIFLESSIONI VIRALI #6: Quali effetti ha avuto la pandemia sul sistema agro-alimentare mondiale?
DESCRIPTION:RIFLESSIONI VIRALI #6: Quali effetti ha avuto la pandemia sul sistema agro-alimentare mondiale? \ncon Anna Gregis (UNESCO Chair) e Amedeo Reyneri\, docente di Agronomia e Coltivazioni Erbacee del Dipartimento di Scienze Agrarie\, Forestali e Alimentari dell’Università di Torino e docente al Master in Sostenibilità Socio-Ambientale delle Reti agro-alimentari della Cattedra UNESCO.  \nRingraziamo “UNESCO Chair in Sustainable Development and Territory Management” e “Università degli Studi di Torino” per aver consentito di trasmettere questa iniziativa sulla nostra ChieriWebTv \nSeguila dal video sottostante o sul nostro canale Youtube: il video partirà come première all’ora di inizio dell’evento (ma sarà possibile rivederlo se non doveste collegarvi in tempo).
URL:https://www.ciochevale.it/evento/riflessioni-virali-6-quali-effetti-ha-avuto-la-pandemia-sul-sistema-agro-alimentare-mondiale/
CATEGORIES:Conosciamo,Palinsesto
ATTACH;FMTTYPE=image/jpeg:https://www.ciochevale.it/wp-content/uploads/2020/05/CONOSCIAMO.jpg
ORGANIZER;CN="Associazione CioCheVale":MAILTO:associazione.ciochevale@gmail.com
END:VEVENT
END:VCALENDAR