BEGIN:VCALENDAR
VERSION:2.0
PRODID:-//CioCheVale APS - ECPv6.15.20//NONSGML v1.0//EN
CALSCALE:GREGORIAN
METHOD:PUBLISH
X-ORIGINAL-URL:https://www.ciochevale.it
X-WR-CALDESC:Eventi per CioCheVale APS
REFRESH-INTERVAL;VALUE=DURATION:PT1H
X-Robots-Tag:noindex
X-PUBLISHED-TTL:PT1H
BEGIN:VTIMEZONE
TZID:Europe/Paris
BEGIN:DAYLIGHT
TZOFFSETFROM:+0100
TZOFFSETTO:+0200
TZNAME:CEST
DTSTART:20190331T010000
END:DAYLIGHT
BEGIN:STANDARD
TZOFFSETFROM:+0200
TZOFFSETTO:+0100
TZNAME:CET
DTSTART:20191027T010000
END:STANDARD
BEGIN:DAYLIGHT
TZOFFSETFROM:+0100
TZOFFSETTO:+0200
TZNAME:CEST
DTSTART:20200329T010000
END:DAYLIGHT
BEGIN:STANDARD
TZOFFSETFROM:+0200
TZOFFSETTO:+0100
TZNAME:CET
DTSTART:20201025T010000
END:STANDARD
BEGIN:DAYLIGHT
TZOFFSETFROM:+0100
TZOFFSETTO:+0200
TZNAME:CEST
DTSTART:20210328T010000
END:DAYLIGHT
BEGIN:STANDARD
TZOFFSETFROM:+0200
TZOFFSETTO:+0100
TZNAME:CET
DTSTART:20211031T010000
END:STANDARD
END:VTIMEZONE
BEGIN:VEVENT
DTSTART;TZID=Europe/Paris:20200620T110000
DTEND;TZID=Europe/Paris:20200620T113000
DTSTAMP:20260423T001352
CREATED:20200617T075647Z
LAST-MODIFIED:20240115T201817Z
UID:2541-1592650800-1592652600@www.ciochevale.it
SUMMARY:Le pagine del Picchioverde: Sans-in. L'estate in città. Tre mesi di eventi a San Silvestro per tutte l'età.
DESCRIPTION:Le pagine del Picchioverde: Sans-in. L’estate in città. Tre mesi di eventi a San Silvestro per tutte l’età. \ncon P.Rainato ass. politiche giovanili\, E.Piva dir. Artistico \nQuesto evento è una diretta partecipata\, cliccando sul seguente link\, si accetta la liberatoria: Partecipa su Zoom! \nOppure\, seguila dalla nostra pagina facebook  https://www.facebook.com/chieriwebtv/  (il video in diretta partirà all’ora di inizio
URL:https://www.ciochevale.it/evento/le-pagine-del-picchioverde-sans-in-lestate-in-citta-tre-mesi-di-eventi-a-san-silvestro-per-tutte-leta/
CATEGORIES:Divertiamoci,Palinsesto
ATTACH;FMTTYPE=image/jpeg:https://www.ciochevale.it/wp-content/uploads/2020/05/DIVERTIAMOCI.jpg
ORGANIZER;CN="Associazione CioCheVale":MAILTO:associazione.ciochevale@gmail.com
END:VEVENT
BEGIN:VEVENT
DTSTART;TZID=Europe/Paris:20200620T113000
DTEND;TZID=Europe/Paris:20200620T123000
DTSTAMP:20260423T001352
CREATED:20200607T200029Z
LAST-MODIFIED:20240115T201810Z
UID:2478-1592652600-1592656200@www.ciochevale.it
SUMMARY:Replica-Cibo\, Comunità\, Salute: Cibo locale\, sostegno per territorio e comunità
DESCRIPTION:Cibo\, Comunità\, Salute: Cibo locale\, sostegno per territorio e comunità \nAlessandra Savina\, Roberta Lo Muscio\, prof. Luigi Bistagnino – SYDERE Center (Systemic Design Research and Education)\, Federico Chiais \nrivedila sul nostro canale Youtube \n 
URL:https://www.ciochevale.it/evento/replica-cibo-comunita-salute-cibo-locale-sostegno-per-territorio-e-comunita/
CATEGORIES:Conosciamo,Palinsesto
ATTACH;FMTTYPE=image/jpeg:https://www.ciochevale.it/wp-content/uploads/2020/05/CONOSCIAMO.jpg
ORGANIZER;CN="Associazione CioCheVale":MAILTO:associazione.ciochevale@gmail.com
END:VEVENT
BEGIN:VEVENT
DTSTART;TZID=Europe/Paris:20200620T180000
DTEND;TZID=Europe/Paris:20200620T183000
DTSTAMP:20260423T001352
CREATED:20200617T080404Z
LAST-MODIFIED:20240115T201804Z
UID:2543-1592676000-1592677800@www.ciochevale.it
SUMMARY:Rilassiamoci con la Riflessologia
DESCRIPTION:Teniamoci in forma: Rilassiamoci con la Riflessologia\nCristiana Scalfi \nQuesto evento è una diretta partecipata\, cliccando sul seguente link\, si accetta la liberatoria: Partecipa su Zoom!  \nOppure\, seguila dalla nostra pagina facebook  https://www.facebook.com/chieriwebtv/  (il video diretta partirà all’ora di inizio dell’evento).
URL:https://www.ciochevale.it/evento/rilassiamoci-con-la-riflessologia/
CATEGORIES:Palinsesto,Teniamoci in forma
ATTACH;FMTTYPE=image/jpeg:https://www.ciochevale.it/wp-content/uploads/2020/05/teniamoci-in-forma.jpg
ORGANIZER;CN="Associazione CioCheVale":MAILTO:associazione.ciochevale@gmail.com
END:VEVENT
BEGIN:VEVENT
DTSTART;TZID=Europe/Paris:20200620T213000
DTEND;TZID=Europe/Paris:20200620T214500
DTSTAMP:20260423T001352
CREATED:20200612T202630Z
LAST-MODIFIED:20240115T201757Z
UID:2522-1592688600-1592689500@www.ciochevale.it
SUMMARY:La parola a... Paolo Rainato - Strade aperte a Chieri per una mobilità/viabilità post Covid
DESCRIPTION:La parola a … Paolo Rainato – Strade aperte a Chieri per una mobilità/viabilità post Covid \nAssessore alla Viabiltà del Comune di Chieri \nSeguila dal video sottostante o sul nostro canale Youtube: il video partirà come première all’ora di inizio dell’evento (ma sarà possibile rivederlo se non doveste collegarvi in tempo).
URL:https://www.ciochevale.it/evento/la-parola-a-paolo-rainato-strade-aperte-a-chieri-per-una-mobilita-viabilita-post-covid/
CATEGORIES:Informiamoci,Palinsesto
ATTACH;FMTTYPE=image/jpeg:https://www.ciochevale.it/wp-content/uploads/2020/05/INFORMIAMOCI.jpg
ORGANIZER;CN="Associazione CioCheVale":MAILTO:associazione.ciochevale@gmail.com
END:VEVENT
BEGIN:VEVENT
DTSTART;TZID=Europe/Paris:20200620T223000
DTEND;TZID=Europe/Paris:20200620T230000
DTSTAMP:20260423T001352
CREATED:20200616T105220Z
LAST-MODIFIED:20240115T201750Z
UID:2532-1592692200-1592694000@www.ciochevale.it
SUMMARY:Nonna Nico e le Fiabe del Mulino: La minestra di sassi
DESCRIPTION:Nonna Nico e le Fiabe del Mulino: La minestra di sassi \nClaudia Nicolino \nSeguila dal video sottostante o sul nostro canale Youtube: il video partirà come première all’ora di inizio dell’evento (ma sarà possibile rivederlo se non doveste collegarvi in tempo).
URL:https://www.ciochevale.it/evento/nonna-nico-e-le-fiabe-del-mulino-la-minestra-di-sassi/
CATEGORIES:Divertiamoci,Palinsesto
ATTACH;FMTTYPE=image/jpeg:https://www.ciochevale.it/wp-content/uploads/2020/05/DIVERTIAMOCI.jpg
ORGANIZER;CN="Associazione CioCheVale":MAILTO:associazione.ciochevale@gmail.com
END:VEVENT
END:VCALENDAR