BEGIN:VCALENDAR
VERSION:2.0
PRODID:-//CioCheVale APS - ECPv6.15.20//NONSGML v1.0//EN
CALSCALE:GREGORIAN
METHOD:PUBLISH
X-WR-CALNAME:CioCheVale APS
X-ORIGINAL-URL:https://www.ciochevale.it
X-WR-CALDESC:Eventi per CioCheVale APS
REFRESH-INTERVAL;VALUE=DURATION:PT1H
X-Robots-Tag:noindex
X-PUBLISHED-TTL:PT1H
BEGIN:VTIMEZONE
TZID:Europe/Paris
BEGIN:DAYLIGHT
TZOFFSETFROM:+0100
TZOFFSETTO:+0200
TZNAME:CEST
DTSTART:20190331T010000
END:DAYLIGHT
BEGIN:STANDARD
TZOFFSETFROM:+0200
TZOFFSETTO:+0100
TZNAME:CET
DTSTART:20191027T010000
END:STANDARD
BEGIN:DAYLIGHT
TZOFFSETFROM:+0100
TZOFFSETTO:+0200
TZNAME:CEST
DTSTART:20200329T010000
END:DAYLIGHT
BEGIN:STANDARD
TZOFFSETFROM:+0200
TZOFFSETTO:+0100
TZNAME:CET
DTSTART:20201025T010000
END:STANDARD
BEGIN:DAYLIGHT
TZOFFSETFROM:+0100
TZOFFSETTO:+0200
TZNAME:CEST
DTSTART:20210328T010000
END:DAYLIGHT
BEGIN:STANDARD
TZOFFSETFROM:+0200
TZOFFSETTO:+0100
TZNAME:CET
DTSTART:20211031T010000
END:STANDARD
END:VTIMEZONE
BEGIN:VEVENT
DTSTART;TZID=Europe/Paris:20200619T180000
DTEND;TZID=Europe/Paris:20200619T180000
DTSTAMP:20260423T001330
CREATED:20200619T065523Z
LAST-MODIFIED:20240115T201824Z
UID:2556-1592589600-1592589600@www.ciochevale.it
SUMMARY:Consulta Chierese per le politiche a favore delle persone con disabilità: Io posso ancora vivere con la demenza
DESCRIPTION:Consulta Chierese per le politiche a favore delle persone con disabilità: Io posso ancora vivere con la demenza \nDiretta Live sulla pagina della Consulta Chierese per le politiche a favore delle persone con disabilità\, e di ChieriWebTv \nUn modo nuovo di guardare alle demenze\, perché la Vita non finisce con la demenza.\nLetizia Espanoli\, formatrice di fama nazionale e internazionale e ideatrice del metodo “Sente-mente” \, in diretta live su questa pagina Venerdi 19 giugno \, ore 17\,00\, ci aiuterà a comprendere il perché.\nNon perdete questo importante appuntamento che sarà l’inizio di un percorso di impegno della Consulta chierese per le politiche a favore delle persone con disabilità\,
URL:https://www.ciochevale.it/evento/consulta-chierese-per-le-politiche-a-favore-delle-persone-con-disabilita-io-posso-ancora-vivere-con-la-demenza/
CATEGORIES:Informiamoci,Palinsesto
ATTACH;FMTTYPE=image/jpeg:https://www.ciochevale.it/wp-content/uploads/2020/05/INFORMIAMOCI.jpg
ORGANIZER;CN="Associazione CioCheVale":MAILTO:associazione.ciochevale@gmail.com
END:VEVENT
END:VCALENDAR