BEGIN:VCALENDAR
VERSION:2.0
PRODID:-//CioCheVale APS - ECPv6.15.20//NONSGML v1.0//EN
CALSCALE:GREGORIAN
METHOD:PUBLISH
X-ORIGINAL-URL:https://www.ciochevale.it
X-WR-CALDESC:Eventi per CioCheVale APS
REFRESH-INTERVAL;VALUE=DURATION:PT1H
X-Robots-Tag:noindex
X-PUBLISHED-TTL:PT1H
BEGIN:VTIMEZONE
TZID:Europe/Paris
BEGIN:DAYLIGHT
TZOFFSETFROM:+0100
TZOFFSETTO:+0200
TZNAME:CEST
DTSTART:20190331T010000
END:DAYLIGHT
BEGIN:STANDARD
TZOFFSETFROM:+0200
TZOFFSETTO:+0100
TZNAME:CET
DTSTART:20191027T010000
END:STANDARD
BEGIN:DAYLIGHT
TZOFFSETFROM:+0100
TZOFFSETTO:+0200
TZNAME:CEST
DTSTART:20200329T010000
END:DAYLIGHT
BEGIN:STANDARD
TZOFFSETFROM:+0200
TZOFFSETTO:+0100
TZNAME:CET
DTSTART:20201025T010000
END:STANDARD
BEGIN:DAYLIGHT
TZOFFSETFROM:+0100
TZOFFSETTO:+0200
TZNAME:CEST
DTSTART:20210328T010000
END:DAYLIGHT
BEGIN:STANDARD
TZOFFSETFROM:+0200
TZOFFSETTO:+0100
TZNAME:CET
DTSTART:20211031T010000
END:STANDARD
END:VTIMEZONE
BEGIN:VEVENT
DTSTART;TZID=Europe/Paris:20200604T110000
DTEND;TZID=Europe/Paris:20200604T113000
DTSTAMP:20260423T001353
CREATED:20200602T205811Z
LAST-MODIFIED:20240115T201725Z
UID:2417-1591268400-1591270200@www.ciochevale.it
SUMMARY:Incontriamoci in un racconto: Ieri\, oggi\, domani
DESCRIPTION:Incontriamoci in un racconto: Ieri\, oggi\, domani\nGiovanna Ferella\, psicologa \nQuesto evento è una diretta partecipata\, cliccando sul seguente link\, si accetta la liberatoria: Partecipa su Zoom!  \nOppure\, seguila dalla nostra pagina facebook  https://www.facebook.com/chieriwebtv/  (il video in diretta partirà all’ora di inizio dell’evento). \n 
URL:https://www.ciochevale.it/evento/incontriamoci-in-un-racconto-ieri-oggi-domani/
CATEGORIES:Palinsesto,Teniamoci in forma
ATTACH;FMTTYPE=image/jpeg:https://www.ciochevale.it/wp-content/uploads/2020/05/teniamoci-in-forma.jpg
ORGANIZER;CN="Associazione CioCheVale":MAILTO:associazione.ciochevale@gmail.com
END:VEVENT
BEGIN:VEVENT
DTSTART;TZID=Europe/Paris:20200604T113000
DTEND;TZID=Europe/Paris:20200604T122000
DTSTAMP:20260423T001353
CREATED:20200603T110023Z
LAST-MODIFIED:20240115T201717Z
UID:2419-1591270200-1591273200@www.ciochevale.it
SUMMARY:Sport lento: Ginnastica dolce 3
DESCRIPTION:Sport lento: Ginnastica dolce 3\nLuca Scalzo \nQuesto evento è una diretta partecipata\, cliccando sul seguente link\, si accetta la liberatoria: Partecipa su Zoom!  \nOppure\, seguila dalla nostra pagina facebook  https://www.facebook.com/chieriwebtv/  (il video diretta partirà all’ora di inizio dell’evento).
URL:https://www.ciochevale.it/evento/sport-lento-ginnastica-dolce-3/
CATEGORIES:Palinsesto,Teniamoci in forma
ATTACH;FMTTYPE=image/jpeg:https://www.ciochevale.it/wp-content/uploads/2020/05/teniamoci-in-forma.jpg
ORGANIZER;CN="Associazione CioCheVale":MAILTO:associazione.ciochevale@gmail.com
END:VEVENT
BEGIN:VEVENT
DTSTART;TZID=Europe/Paris:20200604T122000
DTEND;TZID=Europe/Paris:20200604T125000
DTSTAMP:20260423T001353
CREATED:20200603T114327Z
LAST-MODIFIED:20240115T201712Z
UID:2426-1591273200-1591275000@www.ciochevale.it
SUMMARY:Laboratorio per bambini: Giochiamo con lo Yoga
DESCRIPTION:Laboratorio per bambini: Giochiamo con lo yoga \nIrene Berton e Veronica Pont \nQuesto evento è una diretta partecipata\, cliccando su Partecipa su Zoom! si accetta la liberatoria. \nOppure\, seguila dalla nostra pagina facebook  https://www.facebook.com/chieriwebtv/  (il video diretta partirà all’ora di inizio dell’evento). \n 
URL:https://www.ciochevale.it/evento/laboratorio-per-bambini-giochiamo-con-lo-yoga/
CATEGORIES:Divertiamoci,Palinsesto
ATTACH;FMTTYPE=image/jpeg:https://www.ciochevale.it/wp-content/uploads/2020/05/DIVERTIAMOCI.jpg
ORGANIZER;CN="Associazione CioCheVale":MAILTO:associazione.ciochevale@gmail.com
END:VEVENT
BEGIN:VEVENT
DTSTART;TZID=Europe/Paris:20200604T190000
DTEND;TZID=Europe/Paris:20200604T200000
DTSTAMP:20260423T001353
CREATED:20200603T112334Z
LAST-MODIFIED:20240115T201706Z
UID:2424-1591297200-1591300800@www.ciochevale.it
SUMMARY:Cibo\, Comunità\, Salute: Cibo locale\, sostegno per territorio e comunità
DESCRIPTION:Cibo\, Comunità\, Salute: Cibo locale\, sostegno per territorio e comunità \nAlessandra Savina\, Roberta Lo Muscio\, prof. Luigi Bistagnino – SYDERE Center (Systemic Design Research and Education)\, Federico Chiais\n \nQuesto evento è una diretta partecipata\, cliccando su Partecipa su Zoom! si accetta la liberatoria. \nOppure\, seguila dalla nostra pagina facebook  https://www.facebook.com/chieriwebtv/  (il video diretta partirà all’ora di inizio dell’evento).
URL:https://www.ciochevale.it/evento/cibo-comunita-salute-cibo-locale-sostegno-per-territorio-e-comunita/
CATEGORIES:Conosciamo,Palinsesto
ATTACH;FMTTYPE=image/jpeg:https://www.ciochevale.it/wp-content/uploads/2020/05/CONOSCIAMO.jpg
ORGANIZER;CN="Associazione CioCheVale":MAILTO:associazione.ciochevale@gmail.com
END:VEVENT
BEGIN:VEVENT
DTSTART;TZID=Europe/Paris:20200604T214500
DTEND;TZID=Europe/Paris:20200604T220000
DTSTAMP:20260423T001353
CREATED:20200531T073054Z
LAST-MODIFIED:20240115T201700Z
UID:2388-1591307100-1591308000@www.ciochevale.it
SUMMARY:Leggi che ti passa: L'ostacolo
DESCRIPTION:Leggi che ti passa: L’0stacolo \nMassimo Tallone \nSeguila dal video sottostante o sul nostro canale Youtube: il video partirà come première all’ora di inizio dell’evento (ma sarà possibile rivederlo se non doveste collegarvi in tempo).
URL:https://www.ciochevale.it/evento/leggi-che-ti-passa-lostacolo/
CATEGORIES:Conosciamo,Palinsesto
ATTACH;FMTTYPE=image/jpeg:https://www.ciochevale.it/wp-content/uploads/2020/05/CONOSCIAMO.jpg
ORGANIZER;CN="Associazione CioCheVale":MAILTO:associazione.ciochevale@gmail.com
END:VEVENT
BEGIN:VEVENT
DTSTART;TZID=Europe/Paris:20200604T220000
DTEND;TZID=Europe/Paris:20200604T230000
DTSTAMP:20260423T001353
CREATED:20200603T115118Z
LAST-MODIFIED:20240115T201653Z
UID:2429-1591308000-1591311600@www.ciochevale.it
SUMMARY:Dove accadono le cose. Storia culturale della città dalle origini all'età moderna (seconda parte)
DESCRIPTION:Accademia del Dialogo: Dove accadono le cose (2) \nGiorgio Scialla\n \nQuesto evento è una diretta partecipata\, cliccando su Partecipa su Zoom! si accetta la liberatoria. \nOppure\, seguila dalla nostra pagina facebook  https://www.facebook.com/chieriwebtv/  (la diretta video partirà all’ora di inizio dell’evento).
URL:https://www.ciochevale.it/evento/dove-accadono-le-cose-storia-culturale-della-citta-dalle-origini-alleta-moderna-seconda-parte/
CATEGORIES:Conosciamo,Palinsesto
ATTACH;FMTTYPE=image/jpeg:https://www.ciochevale.it/wp-content/uploads/2020/05/CONOSCIAMO.jpg
ORGANIZER;CN="Associazione CioCheVale":MAILTO:associazione.ciochevale@gmail.com
END:VEVENT
END:VCALENDAR