BEGIN:VCALENDAR
VERSION:2.0
PRODID:-//CioCheVale APS - ECPv6.15.20//NONSGML v1.0//EN
CALSCALE:GREGORIAN
METHOD:PUBLISH
X-WR-CALNAME:CioCheVale APS
X-ORIGINAL-URL:https://www.ciochevale.it
X-WR-CALDESC:Eventi per CioCheVale APS
REFRESH-INTERVAL;VALUE=DURATION:PT1H
X-Robots-Tag:noindex
X-PUBLISHED-TTL:PT1H
BEGIN:VTIMEZONE
TZID:Europe/Paris
BEGIN:DAYLIGHT
TZOFFSETFROM:+0100
TZOFFSETTO:+0200
TZNAME:CEST
DTSTART:20190331T010000
END:DAYLIGHT
BEGIN:STANDARD
TZOFFSETFROM:+0200
TZOFFSETTO:+0100
TZNAME:CET
DTSTART:20191027T010000
END:STANDARD
BEGIN:DAYLIGHT
TZOFFSETFROM:+0100
TZOFFSETTO:+0200
TZNAME:CEST
DTSTART:20200329T010000
END:DAYLIGHT
BEGIN:STANDARD
TZOFFSETFROM:+0200
TZOFFSETTO:+0100
TZNAME:CET
DTSTART:20201025T010000
END:STANDARD
BEGIN:DAYLIGHT
TZOFFSETFROM:+0100
TZOFFSETTO:+0200
TZNAME:CEST
DTSTART:20210328T010000
END:DAYLIGHT
BEGIN:STANDARD
TZOFFSETFROM:+0200
TZOFFSETTO:+0100
TZNAME:CET
DTSTART:20211031T010000
END:STANDARD
END:VTIMEZONE
BEGIN:VEVENT
DTSTART;TZID=Europe/Paris:20200530T110000
DTEND;TZID=Europe/Paris:20200530T113000
DTSTAMP:20260423T011655
CREATED:20200527T134819Z
LAST-MODIFIED:20240115T201303Z
UID:2359-1590836400-1590838200@www.ciochevale.it
SUMMARY:CioCheVale...pausa caffè: Laboratorio per costruire lampade Natura Luce
DESCRIPTION:CioCheVale…pausa caffè: Laboratorio per costruire lampade Natura Luce\nMarco Piovano \nQuesto evento è una diretta partecipata\, cliccando sul seguente link\, si accetta la liberatoria: Partecipa su Zoom!  \nOppure\, seguila sul nostro canale Youtube (il video diretta partirà all’ora di inizio dell’evento).
URL:https://www.ciochevale.it/evento/2359/
CATEGORIES:Creiamo insieme,Palinsesto
ATTACH;FMTTYPE=image/jpeg:https://www.ciochevale.it/wp-content/uploads/2020/05/Creiamo-insieme.jpg
ORGANIZER;CN="Associazione CioCheVale":MAILTO:associazione.ciochevale@gmail.com
END:VEVENT
BEGIN:VEVENT
DTSTART;TZID=Europe/Paris:20200530T183000
DTEND;TZID=Europe/Paris:20200530T190000
DTSTAMP:20260423T011655
CREATED:20200527T140250Z
LAST-MODIFIED:20240115T201256Z
UID:2361-1590863400-1590865200@www.ciochevale.it
SUMMARY:Yoga insieme: Paura e ansia\, come contrastarle con il respiro
DESCRIPTION:Yoga insieme: Paura e ansia\, come contrastarle con il respiro\nMonica Fagottin  \nQuesto evento è una diretta partecipata\, cliccando sul seguente link\, si accetta la liberatoria: Partecipa su Zoom!  \nOppure\, seguila dalla nostra pagina facebook  https://www.facebook.com/chieriwebtv/  (il video in diretta partirà all’ora di inizio dell’evento).
URL:https://www.ciochevale.it/evento/yoga-insieme-paura-e-ansia-come-contrastarle-con-il-respiro/
CATEGORIES:Palinsesto,Teniamoci in forma
ATTACH;FMTTYPE=image/jpeg:https://www.ciochevale.it/wp-content/uploads/2020/05/teniamoci-in-forma.jpg
ORGANIZER;CN="Associazione CioCheVale":MAILTO:associazione.ciochevale@gmail.com
END:VEVENT
BEGIN:VEVENT
DTSTART;TZID=Europe/Paris:20200530T190000
DTEND;TZID=Europe/Paris:20200530T194500
DTSTAMP:20260423T011655
CREATED:20200527T141741Z
LAST-MODIFIED:20240115T201247Z
UID:2363-1590865200-1590867900@www.ciochevale.it
SUMMARY:Le pagine del Picchioverde: Ritorno al Futuro
DESCRIPTION:Le pagine del Picchioverde: Ritorno al Futuro \ncon i ragazzi di Friday for Future Chieri \nQuesto evento è una diretta partecipata\, cliccando sul seguente link\, si accetta la liberatoria: Partecipa su Zoom! \nSi ricorda che i genitori dei minori che vorranno partecipare\, dovranno aver fatto pervenire in anticipo\, per scritto e firmata la liberatoria inviandola a chieriwebtv.ciochevale@gmail.com  \nOppure\, seguila dalla nostra pagina facebook  https://www.facebook.com/chieriwebtv/  (il video in diretta partirà all’ora di inizio dell’evento).
URL:https://www.ciochevale.it/evento/le-pagine-del-picchioverde-ritorno-al-futuro/
CATEGORIES:Conosciamo,Palinsesto
ATTACH;FMTTYPE=image/jpeg:https://www.ciochevale.it/wp-content/uploads/2020/05/CONOSCIAMO.jpg
ORGANIZER;CN="Associazione CioCheVale":MAILTO:associazione.ciochevale@gmail.com
END:VEVENT
BEGIN:VEVENT
DTSTART;TZID=Europe/Paris:20200530T213000
DTEND;TZID=Europe/Paris:20200530T214500
DTSTAMP:20260423T011655
CREATED:20200525T213225Z
LAST-MODIFIED:20240115T201241Z
UID:2313-1590874200-1590875100@www.ciochevale.it
SUMMARY:La parola a ... Paola Chiesa progetto Baldi Giovani
DESCRIPTION:La parola a … Paola Chiesa progetto Baldi Giovani \nVice Sindaco di Baldissero Torinese \nSeguila dal video sottostante o sul nostro canale Youtube: il video partirà come première all’ora di inizio dell’evento (ma sarà possibile rivederlo se non doveste collegarvi in tempo).
URL:https://www.ciochevale.it/evento/la-parola-a-paola-chiesa-progetto-baldi-giovani/
CATEGORIES:Informiamoci,Palinsesto
ATTACH;FMTTYPE=image/jpeg:https://www.ciochevale.it/wp-content/uploads/2020/05/INFORMIAMOCI.jpg
ORGANIZER;CN="Associazione CioCheVale":MAILTO:associazione.ciochevale@gmail.com
END:VEVENT
BEGIN:VEVENT
DTSTART;TZID=Europe/Paris:20200530T214500
DTEND;TZID=Europe/Paris:20200530T223000
DTSTAMP:20260423T011655
CREATED:20200527T143154Z
LAST-MODIFIED:20240115T201234Z
UID:2365-1590875100-1590877800@www.ciochevale.it
SUMMARY:Accademia del Dialogo-Storie ed emozioni: Da 160 cm uno sguardo sul mondo
DESCRIPTION:Accademia del Dialogo- Storie ed emozioni: Da 160 cm uno sguardo sul mondo \nFabio Wolf intervistato da Valentina Veratrini \nQuesto evento è una diretta partecipata\, cliccando su Partecipa su Zoom! si accetta la liberatoria. \nOppure\, seguila dalla nostra pagina facebook  https://www.facebook.com/chieriwebtv/  (il video in diretta partirà all’ora di inizio dell’evento).
URL:https://www.ciochevale.it/evento/accademia-del-dialogo-storie-ed-emozioni-da-160-cm-uno-sguardo-sul-mondo/
CATEGORIES:Conosciamo,Palinsesto
ATTACH;FMTTYPE=image/jpeg:https://www.ciochevale.it/wp-content/uploads/2020/05/CONOSCIAMO.jpg
ORGANIZER;CN="Associazione CioCheVale":MAILTO:associazione.ciochevale@gmail.com
END:VEVENT
BEGIN:VEVENT
DTSTART;TZID=Europe/Paris:20200530T223000
DTEND;TZID=Europe/Paris:20200530T230000
DTSTAMP:20260423T011655
CREATED:20200527T104021Z
LAST-MODIFIED:20240115T201227Z
UID:2345-1590877800-1590879600@www.ciochevale.it
SUMMARY:Nonna Nico e le Fiabe del Mulino: Camillo Precisini e Pippi la Tortora
DESCRIPTION:Nonna Nico e le Fiabe del Mulino: Camillo Precisini e Pippi la Tortora \nClaudia Nicolino \nSeguila dal video sottostante o sul nostro canale Youtube: il video partirà come première all’ora di inizio dell’evento (ma sarà possibile rivederlo se non doveste collegarvi in tempo).
URL:https://www.ciochevale.it/evento/nonna-nico-e-le-fiabe-del-mulino-camillo-precisini-e-pippi-la-tortora/
CATEGORIES:Divertiamoci,Palinsesto
ATTACH;FMTTYPE=image/jpeg:https://www.ciochevale.it/wp-content/uploads/2020/05/DIVERTIAMOCI.jpg
ORGANIZER;CN="Associazione CioCheVale":MAILTO:associazione.ciochevale@gmail.com
END:VEVENT
END:VCALENDAR