BEGIN:VCALENDAR
VERSION:2.0
PRODID:-//CioCheVale APS - ECPv6.15.20//NONSGML v1.0//EN
CALSCALE:GREGORIAN
METHOD:PUBLISH
X-WR-CALNAME:CioCheVale APS
X-ORIGINAL-URL:https://www.ciochevale.it
X-WR-CALDESC:Eventi per CioCheVale APS
REFRESH-INTERVAL;VALUE=DURATION:PT1H
X-Robots-Tag:noindex
X-PUBLISHED-TTL:PT1H
BEGIN:VTIMEZONE
TZID:Europe/Paris
BEGIN:DAYLIGHT
TZOFFSETFROM:+0100
TZOFFSETTO:+0200
TZNAME:CEST
DTSTART:20190331T010000
END:DAYLIGHT
BEGIN:STANDARD
TZOFFSETFROM:+0200
TZOFFSETTO:+0100
TZNAME:CET
DTSTART:20191027T010000
END:STANDARD
BEGIN:DAYLIGHT
TZOFFSETFROM:+0100
TZOFFSETTO:+0200
TZNAME:CEST
DTSTART:20200329T010000
END:DAYLIGHT
BEGIN:STANDARD
TZOFFSETFROM:+0200
TZOFFSETTO:+0100
TZNAME:CET
DTSTART:20201025T010000
END:STANDARD
BEGIN:DAYLIGHT
TZOFFSETFROM:+0100
TZOFFSETTO:+0200
TZNAME:CEST
DTSTART:20210328T010000
END:DAYLIGHT
BEGIN:STANDARD
TZOFFSETFROM:+0200
TZOFFSETTO:+0100
TZNAME:CET
DTSTART:20211031T010000
END:STANDARD
END:VTIMEZONE
BEGIN:VEVENT
DTSTART;TZID=Europe/Paris:20200526T110000
DTEND;TZID=Europe/Paris:20200526T113000
DTSTAMP:20260423T011654
CREATED:20200525T121914Z
LAST-MODIFIED:20240115T195857Z
UID:2292-1590490800-1590492600@www.ciochevale.it
SUMMARY:Replica-Incontriamoci in un racconto: Nuove metafore
DESCRIPTION:
URL:https://www.ciochevale.it/evento/replica-incontriamoci-in-un-racconto-nuove-metafore/
CATEGORIES:Palinsesto,Teniamoci in forma
ATTACH;FMTTYPE=image/jpeg:https://www.ciochevale.it/wp-content/uploads/2020/05/teniamoci-in-forma.jpg
ORGANIZER;CN="Associazione CioCheVale":MAILTO:associazione.ciochevale@gmail.com
END:VEVENT
BEGIN:VEVENT
DTSTART;TZID=Europe/Paris:20200526T122000
DTEND;TZID=Europe/Paris:20200526T132000
DTSTAMP:20260423T011654
CREATED:20200525T143931Z
LAST-MODIFIED:20240115T195823Z
UID:2298-1590495600-1590499200@www.ciochevale.it
SUMMARY:Replica-Cibo\, Comunità\, Salute: La dieta della sedentarietà
DESCRIPTION:
URL:https://www.ciochevale.it/evento/replica-cibo-comunita-salute-la-dieta-della-sedentarieta/
CATEGORIES:Conosciamo,Palinsesto
ATTACH;FMTTYPE=image/jpeg:https://www.ciochevale.it/wp-content/uploads/2020/05/CONOSCIAMO.jpg
ORGANIZER;CN="Associazione CioCheVale":MAILTO:associazione.ciochevale@gmail.com
END:VEVENT
BEGIN:VEVENT
DTSTART;TZID=Europe/Paris:20200526T214500
DTEND;TZID=Europe/Paris:20200526T220000
DTSTAMP:20260423T011654
CREATED:20200525T202402Z
LAST-MODIFIED:20240115T195725Z
UID:2307-1590529500-1590530400@www.ciochevale.it
SUMMARY:Da Italia Che Cambia: Vazapp\,l’hub che insegna ai contadini a coltivare relazioni!
DESCRIPTION:
URL:https://www.ciochevale.it/evento/2307/
CATEGORIES:Palinsesto,Servizi per la comunità
ATTACH;FMTTYPE=image/jpeg:https://www.ciochevale.it/wp-content/uploads/2020/05/SERVIZI.jpg
ORGANIZER;CN="Associazione CioCheVale":MAILTO:associazione.ciochevale@gmail.com
END:VEVENT
BEGIN:VEVENT
DTSTART;TZID=Europe/Paris:20200526T220000
DTEND;TZID=Europe/Paris:20200526T224500
DTSTAMP:20260423T011654
CREATED:20200525T200601Z
LAST-MODIFIED:20240115T195631Z
UID:2305-1590530400-1590533100@www.ciochevale.it
SUMMARY:Replica-Le pagine del Picchioverde: Paesaggio sonoro\, l'altra campana
DESCRIPTION:
URL:https://www.ciochevale.it/evento/replica-le-pagine-del-picchioverde-paesaggio-sonoro-laltra-campana/
CATEGORIES:Conosciamo,Palinsesto
ATTACH;FMTTYPE=image/jpeg:https://www.ciochevale.it/wp-content/uploads/2020/05/CONOSCIAMO.jpg
ORGANIZER;CN="Associazione CioCheVale":MAILTO:associazione.ciochevale@gmail.com
END:VEVENT
END:VCALENDAR