BEGIN:VCALENDAR
VERSION:2.0
PRODID:-//CioCheVale APS - ECPv6.15.20//NONSGML v1.0//EN
CALSCALE:GREGORIAN
METHOD:PUBLISH
X-WR-CALNAME:CioCheVale APS
X-ORIGINAL-URL:https://www.ciochevale.it
X-WR-CALDESC:Eventi per CioCheVale APS
REFRESH-INTERVAL;VALUE=DURATION:PT1H
X-Robots-Tag:noindex
X-PUBLISHED-TTL:PT1H
BEGIN:VTIMEZONE
TZID:Europe/Paris
BEGIN:DAYLIGHT
TZOFFSETFROM:+0100
TZOFFSETTO:+0200
TZNAME:CEST
DTSTART:20190331T010000
END:DAYLIGHT
BEGIN:STANDARD
TZOFFSETFROM:+0200
TZOFFSETTO:+0100
TZNAME:CET
DTSTART:20191027T010000
END:STANDARD
BEGIN:DAYLIGHT
TZOFFSETFROM:+0100
TZOFFSETTO:+0200
TZNAME:CEST
DTSTART:20200329T010000
END:DAYLIGHT
BEGIN:STANDARD
TZOFFSETFROM:+0200
TZOFFSETTO:+0100
TZNAME:CET
DTSTART:20201025T010000
END:STANDARD
BEGIN:DAYLIGHT
TZOFFSETFROM:+0100
TZOFFSETTO:+0200
TZNAME:CEST
DTSTART:20210328T010000
END:DAYLIGHT
BEGIN:STANDARD
TZOFFSETFROM:+0200
TZOFFSETTO:+0100
TZNAME:CET
DTSTART:20211031T010000
END:STANDARD
END:VTIMEZONE
BEGIN:VEVENT
DTSTART;TZID=Europe/Paris:20200523T110000
DTEND;TZID=Europe/Paris:20200523T113000
DTSTAMP:20260423T011654
CREATED:20200521T054603Z
LAST-MODIFIED:20240115T200219Z
UID:2244-1590231600-1590233400@www.ciochevale.it
SUMMARY:CioCheVale...pausa caffè: Laboratorio di saponi naturali
DESCRIPTION:
URL:https://www.ciochevale.it/evento/ciochevale-pausa-caffe-laboratorio-di-saponi-naturali/
CATEGORIES:Creiamo insieme,Palinsesto
ATTACH;FMTTYPE=image/jpeg:https://www.ciochevale.it/wp-content/uploads/2020/05/Creiamo-insieme.jpg
ORGANIZER;CN="Associazione CioCheVale":MAILTO:associazione.ciochevale@gmail.com
END:VEVENT
BEGIN:VEVENT
DTSTART;TZID=Europe/Paris:20200523T183000
DTEND;TZID=Europe/Paris:20200523T190000
DTSTAMP:20260423T011654
CREATED:20200521T060348Z
LAST-MODIFIED:20240115T200149Z
UID:2250-1590258600-1590260400@www.ciochevale.it
SUMMARY:Yoga Insieme: L'importanza del Respiro
DESCRIPTION:
URL:https://www.ciochevale.it/evento/yoga-insieme-limportanza-del-respiro/
CATEGORIES:Palinsesto,Teniamoci in forma
ATTACH;FMTTYPE=image/jpeg:https://www.ciochevale.it/wp-content/uploads/2020/05/teniamoci-in-forma.jpg
ORGANIZER;CN="Associazione CioCheVale":MAILTO:associazione.ciochevale@gmail.com
END:VEVENT
BEGIN:VEVENT
DTSTART;TZID=Europe/Paris:20200523T190000
DTEND;TZID=Europe/Paris:20200523T194500
DTSTAMP:20260423T011654
CREATED:20200522T050007Z
LAST-MODIFIED:20240115T200109Z
UID:2259-1590260400-1590263100@www.ciochevale.it
SUMMARY:Le pagine del Picchioverde: Paesaggio sonoro\, l'altra campana
DESCRIPTION:
URL:https://www.ciochevale.it/evento/le-pagine-del-picchioverde-paesaggio-sonoro-laltra-campana/
CATEGORIES:Conosciamo,Palinsesto
ATTACH;FMTTYPE=image/jpeg:https://www.ciochevale.it/wp-content/uploads/2020/05/CONOSCIAMO.jpg
ORGANIZER;CN="Associazione CioCheVale":MAILTO:associazione.ciochevale@gmail.com
END:VEVENT
BEGIN:VEVENT
DTSTART;TZID=Europe/Paris:20200523T214500
DTEND;TZID=Europe/Paris:20200523T215500
DTSTAMP:20260423T011654
CREATED:20200522T103231Z
LAST-MODIFIED:20240115T200038Z
UID:2262-1590270300-1590270900@www.ciochevale.it
SUMMARY:La parola a... Alessandro Sicchiero
DESCRIPTION:
URL:https://www.ciochevale.it/evento/la-parola-a-alessandro-sicchiero/
CATEGORIES:Informiamoci,Palinsesto
ATTACH;FMTTYPE=image/jpeg:https://www.ciochevale.it/wp-content/uploads/2020/05/INFORMIAMOCI.jpg
ORGANIZER;CN="Associazione CioCheVale":MAILTO:associazione.ciochevale@gmail.com
END:VEVENT
BEGIN:VEVENT
DTSTART;TZID=Europe/Paris:20200523T220000
DTEND;TZID=Europe/Paris:20200523T223000
DTSTAMP:20260423T011654
CREATED:20200521T142730Z
LAST-MODIFIED:20240115T200000Z
UID:2253-1590271200-1590273000@www.ciochevale.it
SUMMARY:Versi\, emozioni\, note: La gioia della precarietà
DESCRIPTION:
URL:https://www.ciochevale.it/evento/versi-emozioni-note-la-gioia-della-precarieta/
CATEGORIES:Conosciamo,Palinsesto
ATTACH;FMTTYPE=image/jpeg:https://www.ciochevale.it/wp-content/uploads/2020/05/CONOSCIAMO.jpg
ORGANIZER;CN="Associazione CioCheVale":MAILTO:associazione.ciochevale@gmail.com
END:VEVENT
BEGIN:VEVENT
DTSTART;TZID=Europe/Paris:20200523T223000
DTEND;TZID=Europe/Paris:20200523T230000
DTSTAMP:20260423T011654
CREATED:20200522T122640Z
LAST-MODIFIED:20240115T195930Z
UID:2264-1590273000-1590274800@www.ciochevale.it
SUMMARY:Nonna Nico e le Fiabe del Mulino: La storia del Mulino
DESCRIPTION:
URL:https://www.ciochevale.it/evento/nonna-nico-e-le-fiabe-del-mulino-la-storia-del-mulino/
CATEGORIES:Divertiamoci,Palinsesto
ATTACH;FMTTYPE=image/jpeg:https://www.ciochevale.it/wp-content/uploads/2020/05/DIVERTIAMOCI.jpg
ORGANIZER;CN="Associazione CioCheVale":MAILTO:associazione.ciochevale@gmail.com
END:VEVENT
END:VCALENDAR