BEGIN:VCALENDAR
VERSION:2.0
PRODID:-//CioCheVale APS - ECPv6.15.20//NONSGML v1.0//EN
CALSCALE:GREGORIAN
METHOD:PUBLISH
X-WR-CALNAME:CioCheVale APS
X-ORIGINAL-URL:https://www.ciochevale.it
X-WR-CALDESC:Eventi per CioCheVale APS
REFRESH-INTERVAL;VALUE=DURATION:PT1H
X-Robots-Tag:noindex
X-PUBLISHED-TTL:PT1H
BEGIN:VTIMEZONE
TZID:Europe/Paris
BEGIN:DAYLIGHT
TZOFFSETFROM:+0100
TZOFFSETTO:+0200
TZNAME:CEST
DTSTART:20190331T010000
END:DAYLIGHT
BEGIN:STANDARD
TZOFFSETFROM:+0200
TZOFFSETTO:+0100
TZNAME:CET
DTSTART:20191027T010000
END:STANDARD
BEGIN:DAYLIGHT
TZOFFSETFROM:+0100
TZOFFSETTO:+0200
TZNAME:CEST
DTSTART:20200329T010000
END:DAYLIGHT
BEGIN:STANDARD
TZOFFSETFROM:+0200
TZOFFSETTO:+0100
TZNAME:CET
DTSTART:20201025T010000
END:STANDARD
BEGIN:DAYLIGHT
TZOFFSETFROM:+0100
TZOFFSETTO:+0200
TZNAME:CEST
DTSTART:20210328T010000
END:DAYLIGHT
BEGIN:STANDARD
TZOFFSETFROM:+0200
TZOFFSETTO:+0100
TZNAME:CET
DTSTART:20211031T010000
END:STANDARD
END:VTIMEZONE
BEGIN:VEVENT
DTSTART;TZID=Europe/Paris:20200521T110000
DTEND;TZID=Europe/Paris:20200521T113000
DTSTAMP:20260423T011655
CREATED:20200519T083626Z
LAST-MODIFIED:20240115T200530Z
UID:2114-1590058800-1590060600@www.ciochevale.it
SUMMARY:Incontriamoci in un racconto: Nuove metafore
DESCRIPTION:
URL:https://www.ciochevale.it/evento/incontriamoci-in-un-racconto-nuove-metafore/
CATEGORIES:Palinsesto,Teniamoci in forma
ATTACH;FMTTYPE=image/jpeg:https://www.ciochevale.it/wp-content/uploads/2020/05/teniamoci-in-forma.jpg
END:VEVENT
BEGIN:VEVENT
DTSTART;TZID=Europe/Paris:20200521T113000
DTEND;TZID=Europe/Paris:20200521T122000
DTSTAMP:20260423T011655
CREATED:20200519T085512Z
LAST-MODIFIED:20240115T200451Z
UID:2121-1590060600-1590063600@www.ciochevale.it
SUMMARY:Sport lento: Ginnastica dolce
DESCRIPTION:
URL:https://www.ciochevale.it/evento/sport-lento-ginnastica-dolce/
CATEGORIES:Palinsesto,Teniamoci in forma
ATTACH;FMTTYPE=image/jpeg:https://www.ciochevale.it/wp-content/uploads/2020/05/teniamoci-in-forma.jpg
END:VEVENT
BEGIN:VEVENT
DTSTART;TZID=Europe/Paris:20200521T122000
DTEND;TZID=Europe/Paris:20200521T125000
DTSTAMP:20260423T011655
CREATED:20200520T064319Z
LAST-MODIFIED:20200520T080730Z
UID:2228-1590063600-1590065400@www.ciochevale.it
SUMMARY:Laboratorio per bambini CocoArte
DESCRIPTION:Laboratorio per bambini CocoArte \nIrene Berton e Veronica Pont \nQuesto evento è una diretta partecipata\, cliccando su Partecipa su Zoom! si accetta la liberatoria. \nOppure\, seguila sul nostro canale Youtube (il video diretta partirà all’ora di inizio dell’evento).
URL:https://www.ciochevale.it/evento/laboratorio-per-bambini-cocoarte/
CATEGORIES:Divertiamoci,Palinsesto
ATTACH;FMTTYPE=image/jpeg:https://www.ciochevale.it/wp-content/uploads/2020/05/DIVERTIAMOCI.jpg
ORGANIZER;CN="Associazione CioCheVale":MAILTO:associazione.ciochevale@gmail.com
END:VEVENT
BEGIN:VEVENT
DTSTART;TZID=Europe/Paris:20200521T190000
DTEND;TZID=Europe/Paris:20200521T200000
DTSTAMP:20260423T011655
CREATED:20200520T064918Z
LAST-MODIFIED:20240115T200414Z
UID:2230-1590087600-1590091200@www.ciochevale.it
SUMMARY:Cibo\, Comunità\, Salute: La dieta della sedentarietà
DESCRIPTION:
URL:https://www.ciochevale.it/evento/cibo-comunita-salute-la-dieta-della-sedentarieta/
CATEGORIES:Conosciamo,Palinsesto
ATTACH;FMTTYPE=image/jpeg:https://www.ciochevale.it/wp-content/uploads/2020/05/CONOSCIAMO.jpg
ORGANIZER;CN="Associazione CioCheVale":MAILTO:associazione.ciochevale@gmail.com
END:VEVENT
BEGIN:VEVENT
DTSTART;TZID=Europe/Paris:20200521T214500
DTEND;TZID=Europe/Paris:20200521T220000
DTSTAMP:20260423T011655
CREATED:20200520T074851Z
LAST-MODIFIED:20240115T200331Z
UID:2232-1590097500-1590098400@www.ciochevale.it
SUMMARY:Leggi che ti passa: Pillole di libri
DESCRIPTION:
URL:https://www.ciochevale.it/evento/leggi-che-ti-passa-pillole-di-libri/
CATEGORIES:Conosciamo,Palinsesto
ATTACH;FMTTYPE=image/jpeg:https://www.ciochevale.it/wp-content/uploads/2020/05/CONOSCIAMO.jpg
ORGANIZER;CN="Associazione CioCheVale":MAILTO:associazione.ciochevale@gmail.com
END:VEVENT
BEGIN:VEVENT
DTSTART;TZID=Europe/Paris:20200521T220000
DTEND;TZID=Europe/Paris:20200521T230000
DTSTAMP:20260423T011655
CREATED:20200520T075525Z
LAST-MODIFIED:20240115T200248Z
UID:2234-1590098400-1590102000@www.ciochevale.it
SUMMARY:Accademia del Dialogo: Il poeta finito in soffitta
DESCRIPTION:
URL:https://www.ciochevale.it/evento/accademia-del-dialogo-il-poeta-finito-in-soffitta/
CATEGORIES:Conosciamo,Palinsesto
ATTACH;FMTTYPE=image/jpeg:https://www.ciochevale.it/wp-content/uploads/2020/05/CONOSCIAMO.jpg
ORGANIZER;CN="Associazione CioCheVale":MAILTO:associazione.ciochevale@gmail.com
END:VEVENT
END:VCALENDAR